Workbook

Sheet Quarterly
A1: Quarterly work permit holders by country
A2: Quarter totals; countries are ranked by reported 2018 annual total, highest to lowest.
A4: Country | B4: 2015 Q1 | C4: 2015 Q2 | D4: 2015 Q3 | E4: 2015 Q4 | F4: 2016 Q1 | G4: 2016 Q2 | H4: 2016 Q3 | I4: 2016 Q4 | J4: 2017 Q1 | K4: 2017 Q2 | L4: 2017 Q3 | M4: 2017 Q4 | N4: 2018 Q1 | O4: 2018 Q2 | P4: 2018 Q3 | Q4: 2018 Q4 | R4: 2019 Q1 | S4: 2019 Q2 | T4: 2019 Q3 | U4: 2019 Q4 | V4: 2020 Q1 | W4: 2020 Q2 | X4: 2020 Q3 | Y4: 2020 Q4 | Z4: 2021 Q1 | AA4: 2021 Q2 | AB4: 2021 Q3 | AC4: 2021 Q4 | AD4: 2022 Q1 | AE4: 2022 Q2 | AF4: 2022 Q3 | AG4: 2022 Q4 | AH4: 2023 Q1 | AI4: 2023 Q2 | AJ4: 2023 Q3 | AK4: 2023 Q4 | AL4: 2024 Q1 | AM4: 2024 Q2 | AN4: 2024 Q3 | AO4: 2024 Q4 | AP4: 2025 Q1 | AQ4: 2025 Q2 | AR4: 2025 Q3 | AS4: 2025 Q4 | AT4: 2026 Q1 | AU4: 2026 Q2 | AV4: 2026 Q3
A5: Canada total | B5: ='Source data'!B4 -> 13815 | C5: ='Source data'!C4 -> 16080 | D5: ='Source data'!D4 -> 21590 | E5: ='Source data'!E4 -> 180485 | F5: ='Source data'!F4 -> 20940 | G5: ='Source data'!G4 -> 21020 | H5: ='Source data'!H4 -> 18745 | I5: ='Source data'!I4 -> 15665 | ... AV5: ='Source data'!AV4 -> 0
A6: India | B6: ='Source data'!B5 -> 1775 | C6: ='Source data'!C5 -> 1270 | D6: ='Source data'!D5 -> 2995 | E6: ='Source data'!E5 -> 21540 | F6: ='Source data'!F5 -> 2660 | G6: ='Source data'!G5 -> 3080 | H6: ='Source data'!H5 -> 3475 | I6: ='Source data'!I5 -> 1925 | ... AV6: ='Source data'!AV5 -> 0
A7: France | B7: ='Source data'!B6 -> 2105 | C7: ='Source data'!C6 -> 1775 | D7: ='Source data'!D6 -> 1605 | E7: ='Source data'!E6 -> 17870 | F7: ='Source data'!F6 -> 2005 | G7: ='Source data'!G6 -> 1905 | H7: ='Source data'!H6 -> 970 | I7: ='Source data'!I6 -> 1760 | ... AV7: ='Source data'!AV6 -> 0
A8: United States of America | B8: ='Source data'!B7 -> 1810 | C8: ='Source data'!C7 -> 2355 | D8: ='Source data'!D7 -> 2395 | E8: ='Source data'!E7 -> 24530 | F8: ='Source data'!F7 -> 3140 | G8: ='Source data'!G7 -> 2935 | H8: ='Source data'!H7 -> 2025 | I8: ='Source data'!I7 -> 2360 | ... AV8: ='Source data'!AV7 -> 0
A9: China, People's Republic of | B9: ='Source data'!B8 -> 890 | C9: ='Source data'!C8 -> 915 | D9: ='Source data'!D8 -> 2030 | E9: ='Source data'!E8 -> 15565 | F9: ='Source data'!F8 -> 1800 | G9: ='Source data'!G8 -> 1870 | H9: ='Source data'!H8 -> 1790 | I9: ='Source data'!I8 -> 1125 | ... AV9: ='Source data'!AV8 -> 0
A10: United Kingdom and Overseas Territories | B10: ='Source data'!B9 -> 580 | C10: ='Source data'!C9 -> 835 | D10: ='Source data'!D9 -> 1105 | E10: ='Source data'!E9 -> 8690 | F10: ='Source data'!F9 -> 1000 | G10: ='Source data'!G9 -> 845 | H10: ='Source data'!H9 -> 1090 | I10: ='Source data'!I9 -> 845 | ... AV10: ='Source data'!AV9 -> 0
A11: Brazil | B11: ='Source data'!B10 -> 200 | C11: ='Source data'!C10 -> 205 | D11: ='Source data'!D10 -> 275 | E11: ='Source data'!E10 -> 2740 | F11: ='Source data'!F10 -> 305 | G11: ='Source data'!G10 -> 650 | H11: ='Source data'!H10 -> 380 | I11: ='Source data'!I10 -> 365 | ... AV11: ='Source data'!AV10 -> 0
A12: Korea, Republic of | B12: ='Source data'!B11 -> 480 | C12: ='Source data'!C11 -> 740 | D12: ='Source data'!D11 -> 940 | E12: ='Source data'!E11 -> 7715 | F12: ='Source data'!F11 -> 590 | G12: ='Source data'!G11 -> 830 | H12: ='Source data'!H11 -> 700 | I12: ='Source data'!I11 -> 580 | ... AV12: ='Source data'!AV11 -> 0
A13: Japan | B13: ='Source data'!B12 -> 455 | C13: ='Source data'!C12 -> 945 | D13: ='Source data'!D12 -> 925 | E13: ='Source data'!E12 -> 6775 | F13: ='Source data'!F12 -> 715 | G13: ='Source data'!G12 -> 580 | H13: ='Source data'!H12 -> 455 | I13: ='Source data'!I12 -> 395 | ... AV13: ='Source data'!AV12 -> 0
A14: Philippines | B14: ='Source data'!B13 -> 1005 | C14: ='Source data'!C13 -> 955 | D14: ='Source data'!D13 -> 1270 | E14: ='Source data'!E13 -> 11550 | F14: ='Source data'!F13 -> 935 | G14: ='Source data'!G13 -> 790 | H14: ='Source data'!H13 -> 745 | I14: ='Source data'!I13 -> 780 | ... AV14: ='Source data'!AV13 -> 0
A15: Australia | B15: ='Source data'!B14 -> 580 | C15: ='Source data'!C14 -> 750 | D15: ='Source data'!D14 -> 1570 | E15: ='Source data'!E14 -> 9420 | F15: ='Source data'!F14 -> 905 | G15: ='Source data'!G14 -> 735 | H15: ='Source data'!H14 -> 1840 | I15: ='Source data'!I14 -> 825 | ... AV15: ='Source data'!AV14 -> 0
A16: Germany | B16: ='Source data'!B15 -> 315 | C16: ='Source data'!C15 -> 960 | D16: ='Source data'!D15 -> 625 | E16: ='Source data'!E15 -> 5540 | F16: ='Source data'!F15 -> 535 | G16: ='Source data'!G15 -> 975 | H16: ='Source data'!H15 -> 415 | I16: ='Source data'!I15 -> 465 | ... AV16: ='Source data'!AV15 -> 0
... A221: Virgin Islands, British | B221: ='Source data'!B220 -> 0 | C221: ='Source data'!C220 -> 0 | D221: ='Source data'!D220 -> 0 | E221: ='Source data'!E220 -> 0 | F221: ='Source data'!F220 -> 0 | G221: ='Source data'!G220 -> 0 | H221: ='Source data'!H220 -> 0 | I221: ='Source data'!I220 -> 0 | ... AV221: ='Source data'!AV220 -> 0

Sheet Top 25
A1: Top 25 countries by 2018 total
A2: Quarter totals; countries are ranked by reported 2018 annual total, highest to lowest.
A4: Country | B4: 2015 Q1 | C4: 2015 Q2 | D4: 2015 Q3 | E4: 2015 Q4 | F4: 2016 Q1 | G4: 2016 Q2 | H4: 2016 Q3 | I4: 2016 Q4 | J4: 2017 Q1 | K4: 2017 Q2 | L4: 2017 Q3 | M4: 2017 Q4 | N4: 2018 Q1 | O4: 2018 Q2 | P4: 2018 Q3 | Q4: 2018 Q4 | R4: 2019 Q1 | S4: 2019 Q2 | T4: 2019 Q3 | U4: 2019 Q4 | V4: 2020 Q1 | W4: 2020 Q2 | X4: 2020 Q3 | Y4: 2020 Q4 | Z4: 2021 Q1 | AA4: 2021 Q2 | AB4: 2021 Q3 | AC4: 2021 Q4 | AD4: 2022 Q1 | AE4: 2022 Q2 | AF4: 2022 Q3 | AG4: 2022 Q4 | AH4: 2023 Q1 | AI4: 2023 Q2 | AJ4: 2023 Q3 | AK4: 2023 Q4 | AL4: 2024 Q1 | AM4: 2024 Q2 | AN4: 2024 Q3 | AO4: 2024 Q4 | AP4: 2025 Q1 | AQ4: 2025 Q2 | AR4: 2025 Q3 | AS4: 2025 Q4 | AT4: 2026 Q1 | AU4: 2026 Q2 | AV4: 2026 Q3
A5: Canada total | B5: ='Source data'!B4 -> 13815 | C5: ='Source data'!C4 -> 16080 | D5: ='Source data'!D4 -> 21590 | E5: ='Source data'!E4 -> 180485 | F5: ='Source data'!F4 -> 20940 | G5: ='Source data'!G4 -> 21020 | H5: ='Source data'!H4 -> 18745 | I5: ='Source data'!I4 -> 15665 | ... AV5: ='Source data'!AV4 -> 0
A6: India | B6: ='Source data'!B5 -> 1775 | C6: ='Source data'!C5 -> 1270 | D6: ='Source data'!D5 -> 2995 | E6: ='Source data'!E5 -> 21540 | F6: ='Source data'!F5 -> 2660 | G6: ='Source data'!G5 -> 3080 | H6: ='Source data'!H5 -> 3475 | I6: ='Source data'!I5 -> 1925 | ... AV6: ='Source data'!AV5 -> 0
A7: France | B7: ='Source data'!B6 -> 2105 | C7: ='Source data'!C6 -> 1775 | D7: ='Source data'!D6 -> 1605 | E7: ='Source data'!E6 -> 17870 | F7: ='Source data'!F6 -> 2005 | G7: ='Source data'!G6 -> 1905 | H7: ='Source data'!H6 -> 970 | I7: ='Source data'!I6 -> 1760 | ... AV7: ='Source data'!AV6 -> 0
A8: United States of America | B8: ='Source data'!B7 -> 1810 | C8: ='Source data'!C7 -> 2355 | D8: ='Source data'!D7 -> 2395 | E8: ='Source data'!E7 -> 24530 | F8: ='Source data'!F7 -> 3140 | G8: ='Source data'!G7 -> 2935 | H8: ='Source data'!H7 -> 2025 | I8: ='Source data'!I7 -> 2360 | ... AV8: ='Source data'!AV7 -> 0
A9: China, People's Republic of | B9: ='Source data'!B8 -> 890 | C9: ='Source data'!C8 -> 915 | D9: ='Source data'!D8 -> 2030 | E9: ='Source data'!E8 -> 15565 | F9: ='Source data'!F8 -> 1800 | G9: ='Source data'!G8 -> 1870 | H9: ='Source data'!H8 -> 1790 | I9: ='Source data'!I8 -> 1125 | ... AV9: ='Source data'!AV8 -> 0
A10: United Kingdom and Overseas Territories | B10: ='Source data'!B9 -> 580 | C10: ='Source data'!C9 -> 835 | D10: ='Source data'!D9 -> 1105 | E10: ='Source data'!E9 -> 8690 | F10: ='Source data'!F9 -> 1000 | G10: ='Source data'!G9 -> 845 | H10: ='Source data'!H9 -> 1090 | I10: ='Source data'!I9 -> 845 | ... AV10: ='Source data'!AV9 -> 0
A11: Brazil | B11: ='Source data'!B10 -> 200 | C11: ='Source data'!C10 -> 205 | D11: ='Source data'!D10 -> 275 | E11: ='Source data'!E10 -> 2740 | F11: ='Source data'!F10 -> 305 | G11: ='Source data'!G10 -> 650 | H11: ='Source data'!H10 -> 380 | I11: ='Source data'!I10 -> 365 | ... AV11: ='Source data'!AV10 -> 0
A12: Korea, Republic of | B12: ='Source data'!B11 -> 480 | C12: ='Source data'!C11 -> 740 | D12: ='Source data'!D11 -> 940 | E12: ='Source data'!E11 -> 7715 | F12: ='Source data'!F11 -> 590 | G12: ='Source data'!G11 -> 830 | H12: ='Source data'!H11 -> 700 | I12: ='Source data'!I11 -> 580 | ... AV12: ='Source data'!AV11 -> 0
A13: Japan | B13: ='Source data'!B12 -> 455 | C13: ='Source data'!C12 -> 945 | D13: ='Source data'!D12 -> 925 | E13: ='Source data'!E12 -> 6775 | F13: ='Source data'!F12 -> 715 | G13: ='Source data'!G12 -> 580 | H13: ='Source data'!H12 -> 455 | I13: ='Source data'!I12 -> 395 | ... AV13: ='Source data'!AV12 -> 0
A14: Philippines | B14: ='Source data'!B13 -> 1005 | C14: ='Source data'!C13 -> 955 | D14: ='Source data'!D13 -> 1270 | E14: ='Source data'!E13 -> 11550 | F14: ='Source data'!F13 -> 935 | G14: ='Source data'!G13 -> 790 | H14: ='Source data'!H13 -> 745 | I14: ='Source data'!I13 -> 780 | ... AV14: ='Source data'!AV13 -> 0
A15: Australia | B15: ='Source data'!B14 -> 580 | C15: ='Source data'!C14 -> 750 | D15: ='Source data'!D14 -> 1570 | E15: ='Source data'!E14 -> 9420 | F15: ='Source data'!F14 -> 905 | G15: ='Source data'!G14 -> 735 | H15: ='Source data'!H14 -> 1840 | I15: ='Source data'!I14 -> 825 | ... AV15: ='Source data'!AV14 -> 0
A16: Germany | B16: ='Source data'!B15 -> 315 | C16: ='Source data'!C15 -> 960 | D16: ='Source data'!D15 -> 625 | E16: ='Source data'!E15 -> 5540 | F16: ='Source data'!F15 -> 535 | G16: ='Source data'!G15 -> 975 | H16: ='Source data'!H15 -> 415 | I16: ='Source data'!I15 -> 465 | ... AV16: ='Source data'!AV15 -> 0
... A30: Czech Republic | B30: ='Source data'!B29 -> 60 | C30: ='Source data'!C29 -> 150 | D30: ='Source data'!D29 -> 170 | E30: ='Source data'!E29 -> 1050 | F30: ='Source data'!F29 -> 150 | G30: ='Source data'!G29 -> 85 | H30: ='Source data'!H29 -> 105 | I30: ='Source data'!I29 -> 70 | ... AV30: ='Source data'!AV29 -> 0

Sheet Quarterly YoY
A1: Top 25 quarterly year-over-year change
A2: Quarter-over-quarter year comparison: same quarter versus one year earlier.
A4: Country | B4: 2016 Q1 | C4: 2016 Q2 | D4: 2016 Q3 | E4: 2016 Q4 | F4: 2017 Q1 | G4: 2017 Q2 | H4: 2017 Q3 | I4: 2017 Q4 | J4: 2018 Q1 | K4: 2018 Q2 | L4: 2018 Q3 | M4: 2018 Q4 | N4: 2019 Q1 | O4: 2019 Q2 | P4: 2019 Q3 | Q4: 2019 Q4 | R4: 2020 Q1 | S4: 2020 Q2 | T4: 2020 Q3 | U4: 2020 Q4 | V4: 2021 Q1 | W4: 2021 Q2 | X4: 2021 Q3 | Y4: 2021 Q4 | Z4: 2022 Q1 | AA4: 2022 Q2 | AB4: 2022 Q3 | AC4: 2022 Q4 | AD4: 2023 Q1 | AE4: 2023 Q2 | AF4: 2023 Q3 | AG4: 2023 Q4 | AH4: 2024 Q1 | AI4: 2024 Q2 | AJ4: 2024 Q3 | AK4: 2024 Q4 | AL4: 2025 Q1 | AM4: 2025 Q2 | AN4: 2025 Q3 | AO4: 2025 Q4 | AP4: 2026 Q1 | AQ4: 2026 Q2 | AR4: 2026 Q3
A5: Canada total | B5: =IF(OR('Source data'!B4="",'Source data'!B4=0,'Source data'!F4=""),"",'Source data'!F4/'Source data'!B4-1) -> 0.51574376 | C5: =IF(OR('Source data'!C4="",'Source data'!C4=0,'Source data'!G4=""),"",'Source data'!G4/'Source data'!C4-1) -> 0.30721393 | D5: =IF(OR('Source data'!D4="",'Source data'!D4=0,'Source data'!H4=""),"",'Source data'!H4/'Source data'!D4-1) -> -0.13177397 | E5: =IF(OR('Source data'!E4="",'Source data'!E4=0,'Source data'!I4=""),"",'Source data'!I4/'Source data'!E4-1) -> -0.91320608 | F5: =IF(OR('Source data'!F4="",'Source data'!F4=0,'Source data'!J4=""),"",'Source data'!J4/'Source data'!F4-1) -> 0.20582617 | G5: =IF(OR('Source data'!G4="",'Source data'!G4=0,'Source data'!K4=""),"",'Source data'!K4/'Source data'!G4-1) -> 0.16627022 | H5: =IF(OR('Source data'!H4="",'Source data'!H4=0,'Source data'!L4=""),"",'Source data'!L4/'Source data'!H4-1) -> -0.13736997 | I5: =IF(OR('Source data'!I4="",'Source data'!I4=0,'Source data'!M4=""),"",'Source data'!M4/'Source data'!I4-1) -> 0.30003192 | ... AR5: =IF(OR('Source data'!AR4="",'Source data'!AR4=0,'Source data'!AV4=""),"",'Source data'!AV4/'Source data'!AR4-1)
A6: India | B6: =IF(OR('Source data'!B5="",'Source data'!B5=0,'Source data'!F5=""),"",'Source data'!F5/'Source data'!B5-1) -> 0.49859155 | C6: =IF(OR('Source data'!C5="",'Source data'!C5=0,'Source data'!G5=""),"",'Source data'!G5/'Source data'!C5-1) -> 1.4251969 | D6: =IF(OR('Source data'!D5="",'Source data'!D5=0,'Source data'!H5=""),"",'Source data'!H5/'Source data'!D5-1) -> 0.16026711 | E6: =IF(OR('Source data'!E5="",'Source data'!E5=0,'Source data'!I5=""),"",'Source data'!I5/'Source data'!E5-1) -> -0.91063138 | F6: =IF(OR('Source data'!F5="",'Source data'!F5=0,'Source data'!J5=""),"",'Source data'!J5/'Source data'!F5-1) -> 0.15601504 | G6: =IF(OR('Source data'!G5="",'Source data'!G5=0,'Source data'!K5=""),"",'Source data'!K5/'Source data'!G5-1) -> 0.50162338 | H6: =IF(OR('Source data'!H5="",'Source data'!H5=0,'Source data'!L5=""),"",'Source data'!L5/'Source data'!H5-1) -> -0.094964029 | I6: =IF(OR('Source data'!I5="",'Source data'!I5=0,'Source data'!M5=""),"",'Source data'!M5/'Source data'!I5-1) -> 1.1090909 | ... AR6: =IF(OR('Source data'!AR5="",'Source data'!AR5=0,'Source data'!AV5=""),"",'Source data'!AV5/'Source data'!AR5-1)
A7: France | B7: =IF(OR('Source data'!B6="",'Source data'!B6=0,'Source data'!F6=""),"",'Source data'!F6/'Source data'!B6-1) -> -0.047505938 | C7: =IF(OR('Source data'!C6="",'Source data'!C6=0,'Source data'!G6=""),"",'Source data'!G6/'Source data'!C6-1) -> 0.073239437 | D7: =IF(OR('Source data'!D6="",'Source data'!D6=0,'Source data'!H6=""),"",'Source data'!H6/'Source data'!D6-1) -> -0.39563863 | E7: =IF(OR('Source data'!E6="",'Source data'!E6=0,'Source data'!I6=""),"",'Source data'!I6/'Source data'!E6-1) -> -0.90151091 | F7: =IF(OR('Source data'!F6="",'Source data'!F6=0,'Source data'!J6=""),"",'Source data'!J6/'Source data'!F6-1) -> 0.39401496 | G7: =IF(OR('Source data'!G6="",'Source data'!G6=0,'Source data'!K6=""),"",'Source data'!K6/'Source data'!G6-1) -> 0.25459318 | H7: =IF(OR('Source data'!H6="",'Source data'!H6=0,'Source data'!L6=""),"",'Source data'!L6/'Source data'!H6-1) -> 0.36597938 | I7: =IF(OR('Source data'!I6="",'Source data'!I6=0,'Source data'!M6=""),"",'Source data'!M6/'Source data'!I6-1) -> 0.21590909 | ... AR7: =IF(OR('Source data'!AR6="",'Source data'!AR6=0,'Source data'!AV6=""),"",'Source data'!AV6/'Source data'!AR6-1)
A8: United States of America | B8: =IF(OR('Source data'!B7="",'Source data'!B7=0,'Source data'!F7=""),"",'Source data'!F7/'Source data'!B7-1) -> 0.73480663 | C8: =IF(OR('Source data'!C7="",'Source data'!C7=0,'Source data'!G7=""),"",'Source data'!G7/'Source data'!C7-1) -> 0.2462845 | D8: =IF(OR('Source data'!D7="",'Source data'!D7=0,'Source data'!H7=""),"",'Source data'!H7/'Source data'!D7-1) -> -0.15448852 | E8: =IF(OR('Source data'!E7="",'Source data'!E7=0,'Source data'!I7=""),"",'Source data'!I7/'Source data'!E7-1) -> -0.90379128 | F8: =IF(OR('Source data'!F7="",'Source data'!F7=0,'Source data'!J7=""),"",'Source data'!J7/'Source data'!F7-1) -> 0.073248408 | G8: =IF(OR('Source data'!G7="",'Source data'!G7=0,'Source data'!K7=""),"",'Source data'!K7/'Source data'!G7-1) -> -0.078364566 | H8: =IF(OR('Source data'!H7="",'Source data'!H7=0,'Source data'!L7=""),"",'Source data'!L7/'Source data'!H7-1) -> -0.24197531 | I8: =IF(OR('Source data'!I7="",'Source data'!I7=0,'Source data'!M7=""),"",'Source data'!M7/'Source data'!I7-1) -> -0.25423729 | ... AR8: =IF(OR('Source data'!AR7="",'Source data'!AR7=0,'Source data'!AV7=""),"",'Source data'!AV7/'Source data'!AR7-1)
A9: China, People's Republic of | B9: =IF(OR('Source data'!B8="",'Source data'!B8=0,'Source data'!F8=""),"",'Source data'!F8/'Source data'!B8-1) -> 1.0224719 | C9: =IF(OR('Source data'!C8="",'Source data'!C8=0,'Source data'!G8=""),"",'Source data'!G8/'Source data'!C8-1) -> 1.0437158 | D9: =IF(OR('Source data'!D8="",'Source data'!D8=0,'Source data'!H8=""),"",'Source data'!H8/'Source data'!D8-1) -> -0.1182266 | E9: =IF(OR('Source data'!E8="",'Source data'!E8=0,'Source data'!I8=""),"",'Source data'!I8/'Source data'!E8-1) -> -0.92772245 | F9: =IF(OR('Source data'!F8="",'Source data'!F8=0,'Source data'!J8=""),"",'Source data'!J8/'Source data'!F8-1) -> 0.26111111 | G9: =IF(OR('Source data'!G8="",'Source data'!G8=0,'Source data'!K8=""),"",'Source data'!K8/'Source data'!G8-1) -> 0.42780749 | H9: =IF(OR('Source data'!H8="",'Source data'!H8=0,'Source data'!L8=""),"",'Source data'!L8/'Source data'!H8-1) -> -0.15921788 | I9: =IF(OR('Source data'!I8="",'Source data'!I8=0,'Source data'!M8=""),"",'Source data'!M8/'Source data'!I8-1) -> 0.91111111 | ... AR9: =IF(OR('Source data'!AR8="",'Source data'!AR8=0,'Source data'!AV8=""),"",'Source data'!AV8/'Source data'!AR8-1)
A10: United Kingdom and Overseas Territories | B10: =IF(OR('Source data'!B9="",'Source data'!B9=0,'Source data'!F9=""),"",'Source data'!F9/'Source data'!B9-1) -> 0.72413793 | C10: =IF(OR('Source data'!C9="",'Source data'!C9=0,'Source data'!G9=""),"",'Source data'!G9/'Source data'!C9-1) -> 0.011976048 | D10: =IF(OR('Source data'!D9="",'Source data'!D9=0,'Source data'!H9=""),"",'Source data'!H9/'Source data'!D9-1) -> -0.013574661 | E10: =IF(OR('Source data'!E9="",'Source data'!E9=0,'Source data'!I9=""),"",'Source data'!I9/'Source data'!E9-1) -> -0.9027618 | F10: =IF(OR('Source data'!F9="",'Source data'!F9=0,'Source data'!J9=""),"",'Source data'!J9/'Source data'!F9-1) -> 0.505 | G10: =IF(OR('Source data'!G9="",'Source data'!G9=0,'Source data'!K9=""),"",'Source data'!K9/'Source data'!G9-1) -> 0.10650888 | H10: =IF(OR('Source data'!H9="",'Source data'!H9=0,'Source data'!L9=""),"",'Source data'!L9/'Source data'!H9-1) -> -0.4266055 | I10: =IF(OR('Source data'!I9="",'Source data'!I9=0,'Source data'!M9=""),"",'Source data'!M9/'Source data'!I9-1) -> 0.082840237 | ... AR10: =IF(OR('Source data'!AR9="",'Source data'!AR9=0,'Source data'!AV9=""),"",'Source data'!AV9/'Source data'!AR9-1)
A11: Brazil | B11: =IF(OR('Source data'!B10="",'Source data'!B10=0,'Source data'!F10=""),"",'Source data'!F10/'Source data'!B10-1) -> 0.525 | C11: =IF(OR('Source data'!C10="",'Source data'!C10=0,'Source data'!G10=""),"",'Source data'!G10/'Source data'!C10-1) -> 2.1707317 | D11: =IF(OR('Source data'!D10="",'Source data'!D10=0,'Source data'!H10=""),"",'Source data'!H10/'Source data'!D10-1) -> 0.38181818 | E11: =IF(OR('Source data'!E10="",'Source data'!E10=0,'Source data'!I10=""),"",'Source data'!I10/'Source data'!E10-1) -> -0.86678832 | F11: =IF(OR('Source data'!F10="",'Source data'!F10=0,'Source data'!J10=""),"",'Source data'!J10/'Source data'!F10-1) -> 0.67213115 | G11: =IF(OR('Source data'!G10="",'Source data'!G10=0,'Source data'!K10=""),"",'Source data'!K10/'Source data'!G10-1) -> 0.069230769 | H11: =IF(OR('Source data'!H10="",'Source data'!H10=0,'Source data'!L10=""),"",'Source data'!L10/'Source data'!H10-1) -> 0.64473684 | I11: =IF(OR('Source data'!I10="",'Source data'!I10=0,'Source data'!M10=""),"",'Source data'!M10/'Source data'!I10-1) -> 0.68493151 | ... AR11: =IF(OR('Source data'!AR10="",'Source data'!AR10=0,'Source data'!AV10=""),"",'Source data'!AV10/'Source data'!AR10-1)
A12: Korea, Republic of | B12: =IF(OR('Source data'!B11="",'Source data'!B11=0,'Source data'!F11=""),"",'Source data'!F11/'Source data'!B11-1) -> 0.22916667 | C12: =IF(OR('Source data'!C11="",'Source data'!C11=0,'Source data'!G11=""),"",'Source data'!G11/'Source data'!C11-1) -> 0.12162162 | D12: =IF(OR('Source data'!D11="",'Source data'!D11=0,'Source data'!H11=""),"",'Source data'!H11/'Source data'!D11-1) -> -0.25531915 | E12: =IF(OR('Source data'!E11="",'Source data'!E11=0,'Source data'!I11=""),"",'Source data'!I11/'Source data'!E11-1) -> -0.92482178 | F12: =IF(OR('Source data'!F11="",'Source data'!F11=0,'Source data'!J11=""),"",'Source data'!J11/'Source data'!F11-1) -> 1.1694915 | G12: =IF(OR('Source data'!G11="",'Source data'!G11=0,'Source data'!K11=""),"",'Source data'!K11/'Source data'!G11-1) -> 0.21084337 | H12: =IF(OR('Source data'!H11="",'Source data'!H11=0,'Source data'!L11=""),"",'Source data'!L11/'Source data'!H11-1) -> -0.0071428571 | I12: =IF(OR('Source data'!I11="",'Source data'!I11=0,'Source data'!M11=""),"",'Source data'!M11/'Source data'!I11-1) -> 0.37931034 | ... AR12: =IF(OR('Source data'!AR11="",'Source data'!AR11=0,'Source data'!AV11=""),"",'Source data'!AV11/'Source data'!AR11-1)
A13: Japan | B13: =IF(OR('Source data'!B12="",'Source data'!B12=0,'Source data'!F12=""),"",'Source data'!F12/'Source data'!B12-1) -> 0.57142857 | C13: =IF(OR('Source data'!C12="",'Source data'!C12=0,'Source data'!G12=""),"",'Source data'!G12/'Source data'!C12-1) -> -0.38624339 | D13: =IF(OR('Source data'!D12="",'Source data'!D12=0,'Source data'!H12=""),"",'Source data'!H12/'Source data'!D12-1) -> -0.50810811 | E13: =IF(OR('Source data'!E12="",'Source data'!E12=0,'Source data'!I12=""),"",'Source data'!I12/'Source data'!E12-1) -> -0.94169742 | F13: =IF(OR('Source data'!F12="",'Source data'!F12=0,'Source data'!J12=""),"",'Source data'!J12/'Source data'!F12-1) -> 0.06993007 | G13: =IF(OR('Source data'!G12="",'Source data'!G12=0,'Source data'!K12=""),"",'Source data'!K12/'Source data'!G12-1) -> 0.38793103 | H13: =IF(OR('Source data'!H12="",'Source data'!H12=0,'Source data'!L12=""),"",'Source data'!L12/'Source data'!H12-1) -> -0.23076923 | I13: =IF(OR('Source data'!I12="",'Source data'!I12=0,'Source data'!M12=""),"",'Source data'!M12/'Source data'!I12-1) -> 0.10126582 | ... AR13: =IF(OR('Source data'!AR12="",'Source data'!AR12=0,'Source data'!AV12=""),"",'Source data'!AV12/'Source data'!AR12-1)
A14: Philippines | B14: =IF(OR('Source data'!B13="",'Source data'!B13=0,'Source data'!F13=""),"",'Source data'!F13/'Source data'!B13-1) -> -0.069651741 | C14: =IF(OR('Source data'!C13="",'Source data'!C13=0,'Source data'!G13=""),"",'Source data'!G13/'Source data'!C13-1) -> -0.17277487 | D14: =IF(OR('Source data'!D13="",'Source data'!D13=0,'Source data'!H13=""),"",'Source data'!H13/'Source data'!D13-1) -> -0.41338583 | E14: =IF(OR('Source data'!E13="",'Source data'!E13=0,'Source data'!I13=""),"",'Source data'!I13/'Source data'!E13-1) -> -0.93246753 | F14: =IF(OR('Source data'!F13="",'Source data'!F13=0,'Source data'!J13=""),"",'Source data'!J13/'Source data'!F13-1) -> -0.2513369 | G14: =IF(OR('Source data'!G13="",'Source data'!G13=0,'Source data'!K13=""),"",'Source data'!K13/'Source data'!G13-1) -> -0.050632911 | H14: =IF(OR('Source data'!H13="",'Source data'!H13=0,'Source data'!L13=""),"",'Source data'!L13/'Source data'!H13-1) -> -0.046979866 | I14: =IF(OR('Source data'!I13="",'Source data'!I13=0,'Source data'!M13=""),"",'Source data'!M13/'Source data'!I13-1) -> 0.0064102564 | ... AR14: =IF(OR('Source data'!AR13="",'Source data'!AR13=0,'Source data'!AV13=""),"",'Source data'!AV13/'Source data'!AR13-1)
A15: Australia | B15: =IF(OR('Source data'!B14="",'Source data'!B14=0,'Source data'!F14=""),"",'Source data'!F14/'Source data'!B14-1) -> 0.56034483 | C15: =IF(OR('Source data'!C14="",'Source data'!C14=0,'Source data'!G14=""),"",'Source data'!G14/'Source data'!C14-1) -> -0.02 | D15: =IF(OR('Source data'!D14="",'Source data'!D14=0,'Source data'!H14=""),"",'Source data'!H14/'Source data'!D14-1) -> 0.17197452 | E15: =IF(OR('Source data'!E14="",'Source data'!E14=0,'Source data'!I14=""),"",'Source data'!I14/'Source data'!E14-1) -> -0.91242038 | F15: =IF(OR('Source data'!F14="",'Source data'!F14=0,'Source data'!J14=""),"",'Source data'!J14/'Source data'!F14-1) -> -0.066298343 | G15: =IF(OR('Source data'!G14="",'Source data'!G14=0,'Source data'!K14=""),"",'Source data'!K14/'Source data'!G14-1) -> -0.1292517 | H15: =IF(OR('Source data'!H14="",'Source data'!H14=0,'Source data'!L14=""),"",'Source data'!L14/'Source data'!H14-1) -> -0.66576087 | I15: =IF(OR('Source data'!I14="",'Source data'!I14=0,'Source data'!M14=""),"",'Source data'!M14/'Source data'!I14-1) -> -0.36969697 | ... AR15: =IF(OR('Source data'!AR14="",'Source data'!AR14=0,'Source data'!AV14=""),"",'Source data'!AV14/'Source data'!AR14-1)
A16: Germany | B16: =IF(OR('Source data'!B15="",'Source data'!B15=0,'Source data'!F15=""),"",'Source data'!F15/'Source data'!B15-1) -> 0.6984127 | C16: =IF(OR('Source data'!C15="",'Source data'!C15=0,'Source data'!G15=""),"",'Source data'!G15/'Source data'!C15-1) -> 0.015625 | D16: =IF(OR('Source data'!D15="",'Source data'!D15=0,'Source data'!H15=""),"",'Source data'!H15/'Source data'!D15-1) -> -0.336 | E16: =IF(OR('Source data'!E15="",'Source data'!E15=0,'Source data'!I15=""),"",'Source data'!I15/'Source data'!E15-1) -> -0.91606498 | F16: =IF(OR('Source data'!F15="",'Source data'!F15=0,'Source data'!J15=""),"",'Source data'!J15/'Source data'!F15-1) -> 0.028037383 | G16: =IF(OR('Source data'!G15="",'Source data'!G15=0,'Source data'!K15=""),"",'Source data'!K15/'Source data'!G15-1) -> -0.041025641 | H16: =IF(OR('Source data'!H15="",'Source data'!H15=0,'Source data'!L15=""),"",'Source data'!L15/'Source data'!H15-1) -> -0.27710843 | I16: =IF(OR('Source data'!I15="",'Source data'!I15=0,'Source data'!M15=""),"",'Source data'!M15/'Source data'!I15-1) -> 0.16129032 | ... AR16: =IF(OR('Source data'!AR15="",'Source data'!AR15=0,'Source data'!AV15=""),"",'Source data'!AV15/'Source data'!AR15-1)
... A30: Czech Republic | B30: =IF(OR('Source data'!B29="",'Source data'!B29=0,'Source data'!F29=""),"",'Source data'!F29/'Source data'!B29-1) -> 1.5 | C30: =IF(OR('Source data'!C29="",'Source data'!C29=0,'Source data'!G29=""),"",'Source data'!G29/'Source data'!C29-1) -> -0.43333333 | D30: =IF(OR('Source data'!D29="",'Source data'!D29=0,'Source data'!H29=""),"",'Source data'!H29/'Source data'!D29-1) -> -0.38235294 | E30: =IF(OR('Source data'!E29="",'Source data'!E29=0,'Source data'!I29=""),"",'Source data'!I29/'Source data'!E29-1) -> -0.93333333 | F30: =IF(OR('Source data'!F29="",'Source data'!F29=0,'Source data'!J29=""),"",'Source data'!J29/'Source data'!F29-1) -> 0.56666667 | G30: =IF(OR('Source data'!G29="",'Source data'!G29=0,'Source data'!K29=""),"",'Source data'!K29/'Source data'!G29-1) -> 0.17647059 | H30: =IF(OR('Source data'!H29="",'Source data'!H29=0,'Source data'!L29=""),"",'Source data'!L29/'Source data'!H29-1) -> -0.42857143 | I30: =IF(OR('Source data'!I29="",'Source data'!I29=0,'Source data'!M29=""),"",'Source data'!M29/'Source data'!I29-1) -> 1.7857143 | ... AR30: =IF(OR('Source data'!AR29="",'Source data'!AR29=0,'Source data'!AV29=""),"",'Source data'!AV29/'Source data'!AR29-1)

Sheet Quarterly 2-year
A1: Top 25 quarterly two-year change
A2: Same-quarter comparison versus two years earlier. Changes are blank when source values are suppressed or the prior period is zero.
A4: Country | B4: 2017 Q1 | C4: 2017 Q2 | D4: 2017 Q3 | E4: 2017 Q4 | F4: 2018 Q1 | G4: 2018 Q2 | H4: 2018 Q3 | I4: 2018 Q4 | J4: 2019 Q1 | K4: 2019 Q2 | L4: 2019 Q3 | M4: 2019 Q4 | N4: 2020 Q1 | O4: 2020 Q2 | P4: 2020 Q3 | Q4: 2020 Q4 | R4: 2021 Q1 | S4: 2021 Q2 | T4: 2021 Q3 | U4: 2021 Q4 | V4: 2022 Q1 | W4: 2022 Q2 | X4: 2022 Q3 | Y4: 2022 Q4 | Z4: 2023 Q1 | AA4: 2023 Q2 | AB4: 2023 Q3 | AC4: 2023 Q4 | AD4: 2024 Q1 | AE4: 2024 Q2 | AF4: 2024 Q3 | AG4: 2024 Q4 | AH4: 2025 Q1 | AI4: 2025 Q2 | AJ4: 2025 Q3 | AK4: 2025 Q4 | AL4: 2026 Q1 | AM4: 2026 Q2 | AN4: 2026 Q3
A5: Canada total | B5: =IF(OR('Source data'!B4="",'Source data'!B4=0,'Source data'!J4=""),"",'Source data'!J4/'Source data'!B4-1) -> 0.82772349 | C5: =IF(OR('Source data'!C4="",'Source data'!C4=0,'Source data'!K4=""),"",'Source data'!K4/'Source data'!C4-1) -> 0.52456468 | D5: =IF(OR('Source data'!D4="",'Source data'!D4=0,'Source data'!L4=""),"",'Source data'!L4/'Source data'!D4-1) -> -0.25104215 | E5: =IF(OR('Source data'!E4="",'Source data'!E4=0,'Source data'!M4=""),"",'Source data'!M4/'Source data'!E4-1) -> -0.88716514 | F5: =IF(OR('Source data'!F4="",'Source data'!F4=0,'Source data'!N4=""),"",'Source data'!N4/'Source data'!F4-1) -> 2.3896848 | G5: =IF(OR('Source data'!G4="",'Source data'!G4=0,'Source data'!O4=""),"",'Source data'!O4/'Source data'!G4-1) -> 2.7823501 | H5: =IF(OR('Source data'!H4="",'Source data'!H4=0,'Source data'!P4=""),"",'Source data'!P4/'Source data'!H4-1) -> 2.3395572 | I5: =IF(OR('Source data'!I4="",'Source data'!I4=0,'Source data'!Q4=""),"",'Source data'!Q4/'Source data'!I4-1) -> 0.25821896 | ... AN5: =IF(OR('Source data'!AN4="",'Source data'!AN4=0,'Source data'!AV4=""),"",'Source data'!AV4/'Source data'!AN4-1)
A6: India | B6: =IF(OR('Source data'!B5="",'Source data'!B5=0,'Source data'!J5=""),"",'Source data'!J5/'Source data'!B5-1) -> 0.73239437 | C6: =IF(OR('Source data'!C5="",'Source data'!C5=0,'Source data'!K5=""),"",'Source data'!K5/'Source data'!C5-1) -> 2.6417323 | D6: =IF(OR('Source data'!D5="",'Source data'!D5=0,'Source data'!L5=""),"",'Source data'!L5/'Source data'!D5-1) -> 0.050083472 | E6: =IF(OR('Source data'!E5="",'Source data'!E5=0,'Source data'!M5=""),"",'Source data'!M5/'Source data'!E5-1) -> -0.81151346 | F6: =IF(OR('Source data'!F5="",'Source data'!F5=0,'Source data'!N5=""),"",'Source data'!N5/'Source data'!F5-1) -> 3.3665414 | G6: =IF(OR('Source data'!G5="",'Source data'!G5=0,'Source data'!O5=""),"",'Source data'!O5/'Source data'!G5-1) -> 5.2662338 | H6: =IF(OR('Source data'!H5="",'Source data'!H5=0,'Source data'!P5=""),"",'Source data'!P5/'Source data'!H5-1) -> 3.8647482 | I6: =IF(OR('Source data'!I5="",'Source data'!I5=0,'Source data'!Q5=""),"",'Source data'!Q5/'Source data'!I5-1) -> 1.1766234 | ... AN6: =IF(OR('Source data'!AN5="",'Source data'!AN5=0,'Source data'!AV5=""),"",'Source data'!AV5/'Source data'!AN5-1)
A7: France | B7: =IF(OR('Source data'!B6="",'Source data'!B6=0,'Source data'!J6=""),"",'Source data'!J6/'Source data'!B6-1) -> 0.32779097 | C7: =IF(OR('Source data'!C6="",'Source data'!C6=0,'Source data'!K6=""),"",'Source data'!K6/'Source data'!C6-1) -> 0.34647887 | D7: =IF(OR('Source data'!D6="",'Source data'!D6=0,'Source data'!L6=""),"",'Source data'!L6/'Source data'!D6-1) -> -0.17445483 | E7: =IF(OR('Source data'!E6="",'Source data'!E6=0,'Source data'!M6=""),"",'Source data'!M6/'Source data'!E6-1) -> -0.88024622 | F7: =IF(OR('Source data'!F6="",'Source data'!F6=0,'Source data'!N6=""),"",'Source data'!N6/'Source data'!F6-1) -> 2.8354115 | G7: =IF(OR('Source data'!G6="",'Source data'!G6=0,'Source data'!O6=""),"",'Source data'!O6/'Source data'!G6-1) -> 2.8845144 | H7: =IF(OR('Source data'!H6="",'Source data'!H6=0,'Source data'!P6=""),"",'Source data'!P6/'Source data'!H6-1) -> 3.9175258 | I7: =IF(OR('Source data'!I6="",'Source data'!I6=0,'Source data'!Q6=""),"",'Source data'!Q6/'Source data'!I6-1) -> 0.21590909 | ... AN7: =IF(OR('Source data'!AN6="",'Source data'!AN6=0,'Source data'!AV6=""),"",'Source data'!AV6/'Source data'!AN6-1)
A8: United States of America | B8: =IF(OR('Source data'!B7="",'Source data'!B7=0,'Source data'!J7=""),"",'Source data'!J7/'Source data'!B7-1) -> 0.86187845 | C8: =IF(OR('Source data'!C7="",'Source data'!C7=0,'Source data'!K7=""),"",'Source data'!K7/'Source data'!C7-1) -> 0.14861996 | D8: =IF(OR('Source data'!D7="",'Source data'!D7=0,'Source data'!L7=""),"",'Source data'!L7/'Source data'!D7-1) -> -0.35908142 | E8: =IF(OR('Source data'!E7="",'Source data'!E7=0,'Source data'!M7=""),"",'Source data'!M7/'Source data'!E7-1) -> -0.92825112 | F8: =IF(OR('Source data'!F7="",'Source data'!F7=0,'Source data'!N7=""),"",'Source data'!N7/'Source data'!F7-1) -> 1.7404459 | G8: =IF(OR('Source data'!G7="",'Source data'!G7=0,'Source data'!O7=""),"",'Source data'!O7/'Source data'!G7-1) -> 1.6678024 | H8: =IF(OR('Source data'!H7="",'Source data'!H7=0,'Source data'!P7=""),"",'Source data'!P7/'Source data'!H7-1) -> 1.6666667 | I8: =IF(OR('Source data'!I7="",'Source data'!I7=0,'Source data'!Q7=""),"",'Source data'!Q7/'Source data'!I7-1) -> -0.15677966 | ... AN8: =IF(OR('Source data'!AN7="",'Source data'!AN7=0,'Source data'!AV7=""),"",'Source data'!AV7/'Source data'!AN7-1)
A9: China, People's Republic of | B9: =IF(OR('Source data'!B8="",'Source data'!B8=0,'Source data'!J8=""),"",'Source data'!J8/'Source data'!B8-1) -> 1.5505618 | C9: =IF(OR('Source data'!C8="",'Source data'!C8=0,'Source data'!K8=""),"",'Source data'!K8/'Source data'!C8-1) -> 1.9180328 | D9: =IF(OR('Source data'!D8="",'Source data'!D8=0,'Source data'!L8=""),"",'Source data'!L8/'Source data'!D8-1) -> -0.25862069 | E9: =IF(OR('Source data'!E8="",'Source data'!E8=0,'Source data'!M8=""),"",'Source data'!M8/'Source data'!E8-1) -> -0.86186958 | F9: =IF(OR('Source data'!F8="",'Source data'!F8=0,'Source data'!N8=""),"",'Source data'!N8/'Source data'!F8-1) -> 1.925 | G9: =IF(OR('Source data'!G8="",'Source data'!G8=0,'Source data'!O8=""),"",'Source data'!O8/'Source data'!G8-1) -> 3.0668449 | H9: =IF(OR('Source data'!H8="",'Source data'!H8=0,'Source data'!P8=""),"",'Source data'!P8/'Source data'!H8-1) -> 1.9553073 | I9: =IF(OR('Source data'!I8="",'Source data'!I8=0,'Source data'!Q8=""),"",'Source data'!Q8/'Source data'!I8-1) -> 0.017777778 | ... AN9: =IF(OR('Source data'!AN8="",'Source data'!AN8=0,'Source data'!AV8=""),"",'Source data'!AV8/'Source data'!AN8-1)
A10: United Kingdom and Overseas Territories | B10: =IF(OR('Source data'!B9="",'Source data'!B9=0,'Source data'!J9=""),"",'Source data'!J9/'Source data'!B9-1) -> 1.5948276 | C10: =IF(OR('Source data'!C9="",'Source data'!C9=0,'Source data'!K9=""),"",'Source data'!K9/'Source data'!C9-1) -> 0.11976048 | D10: =IF(OR('Source data'!D9="",'Source data'!D9=0,'Source data'!L9=""),"",'Source data'!L9/'Source data'!D9-1) -> -0.43438914 | E10: =IF(OR('Source data'!E9="",'Source data'!E9=0,'Source data'!M9=""),"",'Source data'!M9/'Source data'!E9-1) -> -0.89470656 | F10: =IF(OR('Source data'!F9="",'Source data'!F9=0,'Source data'!N9=""),"",'Source data'!N9/'Source data'!F9-1) -> 2.375 | G10: =IF(OR('Source data'!G9="",'Source data'!G9=0,'Source data'!O9=""),"",'Source data'!O9/'Source data'!G9-1) -> 2.7218935 | H10: =IF(OR('Source data'!H9="",'Source data'!H9=0,'Source data'!P9=""),"",'Source data'!P9/'Source data'!H9-1) -> 1.4220183 | I10: =IF(OR('Source data'!I9="",'Source data'!I9=0,'Source data'!Q9=""),"",'Source data'!Q9/'Source data'!I9-1) -> 0.01183432 | ... AN10: =IF(OR('Source data'!AN9="",'Source data'!AN9=0,'Source data'!AV9=""),"",'Source data'!AV9/'Source data'!AN9-1)
A11: Brazil | B11: =IF(OR('Source data'!B10="",'Source data'!B10=0,'Source data'!J10=""),"",'Source data'!J10/'Source data'!B10-1) -> 1.55 | C11: =IF(OR('Source data'!C10="",'Source data'!C10=0,'Source data'!K10=""),"",'Source data'!K10/'Source data'!C10-1) -> 2.3902439 | D11: =IF(OR('Source data'!D10="",'Source data'!D10=0,'Source data'!L10=""),"",'Source data'!L10/'Source data'!D10-1) -> 1.2727273 | E11: =IF(OR('Source data'!E10="",'Source data'!E10=0,'Source data'!M10=""),"",'Source data'!M10/'Source data'!E10-1) -> -0.77554745 | F11: =IF(OR('Source data'!F10="",'Source data'!F10=0,'Source data'!N10=""),"",'Source data'!N10/'Source data'!F10-1) -> 5.0655738 | G11: =IF(OR('Source data'!G10="",'Source data'!G10=0,'Source data'!O10=""),"",'Source data'!O10/'Source data'!G10-1) -> 3.0846154 | H11: =IF(OR('Source data'!H10="",'Source data'!H10=0,'Source data'!P10=""),"",'Source data'!P10/'Source data'!H10-1) -> 5.2763158 | I11: =IF(OR('Source data'!I10="",'Source data'!I10=0,'Source data'!Q10=""),"",'Source data'!Q10/'Source data'!I10-1) -> 0.50684932 | ... AN11: =IF(OR('Source data'!AN10="",'Source data'!AN10=0,'Source data'!AV10=""),"",'Source data'!AV10/'Source data'!AN10-1)
A12: Korea, Republic of | B12: =IF(OR('Source data'!B11="",'Source data'!B11=0,'Source data'!J11=""),"",'Source data'!J11/'Source data'!B11-1) -> 1.6666667 | C12: =IF(OR('Source data'!C11="",'Source data'!C11=0,'Source data'!K11=""),"",'Source data'!K11/'Source data'!C11-1) -> 0.35810811 | D12: =IF(OR('Source data'!D11="",'Source data'!D11=0,'Source data'!L11=""),"",'Source data'!L11/'Source data'!D11-1) -> -0.2606383 | E12: =IF(OR('Source data'!E11="",'Source data'!E11=0,'Source data'!M11=""),"",'Source data'!M11/'Source data'!E11-1) -> -0.8963059 | F12: =IF(OR('Source data'!F11="",'Source data'!F11=0,'Source data'!N11=""),"",'Source data'!N11/'Source data'!F11-1) -> 2.3050847 | G12: =IF(OR('Source data'!G11="",'Source data'!G11=0,'Source data'!O11=""),"",'Source data'!O11/'Source data'!G11-1) -> 2.0120482 | H12: =IF(OR('Source data'!H11="",'Source data'!H11=0,'Source data'!P11=""),"",'Source data'!P11/'Source data'!H11-1) -> 1.7857143 | I12: =IF(OR('Source data'!I11="",'Source data'!I11=0,'Source data'!Q11=""),"",'Source data'!Q11/'Source data'!I11-1) -> 0.17241379 | ... AN12: =IF(OR('Source data'!AN11="",'Source data'!AN11=0,'Source data'!AV11=""),"",'Source data'!AV11/'Source data'!AN11-1)
A13: Japan | B13: =IF(OR('Source data'!B12="",'Source data'!B12=0,'Source data'!J12=""),"",'Source data'!J12/'Source data'!B12-1) -> 0.68131868 | C13: =IF(OR('Source data'!C12="",'Source data'!C12=0,'Source data'!K12=""),"",'Source data'!K12/'Source data'!C12-1) -> -0.14814815 | D13: =IF(OR('Source data'!D12="",'Source data'!D12=0,'Source data'!L12=""),"",'Source data'!L12/'Source data'!D12-1) -> -0.62162162 | E13: =IF(OR('Source data'!E12="",'Source data'!E12=0,'Source data'!M12=""),"",'Source data'!M12/'Source data'!E12-1) -> -0.93579336 | F13: =IF(OR('Source data'!F12="",'Source data'!F12=0,'Source data'!N12=""),"",'Source data'!N12/'Source data'!F12-1) -> 2.5944056 | G13: =IF(OR('Source data'!G12="",'Source data'!G12=0,'Source data'!O12=""),"",'Source data'!O12/'Source data'!G12-1) -> 2.3706897 | H13: =IF(OR('Source data'!H12="",'Source data'!H12=0,'Source data'!P12=""),"",'Source data'!P12/'Source data'!H12-1) -> 1.967033 | I13: =IF(OR('Source data'!I12="",'Source data'!I12=0,'Source data'!Q12=""),"",'Source data'!Q12/'Source data'!I12-1) -> 0.83544304 | ... AN13: =IF(OR('Source data'!AN12="",'Source data'!AN12=0,'Source data'!AV12=""),"",'Source data'!AV12/'Source data'!AN12-1)
A14: Philippines | B14: =IF(OR('Source data'!B13="",'Source data'!B13=0,'Source data'!J13=""),"",'Source data'!J13/'Source data'!B13-1) -> -0.30348259 | C14: =IF(OR('Source data'!C13="",'Source data'!C13=0,'Source data'!K13=""),"",'Source data'!K13/'Source data'!C13-1) -> -0.21465969 | D14: =IF(OR('Source data'!D13="",'Source data'!D13=0,'Source data'!L13=""),"",'Source data'!L13/'Source data'!D13-1) -> -0.44094488 | E14: =IF(OR('Source data'!E13="",'Source data'!E13=0,'Source data'!M13=""),"",'Source data'!M13/'Source data'!E13-1) -> -0.93203463 | F14: =IF(OR('Source data'!F13="",'Source data'!F13=0,'Source data'!N13=""),"",'Source data'!N13/'Source data'!F13-1) -> 0.80213904 | G14: =IF(OR('Source data'!G13="",'Source data'!G13=0,'Source data'!O13=""),"",'Source data'!O13/'Source data'!G13-1) -> 0.98734177 | H14: =IF(OR('Source data'!H13="",'Source data'!H13=0,'Source data'!P13=""),"",'Source data'!P13/'Source data'!H13-1) -> 1.1812081 | I14: =IF(OR('Source data'!I13="",'Source data'!I13=0,'Source data'!Q13=""),"",'Source data'!Q13/'Source data'!I13-1) -> -0.41666667 | ... AN14: =IF(OR('Source data'!AN13="",'Source data'!AN13=0,'Source data'!AV13=""),"",'Source data'!AV13/'Source data'!AN13-1)
A15: Australia | B15: =IF(OR('Source data'!B14="",'Source data'!B14=0,'Source data'!J14=""),"",'Source data'!J14/'Source data'!B14-1) -> 0.45689655 | C15: =IF(OR('Source data'!C14="",'Source data'!C14=0,'Source data'!K14=""),"",'Source data'!K14/'Source data'!C14-1) -> -0.14666667 | D15: =IF(OR('Source data'!D14="",'Source data'!D14=0,'Source data'!L14=""),"",'Source data'!L14/'Source data'!D14-1) -> -0.60828025 | E15: =IF(OR('Source data'!E14="",'Source data'!E14=0,'Source data'!M14=""),"",'Source data'!M14/'Source data'!E14-1) -> -0.9447983 | F15: =IF(OR('Source data'!F14="",'Source data'!F14=0,'Source data'!N14=""),"",'Source data'!N14/'Source data'!F14-1) -> 1.5745856 | G15: =IF(OR('Source data'!G14="",'Source data'!G14=0,'Source data'!O14=""),"",'Source data'!O14/'Source data'!G14-1) -> 1.5170068 | H15: =IF(OR('Source data'!H14="",'Source data'!H14=0,'Source data'!P14=""),"",'Source data'!P14/'Source data'!H14-1) -> 0.7826087 | I15: =IF(OR('Source data'!I14="",'Source data'!I14=0,'Source data'!Q14=""),"",'Source data'!Q14/'Source data'!I14-1) -> -0.44848485 | ... AN15: =IF(OR('Source data'!AN14="",'Source data'!AN14=0,'Source data'!AV14=""),"",'Source data'!AV14/'Source data'!AN14-1)
A16: Germany | B16: =IF(OR('Source data'!B15="",'Source data'!B15=0,'Source data'!J15=""),"",'Source data'!J15/'Source data'!B15-1) -> 0.74603175 | C16: =IF(OR('Source data'!C15="",'Source data'!C15=0,'Source data'!K15=""),"",'Source data'!K15/'Source data'!C15-1) -> -0.026041667 | D16: =IF(OR('Source data'!D15="",'Source data'!D15=0,'Source data'!L15=""),"",'Source data'!L15/'Source data'!D15-1) -> -0.52 | E16: =IF(OR('Source data'!E15="",'Source data'!E15=0,'Source data'!M15=""),"",'Source data'!M15/'Source data'!E15-1) -> -0.90252708 | F16: =IF(OR('Source data'!F15="",'Source data'!F15=0,'Source data'!N15=""),"",'Source data'!N15/'Source data'!F15-1) -> 2.4205607 | G16: =IF(OR('Source data'!G15="",'Source data'!G15=0,'Source data'!O15=""),"",'Source data'!O15/'Source data'!G15-1) -> 1.8358974 | H16: =IF(OR('Source data'!H15="",'Source data'!H15=0,'Source data'!P15=""),"",'Source data'!P15/'Source data'!H15-1) -> 1.5542169 | I16: =IF(OR('Source data'!I15="",'Source data'!I15=0,'Source data'!Q15=""),"",'Source data'!Q15/'Source data'!I15-1) -> 0.21505376 | ... AN16: =IF(OR('Source data'!AN15="",'Source data'!AN15=0,'Source data'!AV15=""),"",'Source data'!AV15/'Source data'!AN15-1)
... A30: Czech Republic | B30: =IF(OR('Source data'!B29="",'Source data'!B29=0,'Source data'!J29=""),"",'Source data'!J29/'Source data'!B29-1) -> 2.9166667 | C30: =IF(OR('Source data'!C29="",'Source data'!C29=0,'Source data'!K29=""),"",'Source data'!K29/'Source data'!C29-1) -> -0.33333333 | D30: =IF(OR('Source data'!D29="",'Source data'!D29=0,'Source data'!L29=""),"",'Source data'!L29/'Source data'!D29-1) -> -0.64705882 | E30: =IF(OR('Source data'!E29="",'Source data'!E29=0,'Source data'!M29=""),"",'Source data'!M29/'Source data'!E29-1) -> -0.81428571 | F30: =IF(OR('Source data'!F29="",'Source data'!F29=0,'Source data'!N29=""),"",'Source data'!N29/'Source data'!F29-1) -> 2.1666667 | G30: =IF(OR('Source data'!G29="",'Source data'!G29=0,'Source data'!O29=""),"",'Source data'!O29/'Source data'!G29-1) -> 2.5882353 | H30: =IF(OR('Source data'!H29="",'Source data'!H29=0,'Source data'!P29=""),"",'Source data'!P29/'Source data'!H29-1) -> 1.5238095 | I30: =IF(OR('Source data'!I29="",'Source data'!I29=0,'Source data'!Q29=""),"",'Source data'!Q29/'Source data'!I29-1) -> 0.42857143 | ... AN30: =IF(OR('Source data'!AN29="",'Source data'!AN29=0,'Source data'!AV29=""),"",'Source data'!AV29/'Source data'!AN29-1)

Sheet Annual
A1: Annual work permit holders by country
A2: Reported annual totals, sorted by 2018 total. 2026 is year-to-date through Q3.
A4: Country | B4: Annual 2015 | C4: Annual 2016 | D4: Annual 2017 | E4: Annual 2018 | F4: Annual 2019 | G4: Annual 2020 | H4: Annual 2021 | I4: Annual 2022 | J4: Annual 2023 | K4: Annual 2024 | L4: Annual 2025 | M4: 2026 YTD
A5: Canada total | B5: ='Source data'!AW4 -> 15900 | C5: ='Source data'!AX4 -> 16215 | D5: ='Source data'!AY4 -> 18540 | E5: ='Source data'!AZ4 -> 62660 | F5: ='Source data'!BA4 -> 16710 | G5: ='Source data'!BB4 -> 23125 | H5: ='Source data'!BC4 -> 45105 | I5: ='Source data'!BD4 -> 196300 | ... M5: ='Source data'!BH4 -> 0
A6: India | B6: ='Source data'!AW5 -> 2330 | C6: ='Source data'!AX5 -> 2385 | D6: ='Source data'!AY5 -> 3600 | E6: ='Source data'!AZ5 -> 15045 | F6: ='Source data'!BA5 -> 8720 | G6: ='Source data'!BB5 -> 8170 | H6: ='Source data'!BC5 -> 10575 | I6: ='Source data'!BD5 -> 76795 | ... M6: ='Source data'!BH5 -> 0
A7: France | B7: ='Source data'!AW6 -> 1435 | C7: ='Source data'!AX6 -> 1625 | D7: ='Source data'!AY6 -> 2115 | E7: ='Source data'!AZ6 -> 6875 | F7: ='Source data'!BA6 -> 690 | G7: ='Source data'!BB6 -> 2025 | H7: ='Source data'!BC6 -> 2430 | I7: ='Source data'!BD6 -> 9910 | ... M7: ='Source data'!BH6 -> 0
A8: United States of America | B8: ='Source data'!AW7 -> 2265 | C8: ='Source data'!AX7 -> 1875 | D8: ='Source data'!AY7 -> 2135 | E8: ='Source data'!AZ7 -> 5810 | F8: ='Source data'!BA7 -> 140 | G8: ='Source data'!BB7 -> 1130 | H8: ='Source data'!BC7 -> 2295 | I8: ='Source data'!BD7 -> 6115 | ... M8: ='Source data'!BH7 -> 0
A9: China, People's Republic of | B9: ='Source data'!AW8 -> 1710 | C9: ='Source data'!AX8 -> 1480 | D9: ='Source data'!AY8 -> 1345 | E9: ='Source data'!AZ8 -> 4340 | F9: ='Source data'!BA8 -> 1460 | G9: ='Source data'!BB8 -> 1580 | H9: ='Source data'!BC8 -> 1290 | I9: ='Source data'!BD8 -> 7795 | ... M9: ='Source data'!BH8 -> 0
A10: United Kingdom and Overseas Territories | B10: ='Source data'!AW9 -> 630 | C10: ='Source data'!AX9 -> 620 | D10: ='Source data'!AY9 -> 730 | E10: ='Source data'!AZ9 -> 2690 | F10: ='Source data'!BA9 -> 210 | G10: ='Source data'!BB9 -> 570 | H10: ='Source data'!BC9 -> 1605 | I10: ='Source data'!BD9 -> 4120 | ... M10: ='Source data'!BH9 -> 0
A11: Brazil | B11: ='Source data'!AW10 -> 280 | C11: ='Source data'!AX10 -> 355 | D11: ='Source data'!AY10 -> 430 | E11: ='Source data'!AZ10 -> 2220 | F11: ='Source data'!BA10 -> 675 | G11: ='Source data'!BB10 -> 685 | H11: ='Source data'!BC10 -> 570 | I11: ='Source data'!BD10 -> 2535 | ... M11: ='Source data'!BH10 -> 0
A12: Korea, Republic of | B12: ='Source data'!AW11 -> 485 | C12: ='Source data'!AX11 -> 865 | D12: ='Source data'!AY11 -> 580 | E12: ='Source data'!AZ11 -> 2045 | F12: ='Source data'!BA11 -> 345 | G12: ='Source data'!BB11 -> 515 | H12: ='Source data'!BC11 -> 590 | I12: ='Source data'!BD11 -> 3115 | ... M12: ='Source data'!BH11 -> 0
A13: Japan | B13: ='Source data'!AW12 -> 410 | C13: ='Source data'!AX12 -> 505 | D13: ='Source data'!AY12 -> 610 | E13: ='Source data'!AZ12 -> 1620 | F13: ='Source data'!BA12 -> 75 | G13: ='Source data'!BB12 -> 175 | H13: ='Source data'!BC12 -> 565 | I13: ='Source data'!BD12 -> 2745 | ... M13: ='Source data'!BH12 -> 0
A14: Philippines | B14: ='Source data'!AW13 -> 960 | C14: ='Source data'!AX13 -> 1130 | D14: ='Source data'!AY13 -> 570 | E14: ='Source data'!AZ13 -> 1605 | F14: ='Source data'!BA13 -> 430 | G14: ='Source data'!BB13 -> 945 | H14: ='Source data'!BC13 -> 855 | I14: ='Source data'!BD13 -> 9015 | ... M14: ='Source data'!BH13 -> 0
A15: Australia | B15: ='Source data'!AW14 -> 645 | C15: ='Source data'!AX14 -> 560 | D15: ='Source data'!AY14 -> 565 | E15: ='Source data'!AZ14 -> 1565 | F15: ='Source data'!BA14 -> 85 | G15: ='Source data'!BB14 -> 185 | H15: ='Source data'!BC14 -> 520 | I15: ='Source data'!BD14 -> 1890 | ... M15: ='Source data'!BH14 -> 0
A16: Germany | B16: ='Source data'!AW15 -> 355 | C16: ='Source data'!AX15 -> 470 | D16: ='Source data'!AY15 -> 575 | E16: ='Source data'!AZ15 -> 1465 | F16: ='Source data'!BA15 -> 85 | G16: ='Source data'!BB15 -> 155 | H16: ='Source data'!BC15 -> 400 | I16: ='Source data'!BD15 -> 1350 | ... M16: ='Source data'!BH15 -> 0
... A221: Virgin Islands, British | B221: ='Source data'!AW220 -> 0 | C221: ='Source data'!AX220 -> 0 | D221: ='Source data'!AY220 -> 0 | E221: ='Source data'!AZ220 -> 0 | F221: ='Source data'!BA220 -> 0 | G221: ='Source data'!BB220 -> 0 | H221: ='Source data'!BC220 -> 0 | I221: ='Source data'!BD220 -> 0 | ... M221: ='Source data'!BH220 -> 0

Sheet Annual YoY
A1: Annual year-over-year change
A2: Annual percentage change versus the prior year; 2026 uses year-to-date through Q3.
A4: Country | B4: 2016 | C4: 2017 | D4: 2018 | E4: 2019 | F4: 2020 | G4: 2021 | H4: 2022 | I4: 2023 | J4: 2024 | K4: 2025 | L4: 2026 YTD
A5: Canada total | B5: =IF(OR('Source data'!AW4="",'Source data'!AW4=0,'Source data'!AX4=""),"",'Source data'!AX4/'Source data'!AW4-1) -> 0.019811321 | C5: =IF(OR('Source data'!AX4="",'Source data'!AX4=0,'Source data'!AY4=""),"",'Source data'!AY4/'Source data'!AX4-1) -> 0.14338575 | D5: =IF(OR('Source data'!AY4="",'Source data'!AY4=0,'Source data'!AZ4=""),"",'Source data'!AZ4/'Source data'!AY4-1) -> 2.3797195 | E5: =IF(OR('Source data'!AZ4="",'Source data'!AZ4=0,'Source data'!BA4=""),"",'Source data'!BA4/'Source data'!AZ4-1) -> -0.73332269 | F5: =IF(OR('Source data'!BA4="",'Source data'!BA4=0,'Source data'!BB4=""),"",'Source data'!BB4/'Source data'!BA4-1) -> 0.38390186 | G5: =IF(OR('Source data'!BB4="",'Source data'!BB4=0,'Source data'!BC4=""),"",'Source data'!BC4/'Source data'!BB4-1) -> 0.95048649 | H5: =IF(OR('Source data'!BC4="",'Source data'!BC4=0,'Source data'!BD4=""),"",'Source data'!BD4/'Source data'!BC4-1) -> 3.3520674 | I5: =IF(OR('Source data'!BD4="",'Source data'!BD4=0,'Source data'!BE4=""),"",'Source data'!BE4/'Source data'!BD4-1) -> -0.69296994 | ... L5: =IF(OR('Source data'!BG4="",'Source data'!BG4=0,'Source data'!BH4=""),"",'Source data'!BH4/'Source data'!BG4-1)
A6: India | B6: =IF(OR('Source data'!AW5="",'Source data'!AW5=0,'Source data'!AX5=""),"",'Source data'!AX5/'Source data'!AW5-1) -> 0.02360515 | C6: =IF(OR('Source data'!AX5="",'Source data'!AX5=0,'Source data'!AY5=""),"",'Source data'!AY5/'Source data'!AX5-1) -> 0.50943396 | D6: =IF(OR('Source data'!AY5="",'Source data'!AY5=0,'Source data'!AZ5=""),"",'Source data'!AZ5/'Source data'!AY5-1) -> 3.1791667 | E6: =IF(OR('Source data'!AZ5="",'Source data'!AZ5=0,'Source data'!BA5=""),"",'Source data'!BA5/'Source data'!AZ5-1) -> -0.42040545 | F6: =IF(OR('Source data'!BA5="",'Source data'!BA5=0,'Source data'!BB5=""),"",'Source data'!BB5/'Source data'!BA5-1) -> -0.063073394 | G6: =IF(OR('Source data'!BB5="",'Source data'!BB5=0,'Source data'!BC5=""),"",'Source data'!BC5/'Source data'!BB5-1) -> 0.29436965 | H6: =IF(OR('Source data'!BC5="",'Source data'!BC5=0,'Source data'!BD5=""),"",'Source data'!BD5/'Source data'!BC5-1) -> 6.2619385 | I6: =IF(OR('Source data'!BD5="",'Source data'!BD5=0,'Source data'!BE5=""),"",'Source data'!BE5/'Source data'!BD5-1) -> -0.76827918 | ... L6: =IF(OR('Source data'!BG5="",'Source data'!BG5=0,'Source data'!BH5=""),"",'Source data'!BH5/'Source data'!BG5-1)
A7: France | B7: =IF(OR('Source data'!AW6="",'Source data'!AW6=0,'Source data'!AX6=""),"",'Source data'!AX6/'Source data'!AW6-1) -> 0.13240418 | C7: =IF(OR('Source data'!AX6="",'Source data'!AX6=0,'Source data'!AY6=""),"",'Source data'!AY6/'Source data'!AX6-1) -> 0.30153846 | D7: =IF(OR('Source data'!AY6="",'Source data'!AY6=0,'Source data'!AZ6=""),"",'Source data'!AZ6/'Source data'!AY6-1) -> 2.250591 | E7: =IF(OR('Source data'!AZ6="",'Source data'!AZ6=0,'Source data'!BA6=""),"",'Source data'!BA6/'Source data'!AZ6-1) -> -0.89963636 | F7: =IF(OR('Source data'!BA6="",'Source data'!BA6=0,'Source data'!BB6=""),"",'Source data'!BB6/'Source data'!BA6-1) -> 1.9347826 | G7: =IF(OR('Source data'!BB6="",'Source data'!BB6=0,'Source data'!BC6=""),"",'Source data'!BC6/'Source data'!BB6-1) -> 0.2 | H7: =IF(OR('Source data'!BC6="",'Source data'!BC6=0,'Source data'!BD6=""),"",'Source data'!BD6/'Source data'!BC6-1) -> 3.0781893 | I7: =IF(OR('Source data'!BD6="",'Source data'!BD6=0,'Source data'!BE6=""),"",'Source data'!BE6/'Source data'!BD6-1) -> -0.80877901 | ... L7: =IF(OR('Source data'!BG6="",'Source data'!BG6=0,'Source data'!BH6=""),"",'Source data'!BH6/'Source data'!BG6-1)
A8: United States of America | B8: =IF(OR('Source data'!AW7="",'Source data'!AW7=0,'Source data'!AX7=""),"",'Source data'!AX7/'Source data'!AW7-1) -> -0.17218543 | C8: =IF(OR('Source data'!AX7="",'Source data'!AX7=0,'Source data'!AY7=""),"",'Source data'!AY7/'Source data'!AX7-1) -> 0.13866667 | D8: =IF(OR('Source data'!AY7="",'Source data'!AY7=0,'Source data'!AZ7=""),"",'Source data'!AZ7/'Source data'!AY7-1) -> 1.7213115 | E8: =IF(OR('Source data'!AZ7="",'Source data'!AZ7=0,'Source data'!BA7=""),"",'Source data'!BA7/'Source data'!AZ7-1) -> -0.97590361 | F8: =IF(OR('Source data'!BA7="",'Source data'!BA7=0,'Source data'!BB7=""),"",'Source data'!BB7/'Source data'!BA7-1) -> 7.0714286 | G8: =IF(OR('Source data'!BB7="",'Source data'!BB7=0,'Source data'!BC7=""),"",'Source data'!BC7/'Source data'!BB7-1) -> 1.0309735 | H8: =IF(OR('Source data'!BC7="",'Source data'!BC7=0,'Source data'!BD7=""),"",'Source data'!BD7/'Source data'!BC7-1) -> 1.664488 | I8: =IF(OR('Source data'!BD7="",'Source data'!BD7=0,'Source data'!BE7=""),"",'Source data'!BE7/'Source data'!BD7-1) -> -0.67130008 | ... L8: =IF(OR('Source data'!BG7="",'Source data'!BG7=0,'Source data'!BH7=""),"",'Source data'!BH7/'Source data'!BG7-1)
A9: China, People's Republic of | B9: =IF(OR('Source data'!AW8="",'Source data'!AW8=0,'Source data'!AX8=""),"",'Source data'!AX8/'Source data'!AW8-1) -> -0.13450292 | C9: =IF(OR('Source data'!AX8="",'Source data'!AX8=0,'Source data'!AY8=""),"",'Source data'!AY8/'Source data'!AX8-1) -> -0.091216216 | D9: =IF(OR('Source data'!AY8="",'Source data'!AY8=0,'Source data'!AZ8=""),"",'Source data'!AZ8/'Source data'!AY8-1) -> 2.2267658 | E9: =IF(OR('Source data'!AZ8="",'Source data'!AZ8=0,'Source data'!BA8=""),"",'Source data'!BA8/'Source data'!AZ8-1) -> -0.66359447 | F9: =IF(OR('Source data'!BA8="",'Source data'!BA8=0,'Source data'!BB8=""),"",'Source data'!BB8/'Source data'!BA8-1) -> 0.082191781 | G9: =IF(OR('Source data'!BB8="",'Source data'!BB8=0,'Source data'!BC8=""),"",'Source data'!BC8/'Source data'!BB8-1) -> -0.1835443 | H9: =IF(OR('Source data'!BC8="",'Source data'!BC8=0,'Source data'!BD8=""),"",'Source data'!BD8/'Source data'!BC8-1) -> 5.0426357 | I9: =IF(OR('Source data'!BD8="",'Source data'!BD8=0,'Source data'!BE8=""),"",'Source data'!BE8/'Source data'!BD8-1) -> -0.72674792 | ... L9: =IF(OR('Source data'!BG8="",'Source data'!BG8=0,'Source data'!BH8=""),"",'Source data'!BH8/'Source data'!BG8-1)
A10: United Kingdom and Overseas Territories | B10: =IF(OR('Source data'!AW9="",'Source data'!AW9=0,'Source data'!AX9=""),"",'Source data'!AX9/'Source data'!AW9-1) -> -0.015873016 | C10: =IF(OR('Source data'!AX9="",'Source data'!AX9=0,'Source data'!AY9=""),"",'Source data'!AY9/'Source data'!AX9-1) -> 0.17741935 | D10: =IF(OR('Source data'!AY9="",'Source data'!AY9=0,'Source data'!AZ9=""),"",'Source data'!AZ9/'Source data'!AY9-1) -> 2.6849315 | E10: =IF(OR('Source data'!AZ9="",'Source data'!AZ9=0,'Source data'!BA9=""),"",'Source data'!BA9/'Source data'!AZ9-1) -> -0.92193309 | F10: =IF(OR('Source data'!BA9="",'Source data'!BA9=0,'Source data'!BB9=""),"",'Source data'!BB9/'Source data'!BA9-1) -> 1.7142857 | G10: =IF(OR('Source data'!BB9="",'Source data'!BB9=0,'Source data'!BC9=""),"",'Source data'!BC9/'Source data'!BB9-1) -> 1.8157895 | H10: =IF(OR('Source data'!BC9="",'Source data'!BC9=0,'Source data'!BD9=""),"",'Source data'!BD9/'Source data'!BC9-1) -> 1.5669782 | I10: =IF(OR('Source data'!BD9="",'Source data'!BD9=0,'Source data'!BE9=""),"",'Source data'!BE9/'Source data'!BD9-1) -> -0.73665049 | ... L10: =IF(OR('Source data'!BG9="",'Source data'!BG9=0,'Source data'!BH9=""),"",'Source data'!BH9/'Source data'!BG9-1)
A11: Brazil | B11: =IF(OR('Source data'!AW10="",'Source data'!AW10=0,'Source data'!AX10=""),"",'Source data'!AX10/'Source data'!AW10-1) -> 0.26785714 | C11: =IF(OR('Source data'!AX10="",'Source data'!AX10=0,'Source data'!AY10=""),"",'Source data'!AY10/'Source data'!AX10-1) -> 0.21126761 | D11: =IF(OR('Source data'!AY10="",'Source data'!AY10=0,'Source data'!AZ10=""),"",'Source data'!AZ10/'Source data'!AY10-1) -> 4.1627907 | E11: =IF(OR('Source data'!AZ10="",'Source data'!AZ10=0,'Source data'!BA10=""),"",'Source data'!BA10/'Source data'!AZ10-1) -> -0.69594595 | F11: =IF(OR('Source data'!BA10="",'Source data'!BA10=0,'Source data'!BB10=""),"",'Source data'!BB10/'Source data'!BA10-1) -> 0.014814815 | G11: =IF(OR('Source data'!BB10="",'Source data'!BB10=0,'Source data'!BC10=""),"",'Source data'!BC10/'Source data'!BB10-1) -> -0.16788321 | H11: =IF(OR('Source data'!BC10="",'Source data'!BC10=0,'Source data'!BD10=""),"",'Source data'!BD10/'Source data'!BC10-1) -> 3.4473684 | I11: =IF(OR('Source data'!BD10="",'Source data'!BD10=0,'Source data'!BE10=""),"",'Source data'!BE10/'Source data'!BD10-1) -> -0.76134122 | ... L11: =IF(OR('Source data'!BG10="",'Source data'!BG10=0,'Source data'!BH10=""),"",'Source data'!BH10/'Source data'!BG10-1)
A12: Korea, Republic of | B12: =IF(OR('Source data'!AW11="",'Source data'!AW11=0,'Source data'!AX11=""),"",'Source data'!AX11/'Source data'!AW11-1) -> 0.78350515 | C12: =IF(OR('Source data'!AX11="",'Source data'!AX11=0,'Source data'!AY11=""),"",'Source data'!AY11/'Source data'!AX11-1) -> -0.32947977 | D12: =IF(OR('Source data'!AY11="",'Source data'!AY11=0,'Source data'!AZ11=""),"",'Source data'!AZ11/'Source data'!AY11-1) -> 2.5258621 | E12: =IF(OR('Source data'!AZ11="",'Source data'!AZ11=0,'Source data'!BA11=""),"",'Source data'!BA11/'Source data'!AZ11-1) -> -0.83129584 | F12: =IF(OR('Source data'!BA11="",'Source data'!BA11=0,'Source data'!BB11=""),"",'Source data'!BB11/'Source data'!BA11-1) -> 0.49275362 | G12: =IF(OR('Source data'!BB11="",'Source data'!BB11=0,'Source data'!BC11=""),"",'Source data'!BC11/'Source data'!BB11-1) -> 0.14563107 | H12: =IF(OR('Source data'!BC11="",'Source data'!BC11=0,'Source data'!BD11=""),"",'Source data'!BD11/'Source data'!BC11-1) -> 4.279661 | I12: =IF(OR('Source data'!BD11="",'Source data'!BD11=0,'Source data'!BE11=""),"",'Source data'!BE11/'Source data'!BD11-1) -> -0.62921348 | ... L12: =IF(OR('Source data'!BG11="",'Source data'!BG11=0,'Source data'!BH11=""),"",'Source data'!BH11/'Source data'!BG11-1)
A13: Japan | B13: =IF(OR('Source data'!AW12="",'Source data'!AW12=0,'Source data'!AX12=""),"",'Source data'!AX12/'Source data'!AW12-1) -> 0.23170732 | C13: =IF(OR('Source data'!AX12="",'Source data'!AX12=0,'Source data'!AY12=""),"",'Source data'!AY12/'Source data'!AX12-1) -> 0.20792079 | D13: =IF(OR('Source data'!AY12="",'Source data'!AY12=0,'Source data'!AZ12=""),"",'Source data'!AZ12/'Source data'!AY12-1) -> 1.6557377 | E13: =IF(OR('Source data'!AZ12="",'Source data'!AZ12=0,'Source data'!BA12=""),"",'Source data'!BA12/'Source data'!AZ12-1) -> -0.9537037 | F13: =IF(OR('Source data'!BA12="",'Source data'!BA12=0,'Source data'!BB12=""),"",'Source data'!BB12/'Source data'!BA12-1) -> 1.3333333 | G13: =IF(OR('Source data'!BB12="",'Source data'!BB12=0,'Source data'!BC12=""),"",'Source data'!BC12/'Source data'!BB12-1) -> 2.2285714 | H13: =IF(OR('Source data'!BC12="",'Source data'!BC12=0,'Source data'!BD12=""),"",'Source data'!BD12/'Source data'!BC12-1) -> 3.8584071 | I13: =IF(OR('Source data'!BD12="",'Source data'!BD12=0,'Source data'!BE12=""),"",'Source data'!BE12/'Source data'!BD12-1) -> -0.73406193 | ... L13: =IF(OR('Source data'!BG12="",'Source data'!BG12=0,'Source data'!BH12=""),"",'Source data'!BH12/'Source data'!BG12-1)
A14: Philippines | B14: =IF(OR('Source data'!AW13="",'Source data'!AW13=0,'Source data'!AX13=""),"",'Source data'!AX13/'Source data'!AW13-1) -> 0.17708333 | C14: =IF(OR('Source data'!AX13="",'Source data'!AX13=0,'Source data'!AY13=""),"",'Source data'!AY13/'Source data'!AX13-1) -> -0.49557522 | D14: =IF(OR('Source data'!AY13="",'Source data'!AY13=0,'Source data'!AZ13=""),"",'Source data'!AZ13/'Source data'!AY13-1) -> 1.8157895 | E14: =IF(OR('Source data'!AZ13="",'Source data'!AZ13=0,'Source data'!BA13=""),"",'Source data'!BA13/'Source data'!AZ13-1) -> -0.73208723 | F14: =IF(OR('Source data'!BA13="",'Source data'!BA13=0,'Source data'!BB13=""),"",'Source data'!BB13/'Source data'!BA13-1) -> 1.1976744 | G14: =IF(OR('Source data'!BB13="",'Source data'!BB13=0,'Source data'!BC13=""),"",'Source data'!BC13/'Source data'!BB13-1) -> -0.095238095 | H14: =IF(OR('Source data'!BC13="",'Source data'!BC13=0,'Source data'!BD13=""),"",'Source data'!BD13/'Source data'!BC13-1) -> 9.5438596 | I14: =IF(OR('Source data'!BD13="",'Source data'!BD13=0,'Source data'!BE13=""),"",'Source data'!BE13/'Source data'!BD13-1) -> -0.64891847 | ... L14: =IF(OR('Source data'!BG13="",'Source data'!BG13=0,'Source data'!BH13=""),"",'Source data'!BH13/'Source data'!BG13-1)
