Workbook

Sheet Quarterly
A1: Quarterly work permit holders by country
A2: Quarter totals; countries are ranked by reported 2018 annual total, highest to lowest.
A4: Country | B4: 2015 Q1 | C4: 2015 Q2 | D4: 2015 Q3 | E4: 2015 Q4 | F4: 2016 Q1 | G4: 2016 Q2 | H4: 2016 Q3 | I4: 2016 Q4 | J4: 2017 Q1 | K4: 2017 Q2 | L4: 2017 Q3 | M4: 2017 Q4 | N4: 2018 Q1 | O4: 2018 Q2 | P4: 2018 Q3 | Q4: 2018 Q4 | R4: 2019 Q1 | S4: 2019 Q2 | T4: 2019 Q3 | U4: 2019 Q4 | V4: 2020 Q1 | W4: 2020 Q2 | X4: 2020 Q3 | Y4: 2020 Q4 | Z4: 2021 Q1 | AA4: 2021 Q2 | AB4: 2021 Q3 | AC4: 2021 Q4 | AD4: 2022 Q1 | AE4: 2022 Q2 | AF4: 2022 Q3 | AG4: 2022 Q4 | AH4: 2023 Q1 | AI4: 2023 Q2 | AJ4: 2023 Q3 | AK4: 2023 Q4 | AL4: 2024 Q1 | AM4: 2024 Q2 | AN4: 2024 Q3 | AO4: 2024 Q4 | AP4: 2025 Q1 | AQ4: 2025 Q2 | AR4: 2025 Q3 | AS4: 2025 Q4 | AT4: 2026 Q1 | AU4: 2026 Q2 | AV4: 2026 Q3
A5: Canada total | B5: ='Source data'!B4 -> 13815 | C5: ='Source data'!C4 -> 16080 | D5: ='Source data'!D4 -> 21590 | E5: ='Source data'!E4 -> 180485 | F5: ='Source data'!F4 -> 20940 | G5: ='Source data'!G4 -> 21020 | H5: ='Source data'!H4 -> 18745 | I5: ='Source data'!I4 -> 15665 | ... AV5: ='Source data'!AV4 -> 0
A6: India | B6: ='Source data'!B5 -> 1775 | C6: ='Source data'!C5 -> 1270 | D6: ='Source data'!D5 -> 2995 | E6: ='Source data'!E5 -> 21540 | F6: ='Source data'!F5 -> 2660 | G6: ='Source data'!G5 -> 3080 | H6: ='Source data'!H5 -> 3475 | I6: ='Source data'!I5 -> 1925 | ... AV6: ='Source data'!AV5 -> 0
A7: France | B7: ='Source data'!B6 -> 2105 | C7: ='Source data'!C6 -> 1775 | D7: ='Source data'!D6 -> 1605 | E7: ='Source data'!E6 -> 17870 | F7: ='Source data'!F6 -> 2005 | G7: ='Source data'!G6 -> 1905 | H7: ='Source data'!H6 -> 970 | I7: ='Source data'!I6 -> 1760 | ... AV7: ='Source data'!AV6 -> 0
A8: United States of America | B8: ='Source data'!B7 -> 1810 | C8: ='Source data'!C7 -> 2355 | D8: ='Source data'!D7 -> 2395 | E8: ='Source data'!E7 -> 24530 | F8: ='Source data'!F7 -> 3140 | G8: ='Source data'!G7 -> 2935 | H8: ='Source data'!H7 -> 2025 | I8: ='Source data'!I7 -> 2360 | ... AV8: ='Source data'!AV7 -> 0
A9: China, People's Republic of | B9: ='Source data'!B8 -> 890 | C9: ='Source data'!C8 -> 915 | D9: ='Source data'!D8 -> 2030 | E9: ='Source data'!E8 -> 15565 | F9: ='Source data'!F8 -> 1800 | G9: ='Source data'!G8 -> 1870 | H9: ='Source data'!H8 -> 1790 | I9: ='Source data'!I8 -> 1125 | ... AV9: ='Source data'!AV8 -> 0
A10: United Kingdom and Overseas Territories | B10: ='Source data'!B9 -> 580 | C10: ='Source data'!C9 -> 835 | D10: ='Source data'!D9 -> 1105 | E10: ='Source data'!E9 -> 8690 | F10: ='Source data'!F9 -> 1000 | G10: ='Source data'!G9 -> 845 | H10: ='Source data'!H9 -> 1090 | I10: ='Source data'!I9 -> 845 | ... AV10: ='Source data'!AV9 -> 0
A11: Brazil | B11: ='Source data'!B10 -> 200 | C11: ='Source data'!C10 -> 205 | D11: ='Source data'!D10 -> 275 | E11: ='Source data'!E10 -> 2740 | F11: ='Source data'!F10 -> 305 | G11: ='Source data'!G10 -> 650 | H11: ='Source data'!H10 -> 380 | I11: ='Source data'!I10 -> 365 | ... AV11: ='Source data'!AV10 -> 0
A12: Korea, Republic of | B12: ='Source data'!B11 -> 480 | C12: ='Source data'!C11 -> 740 | D12: ='Source data'!D11 -> 940 | E12: ='Source data'!E11 -> 7715 | F12: ='Source data'!F11 -> 590 | G12: ='Source data'!G11 -> 830 | H12: ='Source data'!H11 -> 700 | I12: ='Source data'!I11 -> 580 | ... AV12: ='Source data'!AV11 -> 0
A13: Japan | B13: ='Source data'!B12 -> 455 | C13: ='Source data'!C12 -> 945 | D13: ='Source data'!D12 -> 925 | E13: ='Source data'!E12 -> 6775 | F13: ='Source data'!F12 -> 715 | G13: ='Source data'!G12 -> 580 | H13: ='Source data'!H12 -> 455 | I13: ='Source data'!I12 -> 395 | ... AV13: ='Source data'!AV12 -> 0
A14: Philippines | B14: ='Source data'!B13 -> 1005 | C14: ='Source data'!C13 -> 955 | D14: ='Source data'!D13 -> 1270 | E14: ='Source data'!E13 -> 11550 | F14: ='Source data'!F13 -> 935 | G14: ='Source data'!G13 -> 790 | H14: ='Source data'!H13 -> 745 | I14: ='Source data'!I13 -> 780 | ... AV14: ='Source data'!AV13 -> 0
A15: Australia | B15: ='Source data'!B14 -> 580 | C15: ='Source data'!C14 -> 750 | D15: ='Source data'!D14 -> 1570 | E15: ='Source data'!E14 -> 9420 | F15: ='Source data'!F14 -> 905 | G15: ='Source data'!G14 -> 735 | H15: ='Source data'!H14 -> 1840 | I15: ='Source data'!I14 -> 825 | ... AV15: ='Source data'!AV14 -> 0
A16: Germany | B16: ='Source data'!B15 -> 315 | C16: ='Source data'!C15 -> 960 | D16: ='Source data'!D15 -> 625 | E16: ='Source data'!E15 -> 5540 | F16: ='Source data'!F15 -> 535 | G16: ='Source data'!G15 -> 975 | H16: ='Source data'!H15 -> 415 | I16: ='Source data'!I15 -> 465 | ... AV16: ='Source data'!AV15 -> 0
... A221: Virgin Islands, British | B221: ='Source data'!B220 -> 0 | C221: ='Source data'!C220 -> 0 | D221: ='Source data'!D220 -> 0 | E221: ='Source data'!E220 -> 0 | F221: ='Source data'!F220 -> 0 | G221: ='Source data'!G220 -> 0 | H221: ='Source data'!H220 -> 0 | I221: ='Source data'!I220 -> 0 | ... AV221: ='Source data'!AV220 -> 0

Sheet Top 25
A1: Top 25 countries by 2018 total
A2: Quarter totals; countries are ranked by reported 2018 annual total, highest to lowest.
A4: Country | B4: 2015 Q1 | C4: 2015 Q2 | D4: 2015 Q3 | E4: 2015 Q4 | F4: 2016 Q1 | G4: 2016 Q2 | H4: 2016 Q3 | I4: 2016 Q4 | J4: 2017 Q1 | K4: 2017 Q2 | L4: 2017 Q3 | M4: 2017 Q4 | N4: 2018 Q1 | O4: 2018 Q2 | P4: 2018 Q3 | Q4: 2018 Q4 | R4: 2019 Q1 | S4: 2019 Q2 | T4: 2019 Q3 | U4: 2019 Q4 | V4: 2020 Q1 | W4: 2020 Q2 | X4: 2020 Q3 | Y4: 2020 Q4 | Z4: 2021 Q1 | AA4: 2021 Q2 | AB4: 2021 Q3 | AC4: 2021 Q4 | AD4: 2022 Q1 | AE4: 2022 Q2 | AF4: 2022 Q3 | AG4: 2022 Q4 | AH4: 2023 Q1 | AI4: 2023 Q2 | AJ4: 2023 Q3 | AK4: 2023 Q4 | AL4: 2024 Q1 | AM4: 2024 Q2 | AN4: 2024 Q3 | AO4: 2024 Q4 | AP4: 2025 Q1 | AQ4: 2025 Q2 | AR4: 2025 Q3 | AS4: 2025 Q4 | AT4: 2026 Q1 | AU4: 2026 Q2 | AV4: 2026 Q3
A5: Canada total | B5: ='Source data'!B4 -> 13815 | C5: ='Source data'!C4 -> 16080 | D5: ='Source data'!D4 -> 21590 | E5: ='Source data'!E4 -> 180485 | F5: ='Source data'!F4 -> 20940 | G5: ='Source data'!G4 -> 21020 | H5: ='Source data'!H4 -> 18745 | I5: ='Source data'!I4 -> 15665 | ... AV5: ='Source data'!AV4 -> 0
A6: India | B6: ='Source data'!B5 -> 1775 | C6: ='Source data'!C5 -> 1270 | D6: ='Source data'!D5 -> 2995 | E6: ='Source data'!E5 -> 21540 | F6: ='Source data'!F5 -> 2660 | G6: ='Source data'!G5 -> 3080 | H6: ='Source data'!H5 -> 3475 | I6: ='Source data'!I5 -> 1925 | ... AV6: ='Source data'!AV5 -> 0
A7: France | B7: ='Source data'!B6 -> 2105 | C7: ='Source data'!C6 -> 1775 | D7: ='Source data'!D6 -> 1605 | E7: ='Source data'!E6 -> 17870 | F7: ='Source data'!F6 -> 2005 | G7: ='Source data'!G6 -> 1905 | H7: ='Source data'!H6 -> 970 | I7: ='Source data'!I6 -> 1760 | ... AV7: ='Source data'!AV6 -> 0
A8: United States of America | B8: ='Source data'!B7 -> 1810 | C8: ='Source data'!C7 -> 2355 | D8: ='Source data'!D7 -> 2395 | E8: ='Source data'!E7 -> 24530 | F8: ='Source data'!F7 -> 3140 | G8: ='Source data'!G7 -> 2935 | H8: ='Source data'!H7 -> 2025 | I8: ='Source data'!I7 -> 2360 | ... AV8: ='Source data'!AV7 -> 0
A9: China, People's Republic of | B9: ='Source data'!B8 -> 890 | C9: ='Source data'!C8 -> 915 | D9: ='Source data'!D8 -> 2030 | E9: ='Source data'!E8 -> 15565 | F9: ='Source data'!F8 -> 1800 | G9: ='Source data'!G8 -> 1870 | H9: ='Source data'!H8 -> 1790 | I9: ='Source data'!I8 -> 1125 | ... AV9: ='Source data'!AV8 -> 0
A10: United Kingdom and Overseas Territories | B10: ='Source data'!B9 -> 580 | C10: ='Source data'!C9 -> 835 | D10: ='Source data'!D9 -> 1105 | E10: ='Source data'!E9 -> 8690 | F10: ='Source data'!F9 -> 1000 | G10: ='Source data'!G9 -> 845 | H10: ='Source data'!H9 -> 1090 | I10: ='Source data'!I9 -> 845 | ... AV10: ='Source data'!AV9 -> 0
A11: Brazil | B11: ='Source data'!B10 -> 200 | C11: ='Source data'!C10 -> 205 | D11: ='Source data'!D10 -> 275 | E11: ='Source data'!E10 -> 2740 | F11: ='Source data'!F10 -> 305 | G11: ='Source data'!G10 -> 650 | H11: ='Source data'!H10 -> 380 | I11: ='Source data'!I10 -> 365 | ... AV11: ='Source data'!AV10 -> 0
A12: Korea, Republic of | B12: ='Source data'!B11 -> 480 | C12: ='Source data'!C11 -> 740 | D12: ='Source data'!D11 -> 940 | E12: ='Source data'!E11 -> 7715 | F12: ='Source data'!F11 -> 590 | G12: ='Source data'!G11 -> 830 | H12: ='Source data'!H11 -> 700 | I12: ='Source data'!I11 -> 580 | ... AV12: ='Source data'!AV11 -> 0
A13: Japan | B13: ='Source data'!B12 -> 455 | C13: ='Source data'!C12 -> 945 | D13: ='Source data'!D12 -> 925 | E13: ='Source data'!E12 -> 6775 | F13: ='Source data'!F12 -> 715 | G13: ='Source data'!G12 -> 580 | H13: ='Source data'!H12 -> 455 | I13: ='Source data'!I12 -> 395 | ... AV13: ='Source data'!AV12 -> 0
A14: Philippines | B14: ='Source data'!B13 -> 1005 | C14: ='Source data'!C13 -> 955 | D14: ='Source data'!D13 -> 1270 | E14: ='Source data'!E13 -> 11550 | F14: ='Source data'!F13 -> 935 | G14: ='Source data'!G13 -> 790 | H14: ='Source data'!H13 -> 745 | I14: ='Source data'!I13 -> 780 | ... AV14: ='Source data'!AV13 -> 0
A15: Australia | B15: ='Source data'!B14 -> 580 | C15: ='Source data'!C14 -> 750 | D15: ='Source data'!D14 -> 1570 | E15: ='Source data'!E14 -> 9420 | F15: ='Source data'!F14 -> 905 | G15: ='Source data'!G14 -> 735 | H15: ='Source data'!H14 -> 1840 | I15: ='Source data'!I14 -> 825 | ... AV15: ='Source data'!AV14 -> 0
A16: Germany | B16: ='Source data'!B15 -> 315 | C16: ='Source data'!C15 -> 960 | D16: ='Source data'!D15 -> 625 | E16: ='Source data'!E15 -> 5540 | F16: ='Source data'!F15 -> 535 | G16: ='Source data'!G15 -> 975 | H16: ='Source data'!H15 -> 415 | I16: ='Source data'!I15 -> 465 | ... AV16: ='Source data'!AV15 -> 0
... A30: Czech Republic | B30: ='Source data'!B29 -> 60 | C30: ='Source data'!C29 -> 150 | D30: ='Source data'!D29 -> 170 | E30: ='Source data'!E29 -> 1050 | F30: ='Source data'!F29 -> 150 | G30: ='Source data'!G29 -> 85 | H30: ='Source data'!H29 -> 105 | I30: ='Source data'!I29 -> 70 | ... AV30: ='Source data'!AV29 -> 0

Sheet Quarterly YoY
A1: Top 25 quarterly year-over-year change
A2: Quarter-over-quarter year comparison: same quarter versus one year earlier.
A4: Country | B4: 2016 Q1 | C4: 2016 Q2 | D4: 2016 Q3 | E4: 2016 Q4 | F4: 2017 Q1 | G4: 2017 Q2 | H4: 2017 Q3 | I4: 2017 Q4 | J4: 2018 Q1 | K4: 2018 Q2 | L4: 2018 Q3 | M4: 2018 Q4 | N4: 2019 Q1 | O4: 2019 Q2 | P4: 2019 Q3 | Q4: 2019 Q4 | R4: 2020 Q1 | S4: 2020 Q2 | T4: 2020 Q3 | U4: 2020 Q4 | V4: 2021 Q1 | W4: 2021 Q2 | X4: 2021 Q3 | Y4: 2021 Q4 | Z4: 2022 Q1 | AA4: 2022 Q2 | AB4: 2022 Q3 | AC4: 2022 Q4 | AD4: 2023 Q1 | AE4: 2023 Q2 | AF4: 2023 Q3 | AG4: 2023 Q4 | AH4: 2024 Q1 | AI4: 2024 Q2 | AJ4: 2024 Q3 | AK4: 2024 Q4 | AL4: 2025 Q1 | AM4: 2025 Q2 | AN4: 2025 Q3 | AO4: 2025 Q4 | AP4: 2026 Q1 | AQ4: 2026 Q2 | AR4: 2026 Q3
A5: Canada total | B5: =IF(OR('Source data'!B4="",'Source data'!B4=0,'Source data'!F4=""),"",'Source data'!F4/'Source data'!B4-1) -> 0.51574376 | C5: =IF(OR('Source data'!C4="",'Source data'!C4=0,'Source data'!G4=""),"",'Source data'!G4/'Source data'!C4-1) -> 0.30721393 | D5: =IF(OR('Source data'!D4="",'Source data'!D4=0,'Source data'!H4=""),"",'Source data'!H4/'Source data'!D4-1) -> -0.13177397 | E5: =IF(OR('Source data'!E4="",'Source data'!E4=0,'Source data'!I4=""),"",'Source data'!I4/'Source data'!E4-1) -> -0.91320608 | F5: =IF(OR('Source data'!F4="",'Source data'!F4=0,'Source data'!J4=""),"",'Source data'!J4/'Source data'!F4-1) -> 0.20582617 | G5: =IF(OR('Source data'!G4="",'Source data'!G4=0,'Source data'!K4=""),"",'Source data'!K4/'Source data'!G4-1) -> 0.16627022 | H5: =IF(OR('Source data'!H4="",'Source data'!H4=0,'Source data'!L4=""),"",'Source data'!L4/'Source data'!H4-1) -> -0.13736997 | I5: =IF(OR('Source data'!I4="",'Source data'!I4=0,'Source data'!M4=""),"",'Source data'!M4/'Source data'!I4-1) -> 0.30003192 | ... AR5: =IF(OR('Source data'!AR4="",'Source data'!AR4=0,'Source data'!AV4=""),"",'Source data'!AV4/'Source data'!AR4-1)
A6: India | B6: =IF(OR('Source data'!B5="",'Source data'!B5=0,'Source data'!F5=""),"",'Source data'!F5/'Source data'!B5-1) -> 0.49859155 | C6: =IF(OR('Source data'!C5="",'Source data'!C5=0,'Source data'!G5=""),"",'Source data'!G5/'Source data'!C5-1) -> 1.4251969 | D6: =IF(OR('Source data'!D5="",'Source data'!D5=0,'Source data'!H5=""),"",'Source data'!H5/'Source data'!D5-1) -> 0.16026711 | E6: =IF(OR('Source data'!E5="",'Source data'!E5=0,'Source data'!I5=""),"",'Source data'!I5/'Source data'!E5-1) -> -0.91063138 | F6: =IF(OR('Source data'!F5="",'Source data'!F5=0,'Source data'!J5=""),"",'Source data'!J5/'Source data'!F5-1) -> 0.15601504 | G6: =IF(OR('Source data'!G5="",'Source data'!G5=0,'Source data'!K5=""),"",'Source data'!K5/'Source data'!G5-1) -> 0.50162338 | H6: =IF(OR('Source data'!H5="",'Source data'!H5=0,'Source data'!L5=""),"",'Source data'!L5/'Source data'!H5-1) -> -0.094964029 | I6: =IF(OR('Source data'!I5="",'Source data'!I5=0,'Source data'!M5=""),"",'Source data'!M5/'Source data'!I5-1) -> 1.1090909 | ... AR6: =IF(OR('Source data'!AR5="",'Source data'!AR5=0,'Source data'!AV5=""),"",'Source data'!AV5/'Source data'!AR5-1)
A7: France | B7: =IF(OR('Source data'!B6="",'Source data'!B6=0,'Source data'!F6=""),"",'Source data'!F6/'Source data'!B6-1) -> -0.047505938 | C7: =IF(OR('Source data'!C6="",'Source data'!C6=0,'Source data'!G6=""),"",'Source data'!G6/'Source data'!C6-1) -> 0.073239437 | D7: =IF(OR('Source data'!D6="",'Source data'!D6=0,'Source data'!H6=""),"",'Source data'!H6/'Source data'!D6-1) -> -0.39563863 | E7: =IF(OR('Source data'!E6="",'Source data'!E6=0,'Source data'!I6=""),"",'Source data'!I6/'Source data'!E6-1) -> -0.90151091 | F7: =IF(OR('Source data'!F6="",'Source data'!F6=0,'Source data'!J6=""),"",'Source data'!J6/'Source data'!F6-1) -> 0.39401496 | G7: =IF(OR('Source data'!G6="",'Source data'!G6=0,'Source data'!K6=""),"",'Source data'!K6/'Source data'!G6-1) -> 0.25459318 | H7: =IF(OR('Source data'!H6="",'Source data'!H6=0,'Source data'!L6=""),"",'Source data'!L6/'Source data'!H6-1) -> 0.36597938 | I7: =IF(OR('Source data'!I6="",'Source data'!I6=0,'Source data'!M6=""),"",'Source data'!M6/'Source data'!I6-1) -> 0.21590909 | ... AR7: =IF(OR('Source data'!AR6="",'Source data'!AR6=0,'Source data'!AV6=""),"",'Source data'!AV6/'Source data'!AR6-1)
A8: United States of America | B8: =IF(OR('Source data'!B7="",'Source data'!B7=0,'Source data'!F7=""),"",'Source data'!F7/'Source data'!B7-1) -> 0.73480663 | C8: =IF(OR('Source data'!C7="",'Source data'!C7=0,'Source data'!G7=""),"",'Source data'!G7/'Source data'!C7-1) -> 0.2462845 | D8: =IF(OR('Source data'!D7="",'Source data'!D7=0,'Source data'!H7=""),"",'Source data'!H7/'Source data'!D7-1) -> -0.15448852 | E8: =IF(OR('Source data'!E7="",'Source data'!E7=0,'Source data'!I7=""),"",'Source data'!I7/'Source data'!E7-1) -> -0.90379128 | F8: =IF(OR('Source data'!F7="",'Source data'!F7=0,'Source data'!J7=""),"",'Source data'!J7/'Source data'!F7-1) -> 0.073248408 | G8: =IF(OR('Source data'!G7="",'Source data'!G7=0,'Source data'!K7=""),"",'Source data'!K7/'Source data'!G7-1) -> -0.078364566 | H8: =IF(OR('Source data'!H7="",'Source data'!H7=0,'Source data'!L7=""),"",'Source data'!L7/'Source data'!H7-1) -> -0.24197531 | I8: =IF(OR('Source data'!I7="",'Source data'!I7=0,'Source data'!M7=""),"",'Source data'!M7/'Source data'!I7-1) -> -0.25423729 | ... AR8: =IF(OR('Source data'!AR7="",'Source data'!AR7=0,'Source data'!AV7=""),"",'Source data'!AV7/'Source data'!AR7-1)
A9: China, People's Republic of | B9: =IF(OR('Source data'!B8="",'Source data'!B8=0,'Source data'!F8=""),"",'Source data'!F8/'Source data'!B8-1) -> 1.0224719 | C9: =IF(OR('Source data'!C8="",'Source data'!C8=0,'Source data'!G8=""),"",'Source data'!G8/'Source data'!C8-1) -> 1.0437158 | D9: =IF(OR('Source data'!D8="",'Source data'!D8=0,'Source data'!H8=""),"",'Source data'!H8/'Source data'!D8-1) -> -0.1182266 | E9: =IF(OR('Source data'!E8="",'Source data'!E8=0,'Source data'!I8=""),"",'Source data'!I8/'Source data'!E8-1) -> -0.92772245 | F9: =IF(OR('Source data'!F8="",'Source data'!F8=0,'Source data'!J8=""),"",'Source data'!J8/'Source data'!F8-1) -> 0.26111111 | G9: =IF(OR('Source data'!G8="",'Source data'!G8=0,'Source data'!K8=""),"",'Source data'!K8/'Source data'!G8-1) -> 0.42780749 | H9: =IF(OR('Source data'!H8="",'Source data'!H8=0,'Source data'!L8=""),"",'Source data'!L8/'Source data'!H8-1) -> -0.15921788 | I9: =IF(OR('Source data'!I8="",'Source data'!I8=0,'Source data'!M8=""),"",'Source data'!M8/'Source data'!I8-1) -> 0.91111111 | ... AR9: =IF(OR('Source data'!AR8="",'Source data'!AR8=0,'Source data'!AV8=""),"",'Source data'!AV8/'Source data'!AR8-1)
A10: United Kingdom and Overseas Territories | B10: =IF(OR('Source data'!B9="",'Source data'!B9=0,'Source data'!F9=""),"",'Source data'!F9/'Source data'!B9-1) -> 0.72413793 | C10: =IF(OR('Source data'!C9="",'Source data'!C9=0,'Source data'!G9=""),"",'Source data'!G9/'Source data'!C9-1) -> 0.011976048 | D10: =IF(OR('Source data'!D9="",'Source data'!D9=0,'Source data'!H9=""),"",'Source data'!H9/'Source data'!D9-1) -> -0.013574661 | E10: =IF(OR('Source data'!E9="",'Source data'!E9=0,'Source data'!I9=""),"",'Source data'!I9/'Source data'!E9-1) -> -0.9027618 | F10: =IF(OR('Source data'!F9="",'Source data'!F9=0,'Source data'!J9=""),"",'Source data'!J9/'Source data'!F9-1) -> 0.505 | G10: =IF(OR('Source data'!G9="",'Source data'!G9=0,'Source data'!K9=""),"",'Source data'!K9/'Source data'!G9-1) -> 0.10650888 | H10: =IF(OR('Source data'!H9="",'Source data'!H9=0,'Source data'!L9=""),"",'Source data'!L9/'Source data'!H9-1) -> -0.4266055 | I10: =IF(OR('Source data'!I9="",'Source data'!I9=0,'Source data'!M9=""),"",'Source data'!M9/'Source data'!I9-1) -> 0.082840237 | ... AR10: =IF(OR('Source data'!AR9="",'Source data'!AR9=0,'Source data'!AV9=""),"",'Source data'!AV9/'Source data'!AR9-1)
A11: Brazil | B11: =IF(OR('Source data'!B10="",'Source data'!B10=0,'Source data'!F10=""),"",'Source data'!F10/'Source data'!B10-1) -> 0.525 | C11: =IF(OR('Source data'!C10="",'Source data'!C10=0,'Source data'!G10=""),"",'Source data'!G10/'Source data'!C10-1) -> 2.1707317 | D11: =IF(OR('Source data'!D10="",'Source data'!D10=0,'Source data'!H10=""),"",'Source data'!H10/'Source data'!D10-1) -> 0.38181818 | E11: =IF(OR('Source data'!E10="",'Source data'!E10=0,'Source data'!I10=""),"",'Source data'!I10/'Source data'!E10-1) -> -0.86678832 | F11: =IF(OR('Source data'!F10="",'Source data'!F10=0,'Source data'!J10=""),"",'Source data'!J10/'Source data'!F10-1) -> 0.67213115 | G11: =IF(OR('Source data'!G10="",'Source data'!G10=0,'Source data'!K10=""),"",'Source data'!K10/'Source data'!G10-1) -> 0.069230769 | H11: =IF(OR('Source data'!H10="",'Source data'!H10=0,'Source data'!L10=""),"",'Source data'!L10/'Source data'!H10-1) -> 0.64473684 | I11: =IF(OR('Source data'!I10="",'Source data'!I10=0,'Source data'!M10=""),"",'Source data'!M10/'Source data'!I10-1) -> 0.68493151 | ... AR11: =IF(OR('Source data'!AR10="",'Source data'!AR10=0,'Source data'!AV10=""),"",'Source data'!AV10/'Source data'!AR10-1)
A12: Korea, Republic of | B12: =IF(OR('Source data'!B11="",'Source data'!B11=0,'Source data'!F11=""),"",'Source data'!F11/'Source data'!B11-1) -> 0.22916667 | C12: =IF(OR('Source data'!C11="",'Source data'!C11=0,'Source data'!G11=""),"",'Source data'!G11/'Source data'!C11-1) -> 0.12162162 | D12: =IF(OR('Source data'!D11="",'Source data'!D11=0,'Source data'!H11=""),"",'Source data'!H11/'Source data'!D11-1) -> -0.25531915 | E12: =IF(OR('Source data'!E11="",'Source data'!E11=0,'Source data'!I11=""),"",'Source data'!I11/'Source data'!E11-1) -> -0.92482178 | F12: =IF(OR('Source data'!F11="",'Source data'!F11=0,'Source data'!J11=""),"",'Source data'!J11/'Source data'!F11-1) -> 1.1694915 | G12: =IF(OR('Source data'!G11="",'Source data'!G11=0,'Source data'!K11=""),"",'Source data'!K11/'Source data'!G11-1) -> 0.21084337 | H12: =IF(OR('Source data'!H11="",'Source data'!H11=0,'Source data'!L11=""),"",'Source data'!L11/'Source data'!H11-1) -> -0.0071428571 | I12: =IF(OR('Source data'!I11="",'Source data'!I11=0,'Source data'!M11=""),"",'Source data'!M11/'Source data'!I11-1) -> 0.37931034 | ... AR12: =IF(OR('Source data'!AR11="",'Source data'!AR11=0,'Source data'!AV11=""),"",'Source data'!AV11/'Source data'!AR11-1)
A13: Japan | B13: =IF(OR('Source data'!B12="",'Source data'!B12=0,'Source data'!F12=""),"",'Source data'!F12/'Source data'!B12-1) -> 0.57142857 | C13: =IF(OR('Source data'!C12="",'Source data'!C12=0,'Source data'!G12=""),"",'Source data'!G12/'Source data'!C12-1) -> -0.38624339 | D13: =IF(OR('Source data'!D12="",'Source data'!D12=0,'Source data'!H12=""),"",'Source data'!H12/'Source data'!D12-1) -> -0.50810811 | E13: =IF(OR('Source data'!E12="",'Source data'!E12=0,'Source data'!I12=""),"",'Source data'!I12/'Source data'!E12-1) -> -0.94169742 | F13: =IF(OR('Source data'!F12="",'Source data'!F12=0,'Source data'!J12=""),"",'Source data'!J12/'Source data'!F12-1) -> 0.06993007 | G13: =IF(OR('Source data'!G12="",'Source data'!G12=0,'Source data'!K12=""),"",'Source data'!K12/'Source data'!G12-1) -> 0.38793103 | H13: =IF(OR('Source data'!H12="",'Source data'!H12=0,'Source data'!L12=""),"",'Source data'!L12/'Source data'!H12-1) -> -0.23076923 | I13: =IF(OR('Source data'!I12="",'Source data'!I12=0,'Source data'!M12=""),"",'Source data'!M12/'Source data'!I12-1) -> 0.10126582 | ... AR13: =IF(OR('Source data'!AR12="",'Source data'!AR12=0,'Source data'!AV12=""),"",'Source data'!AV12/'Source data'!AR12-1)
A14: Philippines | B14: =IF(OR('Source data'!B13="",'Source data'!B13=0,'Source data'!F13=""),"",'Source data'!F13/'Source data'!B13-1) -> -0.069651741 | C14: =IF(OR('Source data'!C13="",'Source data'!C13=0,'Source data'!G13=""),"",'Source data'!G13/'Source data'!C13-1) -> -0.17277487 | D14: =IF(OR('Source data'!D13="",'Source data'!D13=0,'Source data'!H13=""),"",'Source data'!H13/'Source data'!D13-1) -> -0.41338583 | E14: =IF(OR('Source data'!E13="",'Source data'!E13=0,'Source data'!I13=""),"",'Source data'!I13/'Source data'!E13-1) -> -0.93246753 | F14: =IF(OR('Source data'!F13="",'Source data'!F13=0,'Source data'!J13=""),"",'Source data'!J13/'Source data'!F13-1) -> -0.2513369 | G14: =IF(OR('Source data'!G13="",'Source data'!G13=0,'Source data'!K13=""),"",'Source data'!K13/'Source data'!G13-1) -> -0.050632911 | H14: =IF(OR('Source data'!H13="",'Source data'!H13=0,'Source data'!L13=""),"",'Source data'!L13/'Source data'!H13-1) -> -0.046979866 | I14: =IF(OR('Source data'!I13="",'Source data'!I13=0,'Source data'!M13=""),"",'Source data'!M13/'Source data'!I13-1) -> 0.0064102564 | ... AR14: =IF(OR('Source data'!AR13="",'Source data'!AR13=0,'Source data'!AV13=""),"",'Source data'!AV13/'Source data'!AR13-1)
A15: Australia | B15: =IF(OR('Source data'!B14="",'Source data'!B14=0,'Source data'!F14=""),"",'Source data'!F14/'Source data'!B14-1) -> 0.56034483 | C15: =IF(OR('Source data'!C14="",'Source data'!C14=0,'Source data'!G14=""),"",'Source data'!G14/'Source data'!C14-1) -> -0.02 | D15: =IF(OR('Source data'!D14="",'Source data'!D14=0,'Source data'!H14=""),"",'Source data'!H14/'Source data'!D14-1) -> 0.17197452 | E15: =IF(OR('Source data'!E14="",'Source data'!E14=0,'Source data'!I14=""),"",'Source data'!I14/'Source data'!E14-1) -> -0.91242038 | F15: =IF(OR('Source data'!F14="",'Source data'!F14=0,'Source data'!J14=""),"",'Source data'!J14/'Source data'!F14-1) -> -0.066298343 | G15: =IF(OR('Source data'!G14="",'Source data'!G14=0,'Source data'!K14=""),"",'Source data'!K14/'Source data'!G14-1) -> -0.1292517 | H15: =IF(OR('Source data'!H14="",'Source data'!H14=0,'Source data'!L14=""),"",'Source data'!L14/'Source data'!H14-1) -> -0.66576087 | I15: =IF(OR('Source data'!I14="",'Source data'!I14=0,'Source data'!M14=""),"",'Source data'!M14/'Source data'!I14-1) -> -0.36969697 | ... AR15: =IF(OR('Source data'!AR14="",'Source data'!AR14=0,'Source data'!AV14=""),"",'Source data'!AV14/'Source data'!AR14-1)
A16: Germany | B16: =IF(OR('Source data'!B15="",'Source data'!B15=0,'Source data'!F15=""),"",'Source data'!F15/'Source data'!B15-1) -> 0.6984127 | C16: =IF(OR('Source data'!C15="",'Source data'!C15=0,'Source data'!G15=""),"",'Source data'!G15/'Source data'!C15-1) -> 0.015625 | D16: =IF(OR('Source data'!D15="",'Source data'!D15=0,'Source data'!H15=""),"",'Source data'!H15/'Source data'!D15-1) -> -0.336 | E16: =IF(OR('Source data'!E15="",'Source data'!E15=0,'Source data'!I15=""),"",'Source data'!I15/'Source data'!E15-1) -> -0.91606498 | F16: =IF(OR('Source data'!F15="",'Source data'!F15=0,'Source data'!J15=""),"",'Source data'!J15/'Source data'!F15-1) -> 0.028037383 | G16: =IF(OR('Source data'!G15="",'Source data'!G15=0,'Source data'!K15=""),"",'Source data'!K15/'Source data'!G15-1) -> -0.041025641 | H16: =IF(OR('Source data'!H15="",'Source data'!H15=0,'Source data'!L15=""),"",'Source data'!L15/'Source data'!H15-1) -> -0.27710843 | I16: =IF(OR('Source data'!I15="",'Source data'!I15=0,'Source data'!M15=""),"",'Source data'!M15/'Source data'!I15-1) -> 0.16129032 | ... AR16: =IF(OR('Source data'!AR15="",'Source data'!AR15=0,'Source data'!AV15=""),"",'Source data'!AV15/'Source data'!AR15-1)
... A30: Czech Republic | B30: =IF(OR('Source data'!B29="",'Source data'!B29=0,'Source data'!F29=""),"",'Source data'!F29/'Source data'!B29-1) -> 1.5 | C30: =IF(OR('Source data'!C29="",'Source data'!C29=0,'Source data'!G29=""),"",'Source data'!G29/'Source data'!C29-1) -> -0.43333333 | D30: =IF(OR('Source data'!D29="",'Source data'!D29=0,'Source data'!H29=""),"",'Source data'!H29/'Source data'!D29-1) -> -0.38235294 | E30: =IF(OR('Source data'!E29="",'Source data'!E29=0,'Source data'!I29=""),"",'Source data'!I29/'Source data'!E29-1) -> -0.93333333 | F30: =IF(OR('Source data'!F29="",'Source data'!F29=0,'Source data'!J29=""),"",'Source data'!J29/'Source data'!F29-1) -> 0.56666667 | G30: =IF(OR('Source data'!G29="",'Source data'!G29=0,'Source data'!K29=""),"",'Source data'!K29/'Source data'!G29-1) -> 0.17647059 | H30: =IF(OR('Source data'!H29="",'Source data'!H29=0,'Source data'!L29=""),"",'Source data'!L29/'Source data'!H29-1) -> -0.42857143 | I30: =IF(OR('Source data'!I29="",'Source data'!I29=0,'Source data'!M29=""),"",'Source data'!M29/'Source data'!I29-1) -> 1.7857143 | ... AR30: =IF(OR('Source data'!AR29="",'Source data'!AR29=0,'Source data'!AV29=""),"",'Source data'!AV29/'Source data'!AR29-1)

Sheet Quarterly 2-year
A1: Top 25 quarterly two-year change
A2: Same-quarter comparison versus two years earlier. Changes are blank when source values are suppressed or the prior period is zero.
A4: Country | B4: 2017 Q1 | C4: 2017 Q2 | D4: 2017 Q3 | E4: 2017 Q4 | F4: 2018 Q1 | G4: 2018 Q2 | H4: 2018 Q3 | I4: 2018 Q4 | J4: 2019 Q1 | K4: 2019 Q2 | L4: 2019 Q3 | M4: 2019 Q4 | N4: 2020 Q1 | O4: 2020 Q2 | P4: 2020 Q3 | Q4: 2020 Q4 | R4: 2021 Q1 | S4: 2021 Q2 | T4: 2021 Q3 | U4: 2021 Q4 | V4: 2022 Q1 | W4: 2022 Q2 | X4: 2022 Q3 | Y4: 2022 Q4 | Z4: 2023 Q1 | AA4: 2023 Q2 | AB4: 2023 Q3 | AC4: 2023 Q4 | AD4: 2024 Q1 | AE4: 2024 Q2 | AF4: 2024 Q3 | AG4: 2024 Q4 | AH4: 2025 Q1 | AI4: 2025 Q2 | AJ4: 2025 Q3 | AK4: 2025 Q4 | AL4: 2026 Q1 | AM4: 2026 Q2 | AN4: 2026 Q3
A5: Canada total | B5: =IF(OR('Source data'!B4="",'Source data'!B4=0,'Source data'!J4=""),"",'Source data'!J4/'Source data'!B4-1) -> 0.82772349 | C5: =IF(OR('Source data'!C4="",'Source data'!C4=0,'Source data'!K4=""),"",'Source data'!K4/'Source data'!C4-1) -> 0.52456468 | D5: =IF(OR('Source data'!D4="",'Source data'!D4=0,'Source data'!L4=""),"",'Source data'!L4/'Source data'!D4-1) -> -0.25104215 | E5: =IF(OR('Source data'!E4="",'Source data'!E4=0,'Source data'!M4=""),"",'Source data'!M4/'Source data'!E4-1) -> -0.88716514 | F5: =IF(OR('Source data'!F4="",'Source data'!F4=0,'Source data'!N4=""),"",'Source data'!N4/'Source data'!F4-1) -> 2.3896848 | G5: =IF(OR('Source data'!G4="",'Source data'!G4=0,'Source data'!O4=""),"",'Source data'!O4/'Source data'!G4-1) -> 2.7823501 | H5: =IF(OR('Source data'!H4="",'Source data'!H4=0,'Source data'!P4=""),"",'Source data'!P4/'Source data'!H4-1) -> 2.3395572 | I5: =IF(OR('Source data'!I4="",'Source data'!I4=0,'Source data'!Q4=""),"",'Source data'!Q4/'Source data'!I4-1) -> 0.25821896 | ... AN5: =IF(OR('Source data'!AN4="",'Source data'!AN4=0,'Source data'!AV4=""),"",'Source data'!AV4/'Source data'!AN4-1)
A6: India | B6: =IF(OR('Source data'!B5="",'Source data'!B5=0,'Source data'!J5=""),"",'Source data'!J5/'Source data'!B5-1) -> 0.73239437 | C6: =IF(OR('Source data'!C5="",'Source data'!C5=0,'Source data'!K5=""),"",'Source data'!K5/'Source data'!C5-1) -> 2.6417323 | D6: =IF(OR('Source data'!D5="",'Source data'!D5=0,'Source data'!L5=""),"",'Source data'!L5/'Source data'!D5-1) -> 0.050083472 | E6: =IF(OR('Source data'!E5="",'Source data'!E5=0,'Source data'!M5=""),"",'Source data'!M5/'Source data'!E5-1) -> -0.81151346 | F6: =IF(OR('Source data'!F5="",'Source data'!F5=0,'Source data'!N5=""),"",'Source data'!N5/'Source data'!F5-1) -> 3.3665414 | G6: =IF(OR('Source data'!G5="",'Source data'!G5=0,'Source data'!O5=""),"",'Source data'!O5/'Source data'!G5-1) -> 5.2662338 | H6: =IF(OR('Source data'!H5="",'Source data'!H5=0,'Source data'!P5=""),"",'Source data'!P5/'Source data'!H5-1) -> 3.8647482 | I6: =IF(OR('Source data'!I5="",'Source data'!I5=0,'Source data'!Q5=""),"",'Source data'!Q5/'Source data'!I5-1) -> 1.1766234 | ... AN6: =IF(OR('Source data'!AN5="",'Source data'!AN5=0,'Source data'!AV5=""),"",'Source data'!AV5/'Source data'!AN5-1)
A7: France | B7: =IF(OR('Source data'!B6="",'Source data'!B6=0,'Source data'!J6=""),"",'Source data'!J6/'Source data'!B6-1) -> 0.32779097 | C7: =IF(OR('Source data'!C6="",'Source data'!C6=0,'Source data'!K6=""),"",'Source data'!K6/'Source data'!C6-1) -> 0.34647887 | D7: =IF(OR('Source data'!D6="",'Source data'!D6=0,'Source data'!L6=""),"",'Source data'!L6/'Source data'!D6-1) -> -0.17445483 | E7: =IF(OR('Source data'!E6="",'Source data'!E6=0,'Source data'!M6=""),"",'Source data'!M6/'Source data'!E6-1) -> -0.88024622 | F7: =IF(OR('Source data'!F6="",'Source data'!F6=0,'Source data'!N6=""),"",'Source data'!N6/'Source data'!F6-1) -> 2.8354115 | G7: =IF(OR('Source data'!G6="",'Source data'!G6=0,'Source data'!O6=""),"",'Source data'!O6/'Source data'!G6-1) -> 2.8845144 | H7: =IF(OR('Source data'!H6="",'Source data'!H6=0,'Source data'!P6=""),"",'Source data'!P6/'Source data'!H6-1) -> 3.9175258 | I7: =IF(OR('Source data'!I6="",'Source data'!I6=0,'Source data'!Q6=""),"",'Source data'!Q6/'Source data'!I6-1) -> 0.21590909 | ... AN7: =IF(OR('Source data'!AN6="",'Source data'!AN6=0,'Source data'!AV6=""),"",'Source data'!AV6/'Source data'!AN6-1)
A8: United States of America | B8: =IF(OR('Source data'!B7="",'Source data'!B7=0,'Source data'!J7=""),"",'Source data'!J7/'Source data'!B7-1) -> 0.86187845 | C8: =IF(OR('Source data'!C7="",'Source data'!C7=0,'Source data'!K7=""),"",'Source data'!K7/'Source data'!C7-1) -> 0.14861996 | D8: =IF(OR('Source data'!D7="",'Source data'!D7=0,'Source data'!L7=""),"",'Source data'!L7/'Source data'!D7-1) -> -0.35908142 | E8: =IF(OR('Source data'!E7="",'Source data'!E7=0,'Source data'!M7=""),"",'Source data'!M7/'Source data'!E7-1) -> -0.92825112 | F8: =IF(OR('Source data'!F7="",'Source data'!F7=0,'Source data'!N7=""),"",'Source data'!N7/'Source data'!F7-1) -> 1.7404459 | G8: =IF(OR('Source data'!G7="",'Source data'!G7=0,'Source data'!O7=""),"",'Source data'!O7/'Source data'!G7-1) -> 1.6678024 | H8: =IF(OR('Source data'!H7="",'Source data'!H7=0,'Source data'!P7=""),"",'Source data'!P7/'Source data'!H7-1) -> 1.6666667 | I8: =IF(OR('Source data'!I7="",'Source data'!I7=0,'Source data'!Q7=""),"",'Source data'!Q7/'Source data'!I7-1) -> -0.15677966 | ... AN8: =IF(OR('Source data'!AN7="",'Source data'!AN7=0,'Source data'!AV7=""),"",'Source data'!AV7/'Source data'!AN7-1)
A9: China, People's Republic of | B9: =IF(OR('Source data'!B8="",'Source data'!B8=0,'Source data'!J8=""),"",'Source data'!J8/'Source data'!B8-1) -> 1.5505618 | C9: =IF(OR('Source data'!C8="",'Source data'!C8=0,'Source data'!K8=""),"",'Source data'!K8/'Source data'!C8-1) -> 1.9180328 | D9: =IF(OR('Source data'!D8="",'Source data'!D8=0,'Source data'!L8=""),"",'Source data'!L8/'Source data'!D8-1) -> -0.25862069 | E9: =IF(OR('Source data'!E8="",'Source data'!E8=0,'Source data'!M8=""),"",'Source data'!M8/'Source data'!E8-1) -> -0.86186958 | F9: =IF(OR('Source data'!F8="",'Source data'!F8=0,'Source data'!N8=""),"",'Source data'!N8/'Source data'!F8-1) -> 1.925 | G9: =IF(OR('Source data'!G8="",'Source data'!G8=0,'Source data'!O8=""),"",'Source data'!O8/'Source data'!G8-1) -> 3.0668449 | H9: =IF(OR('Source data'!H8="",'Source data'!H8=0,'Source data'!P8=""),"",'Source data'!P8/'Source data'!H8-1) -> 1.9553073 | I9: =IF(OR('Source data'!I8="",'Source data'!I8=0,'Source data'!Q8=""),"",'Source data'!Q8/'Source data'!I8-1) -> 0.017777778 | ... AN9: =IF(OR('Source data'!AN8="",'Source data'!AN8=0,'Source data'!AV8=""),"",'Source data'!AV8/'Source data'!AN8-1)
A10: United Kingdom and Overseas Territories | B10: =IF(OR('Source data'!B9="",'Source data'!B9=0,'Source data'!J9=""),"",'Source data'!J9/'Source data'!B9-1) -> 1.5948276 | C10: =IF(OR('Source data'!C9="",'Source data'!C9=0,'Source data'!K9=""),"",'Source data'!K9/'Source data'!C9-1) -> 0.11976048 | D10: =IF(OR('Source data'!D9="",'Source data'!D9=0,'Source data'!L9=""),"",'Source data'!L9/'Source data'!D9-1) -> -0.43438914 | E10: =IF(OR('Source data'!E9="",'Source data'!E9=0,'Source data'!M9=""),"",'Source data'!M9/'Source data'!E9-1) -> -0.89470656 | F10: =IF(OR('Source data'!F9="",'Source data'!F9=0,'Source data'!N9=""),"",'Source data'!N9/'Source data'!F9-1) -> 2.375 | G10: =IF(OR('Source data'!G9="",'Source data'!G9=0,'Source data'!O9=""),"",'Source data'!O9/'Source data'!G9-1) -> 2.7218935 | H10: =IF(OR('Source data'!H9="",'Source data'!H9=0,'Source data'!P9=""),"",'Source data'!P9/'Source data'!H9-1) -> 1.4220183 | I10: =IF(OR('Source data'!I9="",'Source data'!I9=0,'Source data'!Q9=""),"",'Source data'!Q9/'Source data'!I9-1) -> 0.01183432 | ... AN10: =IF(OR('Source data'!AN9="",'Source data'!AN9=0,'Source data'!AV9=""),"",'Source data'!AV9/'Source data'!AN9-1)
A11: Brazil | B11: =IF(OR('Source data'!B10="",'Source data'!B10=0,'Source data'!J10=""),"",'Source data'!J10/'Source data'!B10-1) -> 1.55 | C11: =IF(OR('Source data'!C10="",'Source data'!C10=0,'Source data'!K10=""),"",'Source data'!K10/'Source data'!C10-1) -> 2.3902439 | D11: =IF(OR('Source data'!D10="",'Source data'!D10=0,'Source data'!L10=""),"",'Source data'!L10/'Source data'!D10-1) -> 1.2727273 | E11: =IF(OR('Source data'!E10="",'Source data'!E10=0,'Source data'!M10=""),"",'Source data'!M10/'Source data'!E10-1) -> -0.77554745 | F11: =IF(OR('Source data'!F10="",'Source data'!F10=0,'Source data'!N10=""),"",'Source data'!N10/'Source data'!F10-1) -> 5.0655738 | G11: =IF(OR('Source data'!G10="",'Source data'!G10=0,'Source data'!O10=""),"",'Source data'!O10/'Source data'!G10-1) -> 3.0846154 | H11: =IF(OR('Source data'!H10="",'Source data'!H10=0,'Source data'!P10=""),"",'Source data'!P10/'Source data'!H10-1) -> 5.2763158 | I11: =IF(OR('Source data'!I10="",'Source data'!I10=0,'Source data'!Q10=""),"",'Source data'!Q10/'Source data'!I10-1) -> 0.50684932 | ... AN11: =IF(OR('Source data'!AN10="",'Source data'!AN10=0,'Source data'!AV10=""),"",'Source data'!AV10/'Source data'!AN10-1)
A12: Korea, Republic of | B12: =IF(OR('Source data'!B11="",'Source data'!B11=0,'Source data'!J11=""),"",'Source data'!J11/'Source data'!B11-1) -> 1.6666667 | C12: =IF(OR('Source data'!C11="",'Source data'!C11=0,'Source data'!K11=""),"",'Source data'!K11/'Source data'!C11-1) -> 0.35810811 | D12: =IF(OR('Source data'!D11="",'Source data'!D11=0,'Source data'!L11=""),"",'Source data'!L11/'Source data'!D11-1) -> -0.2606383 | E12: =IF(OR('Source data'!E11="",'Source data'!E11=0,'Source data'!M11=""),"",'Source data'!M11/'Source data'!E11-1) -> -0.8963059 | F12: =IF(OR('Source data'!F11="",'Source data'!F11=0,'Source data'!N11=""),"",'Source data'!N11/'Source data'!F11-1) -> 2.3050847 | G12: =IF(OR('Source data'!G11="",'Source data'!G11=0,'Source data'!O11=""),"",'Source data'!O11/'Source data'!G11-1) -> 2.0120482 | H12: =IF(OR('Source data'!H11="",'Source data'!H11=0,'Source data'!P11=""),"",'Source data'!P11/'Source data'!H11-1) -> 1.7857143 | I12: =IF(OR('Source data'!I11="",'Source data'!I11=0,'Source data'!Q11=""),"",'Source data'!Q11/'Source data'!I11-1) -> 0.17241379 | ... AN12: =IF(OR('Source data'!AN11="",'Source data'!AN11=0,'Source data'!AV11=""),"",'Source data'!AV11/'Source data'!AN11-1)
A13: Japan | B13: =IF(OR('Source data'!B12="",'Source data'!B12=0,'Source data'!J12=""),"",'Source data'!J12/'Source data'!B12-1) -> 0.68131868 | C13: =IF(OR('Source data'!C12="",'Source data'!C12=0,'Source data'!K12=""),"",'Source data'!K12/'Source data'!C12-1) -> -0.14814815 | D13: =IF(OR('Source data'!D12="",'Source data'!D12=0,'Source data'!L12=""),"",'Source data'!L12/'Source data'!D12-1) -> -0.62162162 | E13: =IF(OR('Source data'!E12="",'Source data'!E12=0,'Source data'!M12=""),"",'Source data'!M12/'Source data'!E12-1) -> -0.93579336 | F13: =IF(OR('Source data'!F12="",'Source data'!F12=0,'Source data'!N12=""),"",'Source data'!N12/'Source data'!F12-1) -> 2.5944056 | G13: =IF(OR('Source data'!G12="",'Source data'!G12=0,'Source data'!O12=""),"",'Source data'!O12/'Source data'!G12-1) -> 2.3706897 | H13: =IF(OR('Source data'!H12="",'Source data'!H12=0,'Source data'!P12=""),"",'Source data'!P12/'Source data'!H12-1) -> 1.967033 | I13: =IF(OR('Source data'!I12="",'Source data'!I12=0,'Source data'!Q12=""),"",'Source data'!Q12/'Source data'!I12-1) -> 0.83544304 | ... AN13: =IF(OR('Source data'!AN12="",'Source data'!AN12=0,'Source data'!AV12=""),"",'Source data'!AV12/'Source data'!AN12-1)
A14: Philippines | B14: =IF(OR('Source data'!B13="",'Source data'!B13=0,'Source data'!J13=""),"",'Source data'!J13/'Source data'!B13-1) -> -0.30348259 | C14: =IF(OR('Source data'!C13="",'Source data'!C13=0,'Source data'!K13=""),"",'Source data'!K13/'Source data'!C13-1) -> -0.21465969 | D14: =IF(OR('Source data'!D13="",'Source data'!D13=0,'Source data'!L13=""),"",'Source data'!L13/'Source data'!D13-1) -> -0.44094488 | E14: =IF(OR('Source data'!E13="",'Source data'!E13=0,'Source data'!M13=""),"",'Source data'!M13/'Source data'!E13-1) -> -0.93203463 | F14: =IF(OR('Source data'!F13="",'Source data'!F13=0,'Source data'!N13=""),"",'Source data'!N13/'Source data'!F13-1) -> 0.80213904 | G14: =IF(OR('Source data'!G13="",'Source data'!G13=0,'Source data'!O13=""),"",'Source data'!O13/'Source data'!G13-1) -> 0.98734177 | H14: =IF(OR('Source data'!H13="",'Source data'!H13=0,'Source data'!P13=""),"",'Source data'!P13/'Source data'!H13-1) -> 1.1812081 | I14: =IF(OR('Source data'!I13="",'Source data'!I13=0,'Source data'!Q13=""),"",'Source data'!Q13/'Source data'!I13-1) -> -0.41666667 | ... AN14: =IF(OR('Source data'!AN13="",'Source data'!AN13=0,'Source data'!AV13=""),"",'Source data'!AV13/'Source data'!AN13-1)
A15: Australia | B15: =IF(OR('Source data'!B14="",'Source data'!B14=0,'Source data'!J14=""),"",'Source data'!J14/'Source data'!B14-1) -> 0.45689655 | C15: =IF(OR('Source data'!C14="",'Source data'!C14=0,'Source data'!K14=""),"",'Source data'!K14/'Source data'!C14-1) -> -0.14666667 | D15: =IF(OR('Source data'!D14="",'Source data'!D14=0,'Source data'!L14=""),"",'Source data'!L14/'Source data'!D14-1) -> -0.60828025 | E15: =IF(OR('Source data'!E14="",'Source data'!E14=0,'Source data'!M14=""),"",'Source data'!M14/'Source data'!E14-1) -> -0.9447983 | F15: =IF(OR('Source data'!F14="",'Source data'!F14=0,'Source data'!N14=""),"",'Source data'!N14/'Source data'!F14-1) -> 1.5745856 | G15: =IF(OR('Source data'!G14="",'Source data'!G14=0,'Source data'!O14=""),"",'Source data'!O14/'Source data'!G14-1) -> 1.5170068 | H15: =IF(OR('Source data'!H14="",'Source data'!H14=0,'Source data'!P14=""),"",'Source data'!P14/'Source data'!H14-1) -> 0.7826087 | I15: =IF(OR('Source data'!I14="",'Source data'!I14=0,'Source data'!Q14=""),"",'Source data'!Q14/'Source data'!I14-1) -> -0.44848485 | ... AN15: =IF(OR('Source data'!AN14="",'Source data'!AN14=0,'Source data'!AV14=""),"",'Source data'!AV14/'Source data'!AN14-1)
A16: Germany | B16: =IF(OR('Source data'!B15="",'Source data'!B15=0,'Source data'!J15=""),"",'Source data'!J15/'Source data'!B15-1) -> 0.74603175 | C16: =IF(OR('Source data'!C15="",'Source data'!C15=0,'Source data'!K15=""),"",'Source data'!K15/'Source data'!C15-1) -> -0.026041667 | D16: =IF(OR('Source data'!D15="",'Source data'!D15=0,'Source data'!L15=""),"",'Source data'!L15/'Source data'!D15-1) -> -0.52 | E16: =IF(OR('Source data'!E15="",'Source data'!E15=0,'Source data'!M15=""),"",'Source data'!M15/'Source data'!E15-1) -> -0.90252708 | F16: =IF(OR('Source data'!F15="",'Source data'!F15=0,'Source data'!N15=""),"",'Source data'!N15/'Source data'!F15-1) -> 2.4205607 | G16: =IF(OR('Source data'!G15="",'Source data'!G15=0,'Source data'!O15=""),"",'Source data'!O15/'Source data'!G15-1) -> 1.8358974 | H16: =IF(OR('Source data'!H15="",'Source data'!H15=0,'Source data'!P15=""),"",'Source data'!P15/'Source data'!H15-1) -> 1.5542169 | I16: =IF(OR('Source data'!I15="",'Source data'!I15=0,'Source data'!Q15=""),"",'Source data'!Q15/'Source data'!I15-1) -> 0.21505376 | ... AN16: =IF(OR('Source data'!AN15="",'Source data'!AN15=0,'Source data'!AV15=""),"",'Source data'!AV15/'Source data'!AN15-1)
... A30: Czech Republic | B30: =IF(OR('Source data'!B29="",'Source data'!B29=0,'Source data'!J29=""),"",'Source data'!J29/'Source data'!B29-1) -> 2.9166667 | C30: =IF(OR('Source data'!C29="",'Source data'!C29=0,'Source data'!K29=""),"",'Source data'!K29/'Source data'!C29-1) -> -0.33333333 | D30: =IF(OR('Source data'!D29="",'Source data'!D29=0,'Source data'!L29=""),"",'Source data'!L29/'Source data'!D29-1) -> -0.64705882 | E30: =IF(OR('Source data'!E29="",'Source data'!E29=0,'Source data'!M29=""),"",'Source data'!M29/'Source data'!E29-1) -> -0.81428571 | F30: =IF(OR('Source data'!F29="",'Source data'!F29=0,'Source data'!N29=""),"",'Source data'!N29/'Source data'!F29-1) -> 2.1666667 | G30: =IF(OR('Source data'!G29="",'Source data'!G29=0,'Source data'!O29=""),"",'Source data'!O29/'Source data'!G29-1) -> 2.5882353 | H30: =IF(OR('Source data'!H29="",'Source data'!H29=0,'Source data'!P29=""),"",'Source data'!P29/'Source data'!H29-1) -> 1.5238095 | I30: =IF(OR('Source data'!I29="",'Source data'!I29=0,'Source data'!Q29=""),"",'Source data'!Q29/'Source data'!I29-1) -> 0.42857143 | ... AN30: =IF(OR('Source data'!AN29="",'Source data'!AN29=0,'Source data'!AV29=""),"",'Source data'!AV29/'Source data'!AN29-1)

Sheet Annual
A1: Annual work permit holders by country
A2: Reported annual totals, sorted by 2018 total. 2026 is year-to-date through Q3.
A4: Country | B4: Annual 2015 | C4: Annual 2016 | D4: Annual 2017 | E4: Annual 2018 | F4: Annual 2019 | G4: Annual 2020 | H4: Annual 2021 | I4: Annual 2022 | J4: Annual 2023 | K4: Annual 2024 | L4: Annual 2025 | M4: 2026 YTD
A5: Canada total | B5: ='Source data'!AW4 -> 15900 | C5: ='Source data'!AX4 -> 16215 | D5: ='Source data'!AY4 -> 18540 | E5: ='Source data'!AZ4 -> 62660 | F5: ='Source data'!BA4 -> 16710 | G5: ='Source data'!BB4 -> 23125 | H5: ='Source data'!BC4 -> 45105 | I5: ='Source data'!BD4 -> 196300 | ... M5: ='Source data'!BH4 -> 0
A6: India | B6: ='Source data'!AW5 -> 2330 | C6: ='Source data'!AX5 -> 2385 | D6: ='Source data'!AY5 -> 3600 | E6: ='Source data'!AZ5 -> 15045 | F6: ='Source data'!BA5 -> 8720 | G6: ='Source data'!BB5 -> 8170 | H6: ='Source data'!BC5 -> 10575 | I6: ='Source data'!BD5 -> 76795 | ... M6: ='Source data'!BH5 -> 0
A7: France | B7: ='Source data'!AW6 -> 1435 | C7: ='Source data'!AX6 -> 1625 | D7: ='Source data'!AY6 -> 2115 | E7: ='Source data'!AZ6 -> 6875 | F7: ='Source data'!BA6 -> 690 | G7: ='Source data'!BB6 -> 2025 | H7: ='Source data'!BC6 -> 2430 | I7: ='Source data'!BD6 -> 9910 | ... M7: ='Source data'!BH6 -> 0
A8: United States of America | B8: ='Source data'!AW7 -> 2265 | C8: ='Source data'!AX7 -> 1875 | D8: ='Source data'!AY7 -> 2135 | E8: ='Source data'!AZ7 -> 5810 | F8: ='Source data'!BA7 -> 140 | G8: ='Source data'!BB7 -> 1130 | H8: ='Source data'!BC7 -> 2295 | I8: ='Source data'!BD7 -> 6115 | ... M8: ='Source data'!BH7 -> 0
A9: China, People's Republic of | B9: ='Source data'!AW8 -> 1710 | C9: ='Source data'!AX8 -> 1480 | D9: ='Source data'!AY8 -> 1345 | E9: ='Source data'!AZ8 -> 4340 | F9: ='Source data'!BA8 -> 1460 | G9: ='Source data'!BB8 -> 1580 | H9: ='Source data'!BC8 -> 1290 | I9: ='Source data'!BD8 -> 7795 | ... M9: ='Source data'!BH8 -> 0
A10: United Kingdom and Overseas Territories | B10: ='Source data'!AW9 -> 630 | C10: ='Source data'!AX9 -> 620 | D10: ='Source data'!AY9 -> 730 | E10: ='Source data'!AZ9 -> 2690 | F10: ='Source data'!BA9 -> 210 | G10: ='Source data'!BB9 -> 570 | H10: ='Source data'!BC9 -> 1605 | I10: ='Source data'!BD9 -> 4120 | ... M10: ='Source data'!BH9 -> 0
A11: Brazil | B11: ='Source data'!AW10 -> 280 | C11: ='Source data'!AX10 -> 355 | D11: ='Source data'!AY10 -> 430 | E11: ='Source data'!AZ10 -> 2220 | F11: ='Source data'!BA10 -> 675 | G11: ='Source data'!BB10 -> 685 | H11: ='Source data'!BC10 -> 570 | I11: ='Source data'!BD10 -> 2535 | ... M11: ='Source data'!BH10 -> 0
A12: Korea, Republic of | B12: ='Source data'!AW11 -> 485 | C12: ='Source data'!AX11 -> 865 | D12: ='Source data'!AY11 -> 580 | E12: ='Source data'!AZ11 -> 2045 | F12: ='Source data'!BA11 -> 345 | G12: ='Source data'!BB11 -> 515 | H12: ='Source data'!BC11 -> 590 | I12: ='Source data'!BD11 -> 3115 | ... M12: ='Source data'!BH11 -> 0
A13: Japan | B13: ='Source data'!AW12 -> 410 | C13: ='Source data'!AX12 -> 505 | D13: ='Source data'!AY12 -> 610 | E13: ='Source data'!AZ12 -> 1620 | F13: ='Source data'!BA12 -> 75 | G13: ='Source data'!BB12 -> 175 | H13: ='Source data'!BC12 -> 565 | I13: ='Source data'!BD12 -> 2745 | ... M13: ='Source data'!BH12 -> 0
A14: Philippines | B14: ='Source data'!AW13 -> 960 | C14: ='Source data'!AX13 -> 1130 | D14: ='Source data'!AY13 -> 570 | E14: ='Source data'!AZ13 -> 1605 | F14: ='Source data'!BA13 -> 430 | G14: ='Source data'!BB13 -> 945 | H14: ='Source data'!BC13 -> 855 | I14: ='Source data'!BD13 -> 9015 | ... M14: ='Source data'!BH13 -> 0
A15: Australia | B15: ='Source data'!AW14 -> 645 | C15: ='Source data'!AX14 -> 560 | D15: ='Source data'!AY14 -> 565 | E15: ='Source data'!AZ14 -> 1565 | F15: ='Source data'!BA14 -> 85 | G15: ='Source data'!BB14 -> 185 | H15: ='Source data'!BC14 -> 520 | I15: ='Source data'!BD14 -> 1890 | ... M15: ='Source data'!BH14 -> 0
A16: Germany | B16: ='Source data'!AW15 -> 355 | C16: ='Source data'!AX15 -> 470 | D16: ='Source data'!AY15 -> 575 | E16: ='Source data'!AZ15 -> 1465 | F16: ='Source data'!BA15 -> 85 | G16: ='Source data'!BB15 -> 155 | H16: ='Source data'!BC15 -> 400 | I16: ='Source data'!BD15 -> 1350 | ... M16: ='Source data'!BH15 -> 0
... A221: Virgin Islands, British | B221: ='Source data'!AW220 -> 0 | C221: ='Source data'!AX220 -> 0 | D221: ='Source data'!AY220 -> 0 | E221: ='Source data'!AZ220 -> 0 | F221: ='Source data'!BA220 -> 0 | G221: ='Source data'!BB220 -> 0 | H221: ='Source data'!BC220 -> 0 | I221: ='Source data'!BD220 -> 0 | ... M221: ='Source data'!BH220 -> 0

Sheet Annual YoY
A1: Annual year-over-year change
A2: Annual percentage change versus the prior year; 2026 uses year-to-date through Q3.
A4: Country | B4: 2016 | C4: 2017 | D4: 2018 | E4: 2019 | F4: 2020 | G4: 2021 | H4: 2022 | I4: 2023 | J4: 2024 | K4: 2025 | L4: 2026 YTD
A5: Canada total | B5: =IF(OR('Source data'!AW4="",'Source data'!AW4=0,'Source data'!AX4=""),"",'Source data'!AX4/'Source data'!AW4-1) -> 0.019811321 | C5: =IF(OR('Source data'!AX4="",'Source data'!AX4=0,'Source data'!AY4=""),"",'Source data'!AY4/'Source data'!AX4-1) -> 0.14338575 | D5: =IF(OR('Source data'!AY4="",'Source data'!AY4=0,'Source data'!AZ4=""),"",'Source data'!AZ4/'Source data'!AY4-1) -> 2.3797195 | E5: =IF(OR('Source data'!AZ4="",'Source data'!AZ4=0,'Source data'!BA4=""),"",'Source data'!BA4/'Source data'!AZ4-1) -> -0.73332269 | F5: =IF(OR('Source data'!BA4="",'Source data'!BA4=0,'Source data'!BB4=""),"",'Source data'!BB4/'Source data'!BA4-1) -> 0.38390186 | G5: =IF(OR('Source data'!BB4="",'Source data'!BB4=0,'Source data'!BC4=""),"",'Source data'!BC4/'Source data'!BB4-1) -> 0.95048649 | H5: =IF(OR('Source data'!BC4="",'Source data'!BC4=0,'Source data'!BD4=""),"",'Source data'!BD4/'Source data'!BC4-1) -> 3.3520674 | I5: =IF(OR('Source data'!BD4="",'Source data'!BD4=0,'Source data'!BE4=""),"",'Source data'!BE4/'Source data'!BD4-1) -> -0.69296994 | ... L5: =IF(OR('Source data'!BG4="",'Source data'!BG4=0,'Source data'!BH4=""),"",'Source data'!BH4/'Source data'!BG4-1)
A6: India | B6: =IF(OR('Source data'!AW5="",'Source data'!AW5=0,'Source data'!AX5=""),"",'Source data'!AX5/'Source data'!AW5-1) -> 0.02360515 | C6: =IF(OR('Source data'!AX5="",'Source data'!AX5=0,'Source data'!AY5=""),"",'Source data'!AY5/'Source data'!AX5-1) -> 0.50943396 | D6: =IF(OR('Source data'!AY5="",'Source data'!AY5=0,'Source data'!AZ5=""),"",'Source data'!AZ5/'Source data'!AY5-1) -> 3.1791667 | E6: =IF(OR('Source data'!AZ5="",'Source data'!AZ5=0,'Source data'!BA5=""),"",'Source data'!BA5/'Source data'!AZ5-1) -> -0.42040545 | F6: =IF(OR('Source data'!BA5="",'Source data'!BA5=0,'Source data'!BB5=""),"",'Source data'!BB5/'Source data'!BA5-1) -> -0.063073394 | G6: =IF(OR('Source data'!BB5="",'Source data'!BB5=0,'Source data'!BC5=""),"",'Source data'!BC5/'Source data'!BB5-1) -> 0.29436965 | H6: =IF(OR('Source data'!BC5="",'Source data'!BC5=0,'Source data'!BD5=""),"",'Source data'!BD5/'Source data'!BC5-1) -> 6.2619385 | I6: =IF(OR('Source data'!BD5="",'Source data'!BD5=0,'Source data'!BE5=""),"",'Source data'!BE5/'Source data'!BD5-1) -> -0.76827918 | ... L6: =IF(OR('Source data'!BG5="",'Source data'!BG5=0,'Source data'!BH5=""),"",'Source data'!BH5/'Source data'!BG5-1)
A7: France | B7: =IF(OR('Source data'!AW6="",'Source data'!AW6=0,'Source data'!AX6=""),"",'Source data'!AX6/'Source data'!AW6-1) -> 0.13240418 | C7: =IF(OR('Source data'!AX6="",'Source data'!AX6=0,'Source data'!AY6=""),"",'Source data'!AY6/'Source data'!AX6-1) -> 0.30153846 | D7: =IF(OR('Source data'!AY6="",'Source data'!AY6=0,'Source data'!AZ6=""),"",'Source data'!AZ6/'Source data'!AY6-1) -> 2.250591 | E7: =IF(OR('Source data'!AZ6="",'Source data'!AZ6=0,'Source data'!BA6=""),"",'Source data'!BA6/'Source data'!AZ6-1) -> -0.89963636 | F7: =IF(OR('Source data'!BA6="",'Source data'!BA6=0,'Source data'!BB6=""),"",'Source data'!BB6/'Source data'!BA6-1) -> 1.9347826 | G7: =IF(OR('Source data'!BB6="",'Source data'!BB6=0,'Source data'!BC6=""),"",'Source data'!BC6/'Source data'!BB6-1) -> 0.2 | H7: =IF(OR('Source data'!BC6="",'Source data'!BC6=0,'Source data'!BD6=""),"",'Source data'!BD6/'Source data'!BC6-1) -> 3.0781893 | I7: =IF(OR('Source data'!BD6="",'Source data'!BD6=0,'Source data'!BE6=""),"",'Source data'!BE6/'Source data'!BD6-1) -> -0.80877901 | ... L7: =IF(OR('Source data'!BG6="",'Source data'!BG6=0,'Source data'!BH6=""),"",'Source data'!BH6/'Source data'!BG6-1)
A8: United States of America | B8: =IF(OR('Source data'!AW7="",'Source data'!AW7=0,'Source data'!AX7=""),"",'Source data'!AX7/'Source data'!AW7-1) -> -0.17218543 | C8: =IF(OR('Source data'!AX7="",'Source data'!AX7=0,'Source data'!AY7=""),"",'Source data'!AY7/'Source data'!AX7-1) -> 0.13866667 | D8: =IF(OR('Source data'!AY7="",'Source data'!AY7=0,'Source data'!AZ7=""),"",'Source data'!AZ7/'Source data'!AY7-1) -> 1.7213115 | E8: =IF(OR('Source data'!AZ7="",'Source data'!AZ7=0,'Source data'!BA7=""),"",'Source data'!BA7/'Source data'!AZ7-1) -> -0.97590361 | F8: =IF(OR('Source data'!BA7="",'Source data'!BA7=0,'Source data'!BB7=""),"",'Source data'!BB7/'Source data'!BA7-1) -> 7.0714286 | G8: =IF(OR('Source data'!BB7="",'Source data'!BB7=0,'Source data'!BC7=""),"",'Source data'!BC7/'Source data'!BB7-1) -> 1.0309735 | H8: =IF(OR('Source data'!BC7="",'Source data'!BC7=0,'Source data'!BD7=""),"",'Source data'!BD7/'Source data'!BC7-1) -> 1.664488 | I8: =IF(OR('Source data'!BD7="",'Source data'!BD7=0,'Source data'!BE7=""),"",'Source data'!BE7/'Source data'!BD7-1) -> -0.67130008 | ... L8: =IF(OR('Source data'!BG7="",'Source data'!BG7=0,'Source data'!BH7=""),"",'Source data'!BH7/'Source data'!BG7-1)
A9: China, People's Republic of | B9: =IF(OR('Source data'!AW8="",'Source data'!AW8=0,'Source data'!AX8=""),"",'Source data'!AX8/'Source data'!AW8-1) -> -0.13450292 | C9: =IF(OR('Source data'!AX8="",'Source data'!AX8=0,'Source data'!AY8=""),"",'Source data'!AY8/'Source data'!AX8-1) -> -0.091216216 | D9: =IF(OR('Source data'!AY8="",'Source data'!AY8=0,'Source data'!AZ8=""),"",'Source data'!AZ8/'Source data'!AY8-1) -> 2.2267658 | E9: =IF(OR('Source data'!AZ8="",'Source data'!AZ8=0,'Source data'!BA8=""),"",'Source data'!BA8/'Source data'!AZ8-1) -> -0.66359447 | F9: =IF(OR('Source data'!BA8="",'Source data'!BA8=0,'Source data'!BB8=""),"",'Source data'!BB8/'Source data'!BA8-1) -> 0.082191781 | G9: =IF(OR('Source data'!BB8="",'Source data'!BB8=0,'Source data'!BC8=""),"",'Source data'!BC8/'Source data'!BB8-1) -> -0.1835443 | H9: =IF(OR('Source data'!BC8="",'Source data'!BC8=0,'Source data'!BD8=""),"",'Source data'!BD8/'Source data'!BC8-1) -> 5.0426357 | I9: =IF(OR('Source data'!BD8="",'Source data'!BD8=0,'Source data'!BE8=""),"",'Source data'!BE8/'Source data'!BD8-1) -> -0.72674792 | ... L9: =IF(OR('Source data'!BG8="",'Source data'!BG8=0,'Source data'!BH8=""),"",'Source data'!BH8/'Source data'!BG8-1)
A10: United Kingdom and Overseas Territories | B10: =IF(OR('Source data'!AW9="",'Source data'!AW9=0,'Source data'!AX9=""),"",'Source data'!AX9/'Source data'!AW9-1) -> -0.015873016 | C10: =IF(OR('Source data'!AX9="",'Source data'!AX9=0,'Source data'!AY9=""),"",'Source data'!AY9/'Source data'!AX9-1) -> 0.17741935 | D10: =IF(OR('Source data'!AY9="",'Source data'!AY9=0,'Source data'!AZ9=""),"",'Source data'!AZ9/'Source data'!AY9-1) -> 2.6849315 | E10: =IF(OR('Source data'!AZ9="",'Source data'!AZ9=0,'Source data'!BA9=""),"",'Source data'!BA9/'Source data'!AZ9-1) -> -0.92193309 | F10: =IF(OR('Source data'!BA9="",'Source data'!BA9=0,'Source data'!BB9=""),"",'Source data'!BB9/'Source data'!BA9-1) -> 1.7142857 | G10: =IF(OR('Source data'!BB9="",'Source data'!BB9=0,'Source data'!BC9=""),"",'Source data'!BC9/'Source data'!BB9-1) -> 1.8157895 | H10: =IF(OR('Source data'!BC9="",'Source data'!BC9=0,'Source data'!BD9=""),"",'Source data'!BD9/'Source data'!BC9-1) -> 1.5669782 | I10: =IF(OR('Source data'!BD9="",'Source data'!BD9=0,'Source data'!BE9=""),"",'Source data'!BE9/'Source data'!BD9-1) -> -0.73665049 | ... L10: =IF(OR('Source data'!BG9="",'Source data'!BG9=0,'Source data'!BH9=""),"",'Source data'!BH9/'Source data'!BG9-1)
A11: Brazil | B11: =IF(OR('Source data'!AW10="",'Source data'!AW10=0,'Source data'!AX10=""),"",'Source data'!AX10/'Source data'!AW10-1) -> 0.26785714 | C11: =IF(OR('Source data'!AX10="",'Source data'!AX10=0,'Source data'!AY10=""),"",'Source data'!AY10/'Source data'!AX10-1) -> 0.21126761 | D11: =IF(OR('Source data'!AY10="",'Source data'!AY10=0,'Source data'!AZ10=""),"",'Source data'!AZ10/'Source data'!AY10-1) -> 4.1627907 | E11: =IF(OR('Source data'!AZ10="",'Source data'!AZ10=0,'Source data'!BA10=""),"",'Source data'!BA10/'Source data'!AZ10-1) -> -0.69594595 | F11: =IF(OR('Source data'!BA10="",'Source data'!BA10=0,'Source data'!BB10=""),"",'Source data'!BB10/'Source data'!BA10-1) -> 0.014814815 | G11: =IF(OR('Source data'!BB10="",'Source data'!BB10=0,'Source data'!BC10=""),"",'Source data'!BC10/'Source data'!BB10-1) -> -0.16788321 | H11: =IF(OR('Source data'!BC10="",'Source data'!BC10=0,'Source data'!BD10=""),"",'Source data'!BD10/'Source data'!BC10-1) -> 3.4473684 | I11: =IF(OR('Source data'!BD10="",'Source data'!BD10=0,'Source data'!BE10=""),"",'Source data'!BE10/'Source data'!BD10-1) -> -0.76134122 | ... L11: =IF(OR('Source data'!BG10="",'Source data'!BG10=0,'Source data'!BH10=""),"",'Source data'!BH10/'Source data'!BG10-1)
A12: Korea, Republic of | B12: =IF(OR('Source data'!AW11="",'Source data'!AW11=0,'Source data'!AX11=""),"",'Source data'!AX11/'Source data'!AW11-1) -> 0.78350515 | C12: =IF(OR('Source data'!AX11="",'Source data'!AX11=0,'Source data'!AY11=""),"",'Source data'!AY11/'Source data'!AX11-1) -> -0.32947977 | D12: =IF(OR('Source data'!AY11="",'Source data'!AY11=0,'Source data'!AZ11=""),"",'Source data'!AZ11/'Source data'!AY11-1) -> 2.5258621 | E12: =IF(OR('Source data'!AZ11="",'Source data'!AZ11=0,'Source data'!BA11=""),"",'Source data'!BA11/'Source data'!AZ11-1) -> -0.83129584 | F12: =IF(OR('Source data'!BA11="",'Source data'!BA11=0,'Source data'!BB11=""),"",'Source data'!BB11/'Source data'!BA11-1) -> 0.49275362 | G12: =IF(OR('Source data'!BB11="",'Source data'!BB11=0,'Source data'!BC11=""),"",'Source data'!BC11/'Source data'!BB11-1) -> 0.14563107 | H12: =IF(OR('Source data'!BC11="",'Source data'!BC11=0,'Source data'!BD11=""),"",'Source data'!BD11/'Source data'!BC11-1) -> 4.279661 | I12: =IF(OR('Source data'!BD11="",'Source data'!BD11=0,'Source data'!BE11=""),"",'Source data'!BE11/'Source data'!BD11-1) -> -0.62921348 | ... L12: =IF(OR('Source data'!BG11="",'Source data'!BG11=0,'Source data'!BH11=""),"",'Source data'!BH11/'Source data'!BG11-1)
A13: Japan | B13: =IF(OR('Source data'!AW12="",'Source data'!AW12=0,'Source data'!AX12=""),"",'Source data'!AX12/'Source data'!AW12-1) -> 0.23170732 | C13: =IF(OR('Source data'!AX12="",'Source data'!AX12=0,'Source data'!AY12=""),"",'Source data'!AY12/'Source data'!AX12-1) -> 0.20792079 | D13: =IF(OR('Source data'!AY12="",'Source data'!AY12=0,'Source data'!AZ12=""),"",'Source data'!AZ12/'Source data'!AY12-1) -> 1.6557377 | E13: =IF(OR('Source data'!AZ12="",'Source data'!AZ12=0,'Source data'!BA12=""),"",'Source data'!BA12/'Source data'!AZ12-1) -> -0.9537037 | F13: =IF(OR('Source data'!BA12="",'Source data'!BA12=0,'Source data'!BB12=""),"",'Source data'!BB12/'Source data'!BA12-1) -> 1.3333333 | G13: =IF(OR('Source data'!BB12="",'Source data'!BB12=0,'Source data'!BC12=""),"",'Source data'!BC12/'Source data'!BB12-1) -> 2.2285714 | H13: =IF(OR('Source data'!BC12="",'Source data'!BC12=0,'Source data'!BD12=""),"",'Source data'!BD12/'Source data'!BC12-1) -> 3.8584071 | I13: =IF(OR('Source data'!BD12="",'Source data'!BD12=0,'Source data'!BE12=""),"",'Source data'!BE12/'Source data'!BD12-1) -> -0.73406193 | ... L13: =IF(OR('Source data'!BG12="",'Source data'!BG12=0,'Source data'!BH12=""),"",'Source data'!BH12/'Source data'!BG12-1)
A14: Philippines | B14: =IF(OR('Source data'!AW13="",'Source data'!AW13=0,'Source data'!AX13=""),"",'Source data'!AX13/'Source data'!AW13-1) -> 0.17708333 | C14: =IF(OR('Source data'!AX13="",'Source data'!AX13=0,'Source data'!AY13=""),"",'Source data'!AY13/'Source data'!AX13-1) -> -0.49557522 | D14: =IF(OR('Source data'!AY13="",'Source data'!AY13=0,'Source data'!AZ13=""),"",'Source data'!AZ13/'Source data'!AY13-1) -> 1.8157895 | E14: =IF(OR('Source data'!AZ13="",'Source data'!AZ13=0,'Source data'!BA13=""),"",'Source data'!BA13/'Source data'!AZ13-1) -> -0.73208723 | F14: =IF(OR('Source data'!BA13="",'Source data'!BA13=0,'Source data'!BB13=""),"",'Source data'!BB13/'Source data'!BA13-1) -> 1.1976744 | G14: =IF(OR('Source data'!BB13="",'Source data'!BB13=0,'Source data'!BC13=""),"",'Source data'!BC13/'Source data'!BB13-1) -> -0.095238095 | H14: =IF(OR('Source data'!BC13="",'Source data'!BC13=0,'Source data'!BD13=""),"",'Source data'!BD13/'Source data'!BC13-1) -> 9.5438596 | I14: =IF(OR('Source data'!BD13="",'Source data'!BD13=0,'Source data'!BE13=""),"",'Source data'!BE13/'Source data'!BD13-1) -> -0.64891847 | ... L14: =IF(OR('Source data'!BG13="",'Source data'!BG13=0,'Source data'!BH13=""),"",'Source data'!BH13/'Source data'!BG13-1)
A15: Australia | B15: =IF(OR('Source data'!AW14="",'Source data'!AW14=0,'Source data'!AX14=""),"",'Source data'!AX14/'Source data'!AW14-1) -> -0.13178295 | C15: =IF(OR('Source data'!AX14="",'Source data'!AX14=0,'Source data'!AY14=""),"",'Source data'!AY14/'Source data'!AX14-1) -> 0.0089285714 | D15: =IF(OR('Source data'!AY14="",'Source data'!AY14=0,'Source data'!AZ14=""),"",'Source data'!AZ14/'Source data'!AY14-1) -> 1.7699115 | E15: =IF(OR('Source data'!AZ14="",'Source data'!AZ14=0,'Source data'!BA14=""),"",'Source data'!BA14/'Source data'!AZ14-1) -> -0.9456869 | F15: =IF(OR('Source data'!BA14="",'Source data'!BA14=0,'Source data'!BB14=""),"",'Source data'!BB14/'Source data'!BA14-1) -> 1.1764706 | G15: =IF(OR('Source data'!BB14="",'Source data'!BB14=0,'Source data'!BC14=""),"",'Source data'!BC14/'Source data'!BB14-1) -> 1.8108108 | H15: =IF(OR('Source data'!BC14="",'Source data'!BC14=0,'Source data'!BD14=""),"",'Source data'!BD14/'Source data'!BC14-1) -> 2.6346154 | I15: =IF(OR('Source data'!BD14="",'Source data'!BD14=0,'Source data'!BE14=""),"",'Source data'!BE14/'Source data'!BD14-1) -> -0.74603175 | ... L15: =IF(OR('Source data'!BG14="",'Source data'!BG14=0,'Source data'!BH14=""),"",'Source data'!BH14/'Source data'!BG14-1)
A16: Germany | B16: =IF(OR('Source data'!AW15="",'Source data'!AW15=0,'Source data'!AX15=""),"",'Source data'!AX15/'Source data'!AW15-1) -> 0.32394366 | C16: =IF(OR('Source data'!AX15="",'Source data'!AX15=0,'Source data'!AY15=""),"",'Source data'!AY15/'Source data'!AX15-1) -> 0.22340426 | D16: =IF(OR('Source data'!AY15="",'Source data'!AY15=0,'Source data'!AZ15=""),"",'Source data'!AZ15/'Source data'!AY15-1) -> 1.5478261 | E16: =IF(OR('Source data'!AZ15="",'Source data'!AZ15=0,'Source data'!BA15=""),"",'Source data'!BA15/'Source data'!AZ15-1) -> -0.94197952 | F16: =IF(OR('Source data'!BA15="",'Source data'!BA15=0,'Source data'!BB15=""),"",'Source data'!BB15/'Source data'!BA15-1) -> 0.82352941 | G16: =IF(OR('Source data'!BB15="",'Source data'!BB15=0,'Source data'!BC15=""),"",'Source data'!BC15/'Source data'!BB15-1) -> 1.5806452 | H16: =IF(OR('Source data'!BC15="",'Source data'!BC15=0,'Source data'!BD15=""),"",'Source data'!BD15/'Source data'!BC15-1) -> 2.375 | I16: =IF(OR('Source data'!BD15="",'Source data'!BD15=0,'Source data'!BE15=""),"",'Source data'!BE15/'Source data'!BD15-1) -> -0.60740741 | ... L16: =IF(OR('Source data'!BG15="",'Source data'!BG15=0,'Source data'!BH15=""),"",'Source data'!BH15/'Source data'!BG15-1)
... A221: Virgin Islands, British | B221: =IF(OR('Source data'!AW220="",'Source data'!AW220=0,'Source data'!AX220=""),"",'Source data'!AX220/'Source data'!AW220-1) | C221: =IF(OR('Source data'!AX220="",'Source data'!AX220=0,'Source data'!AY220=""),"",'Source data'!AY220/'Source data'!AX220-1) | D221: =IF(OR('Source data'!AY220="",'Source data'!AY220=0,'Source data'!AZ220=""),"",'Source data'!AZ220/'Source data'!AY220-1) | E221: =IF(OR('Source data'!AZ220="",'Source data'!AZ220=0,'Source data'!BA220=""),"",'Source data'!BA220/'Source data'!AZ220-1) | F221: =IF(OR('Source data'!BA220="",'Source data'!BA220=0,'Source data'!BB220=""),"",'Source data'!BB220/'Source data'!BA220-1) | G221: =IF(OR('Source data'!BB220="",'Source data'!BB220=0,'Source data'!BC220=""),"",'Source data'!BC220/'Source data'!BB220-1) | H221: =IF(OR('Source data'!BC220="",'Source data'!BC220=0,'Source data'!BD220=""),"",'Source data'!BD220/'Source data'!BC220-1) | I221: =IF(OR('Source data'!BD220="",'Source data'!BD220=0,'Source data'!BE220=""),"",'Source data'!BE220/'Source data'!BD220-1) | ... L221: =IF(OR('Source data'!BG220="",'Source data'!BG220=0,'Source data'!BH220=""),"",'Source data'!BH220/'Source data'!BG220-1)

Sheet Annual 2-year
A1: Annual two-year change
A2: Annual percentage change versus two years earlier; 2026 uses year-to-date through Q3.
A4: Country | B4: 2017 | C4: 2018 | D4: 2019 | E4: 2020 | F4: 2021 | G4: 2022 | H4: 2023 | I4: 2024 | J4: 2025 | K4: 2026 YTD
A5: Canada total | B5: =IF(OR('Source data'!AW4="",'Source data'!AW4=0,'Source data'!AY4=""),"",'Source data'!AY4/'Source data'!AW4-1) -> 0.16603774 | C5: =IF(OR('Source data'!AX4="",'Source data'!AX4=0,'Source data'!AZ4=""),"",'Source data'!AZ4/'Source data'!AX4-1) -> 2.8643232 | D5: =IF(OR('Source data'!AY4="",'Source data'!AY4=0,'Source data'!BA4=""),"",'Source data'!BA4/'Source data'!AY4-1) -> -0.098705502 | E5: =IF(OR('Source data'!AZ4="",'Source data'!AZ4=0,'Source data'!BB4=""),"",'Source data'!BB4/'Source data'!AZ4-1) -> -0.63094478 | F5: =IF(OR('Source data'!BA4="",'Source data'!BA4=0,'Source data'!BC4=""),"",'Source data'!BC4/'Source data'!BA4-1) -> 1.6992819 | G5: =IF(OR('Source data'!BB4="",'Source data'!BB4=0,'Source data'!BD4=""),"",'Source data'!BD4/'Source data'!BB4-1) -> 7.4886486 | H5: =IF(OR('Source data'!BC4="",'Source data'!BC4=0,'Source data'!BE4=""),"",'Source data'!BE4/'Source data'!BC4-1) -> 0.3362155 | I5: =IF(OR('Source data'!BD4="",'Source data'!BD4=0,'Source data'!BF4=""),"",'Source data'!BF4/'Source data'!BD4-1) -> -0.73051452 | ... K5: =IF(OR('Source data'!BF4="",'Source data'!BF4=0,'Source data'!BH4=""),"",'Source data'!BH4/'Source data'!BF4-1)
A6: India | B6: =IF(OR('Source data'!AW5="",'Source data'!AW5=0,'Source data'!AY5=""),"",'Source data'!AY5/'Source data'!AW5-1) -> 0.54506438 | C6: =IF(OR('Source data'!AX5="",'Source data'!AX5=0,'Source data'!AZ5=""),"",'Source data'!AZ5/'Source data'!AX5-1) -> 5.3081761 | D6: =IF(OR('Source data'!AY5="",'Source data'!AY5=0,'Source data'!BA5=""),"",'Source data'!BA5/'Source data'!AY5-1) -> 1.4222222 | E6: =IF(OR('Source data'!AZ5="",'Source data'!AZ5=0,'Source data'!BB5=""),"",'Source data'!BB5/'Source data'!AZ5-1) -> -0.45696245 | F6: =IF(OR('Source data'!BA5="",'Source data'!BA5=0,'Source data'!BC5=""),"",'Source data'!BC5/'Source data'!BA5-1) -> 0.21272936 | G6: =IF(OR('Source data'!BB5="",'Source data'!BB5=0,'Source data'!BD5=""),"",'Source data'!BD5/'Source data'!BB5-1) -> 8.3996328 | H6: =IF(OR('Source data'!BC5="",'Source data'!BC5=0,'Source data'!BE5=""),"",'Source data'!BE5/'Source data'!BC5-1) -> 0.68274232 | I6: =IF(OR('Source data'!BD5="",'Source data'!BD5=0,'Source data'!BF5=""),"",'Source data'!BF5/'Source data'!BD5-1) -> -0.76710723 | ... K6: =IF(OR('Source data'!BF5="",'Source data'!BF5=0,'Source data'!BH5=""),"",'Source data'!BH5/'Source data'!BF5-1)
A7: France | B7: =IF(OR('Source data'!AW6="",'Source data'!AW6=0,'Source data'!AY6=""),"",'Source data'!AY6/'Source data'!AW6-1) -> 0.4738676 | C7: =IF(OR('Source data'!AX6="",'Source data'!AX6=0,'Source data'!AZ6=""),"",'Source data'!AZ6/'Source data'!AX6-1) -> 3.2307692 | D7: =IF(OR('Source data'!AY6="",'Source data'!AY6=0,'Source data'!BA6=""),"",'Source data'!BA6/'Source data'!AY6-1) -> -0.67375887 | E7: =IF(OR('Source data'!AZ6="",'Source data'!AZ6=0,'Source data'!BB6=""),"",'Source data'!BB6/'Source data'!AZ6-1) -> -0.70545455 | F7: =IF(OR('Source data'!BA6="",'Source data'!BA6=0,'Source data'!BC6=""),"",'Source data'!BC6/'Source data'!BA6-1) -> 2.5217391 | G7: =IF(OR('Source data'!BB6="",'Source data'!BB6=0,'Source data'!BD6=""),"",'Source data'!BD6/'Source data'!BB6-1) -> 3.8938272 | H7: =IF(OR('Source data'!BC6="",'Source data'!BC6=0,'Source data'!BE6=""),"",'Source data'!BE6/'Source data'!BC6-1) -> -0.22016461 | I7: =IF(OR('Source data'!BD6="",'Source data'!BD6=0,'Source data'!BF6=""),"",'Source data'!BF6/'Source data'!BD6-1) -> -0.8370333 | ... K7: =IF(OR('Source data'!BF6="",'Source data'!BF6=0,'Source data'!BH6=""),"",'Source data'!BH6/'Source data'!BF6-1)
A8: United States of America | B8: =IF(OR('Source data'!AW7="",'Source data'!AW7=0,'Source data'!AY7=""),"",'Source data'!AY7/'Source data'!AW7-1) -> -0.057395143 | C8: =IF(OR('Source data'!AX7="",'Source data'!AX7=0,'Source data'!AZ7=""),"",'Source data'!AZ7/'Source data'!AX7-1) -> 2.0986667 | D8: =IF(OR('Source data'!AY7="",'Source data'!AY7=0,'Source data'!BA7=""),"",'Source data'!BA7/'Source data'!AY7-1) -> -0.93442623 | E8: =IF(OR('Source data'!AZ7="",'Source data'!AZ7=0,'Source data'!BB7=""),"",'Source data'!BB7/'Source data'!AZ7-1) -> -0.80550775 | F8: =IF(OR('Source data'!BA7="",'Source data'!BA7=0,'Source data'!BC7=""),"",'Source data'!BC7/'Source data'!BA7-1) -> 15.392857 | G8: =IF(OR('Source data'!BB7="",'Source data'!BB7=0,'Source data'!BD7=""),"",'Source data'!BD7/'Source data'!BB7-1) -> 4.4115044 | H8: =IF(OR('Source data'!BC7="",'Source data'!BC7=0,'Source data'!BE7=""),"",'Source data'!BE7/'Source data'!BC7-1) -> -0.12418301 | I8: =IF(OR('Source data'!BD7="",'Source data'!BD7=0,'Source data'!BF7=""),"",'Source data'!BF7/'Source data'!BD7-1) -> -0.69092396 | ... K8: =IF(OR('Source data'!BF7="",'Source data'!BF7=0,'Source data'!BH7=""),"",'Source data'!BH7/'Source data'!BF7-1)
A9: China, People's Republic of | B9: =IF(OR('Source data'!AW8="",'Source data'!AW8=0,'Source data'!AY8=""),"",'Source data'!AY8/'Source data'!AW8-1) -> -0.21345029 | C9: =IF(OR('Source data'!AX8="",'Source data'!AX8=0,'Source data'!AZ8=""),"",'Source data'!AZ8/'Source data'!AX8-1) -> 1.9324324 | D9: =IF(OR('Source data'!AY8="",'Source data'!AY8=0,'Source data'!BA8=""),"",'Source data'!BA8/'Source data'!AY8-1) -> 0.085501859 | E9: =IF(OR('Source data'!AZ8="",'Source data'!AZ8=0,'Source data'!BB8=""),"",'Source data'!BB8/'Source data'!AZ8-1) -> -0.6359447 | F9: =IF(OR('Source data'!BA8="",'Source data'!BA8=0,'Source data'!BC8=""),"",'Source data'!BC8/'Source data'!BA8-1) -> -0.11643836 | G9: =IF(OR('Source data'!BB8="",'Source data'!BB8=0,'Source data'!BD8=""),"",'Source data'!BD8/'Source data'!BB8-1) -> 3.9335443 | H9: =IF(OR('Source data'!BC8="",'Source data'!BC8=0,'Source data'!BE8=""),"",'Source data'!BE8/'Source data'!BC8-1) -> 0.65116279 | I9: =IF(OR('Source data'!BD8="",'Source data'!BD8=0,'Source data'!BF8=""),"",'Source data'!BF8/'Source data'!BD8-1) -> -0.76587556 | ... K9: =IF(OR('Source data'!BF8="",'Source data'!BF8=0,'Source data'!BH8=""),"",'Source data'!BH8/'Source data'!BF8-1)
A10: United Kingdom and Overseas Territories | B10: =IF(OR('Source data'!AW9="",'Source data'!AW9=0,'Source data'!AY9=""),"",'Source data'!AY9/'Source data'!AW9-1) -> 0.15873016 | C10: =IF(OR('Source data'!AX9="",'Source data'!AX9=0,'Source data'!AZ9=""),"",'Source data'!AZ9/'Source data'!AX9-1) -> 3.3387097 | D10: =IF(OR('Source data'!AY9="",'Source data'!AY9=0,'Source data'!BA9=""),"",'Source data'!BA9/'Source data'!AY9-1) -> -0.71232877 | E10: =IF(OR('Source data'!AZ9="",'Source data'!AZ9=0,'Source data'!BB9=""),"",'Source data'!BB9/'Source data'!AZ9-1) -> -0.78810409 | F10: =IF(OR('Source data'!BA9="",'Source data'!BA9=0,'Source data'!BC9=""),"",'Source data'!BC9/'Source data'!BA9-1) -> 6.6428571 | G10: =IF(OR('Source data'!BB9="",'Source data'!BB9=0,'Source data'!BD9=""),"",'Source data'!BD9/'Source data'!BB9-1) -> 6.2280702 | H10: =IF(OR('Source data'!BC9="",'Source data'!BC9=0,'Source data'!BE9=""),"",'Source data'!BE9/'Source data'!BC9-1) -> -0.32398754 | I10: =IF(OR('Source data'!BD9="",'Source data'!BD9=0,'Source data'!BF9=""),"",'Source data'!BF9/'Source data'!BD9-1) -> -0.75970874 | ... K10: =IF(OR('Source data'!BF9="",'Source data'!BF9=0,'Source data'!BH9=""),"",'Source data'!BH9/'Source data'!BF9-1)
A11: Brazil | B11: =IF(OR('Source data'!AW10="",'Source data'!AW10=0,'Source data'!AY10=""),"",'Source data'!AY10/'Source data'!AW10-1) -> 0.53571429 | C11: =IF(OR('Source data'!AX10="",'Source data'!AX10=0,'Source data'!AZ10=""),"",'Source data'!AZ10/'Source data'!AX10-1) -> 5.2535211 | D11: =IF(OR('Source data'!AY10="",'Source data'!AY10=0,'Source data'!BA10=""),"",'Source data'!BA10/'Source data'!AY10-1) -> 0.56976744 | E11: =IF(OR('Source data'!AZ10="",'Source data'!AZ10=0,'Source data'!BB10=""),"",'Source data'!BB10/'Source data'!AZ10-1) -> -0.69144144 | F11: =IF(OR('Source data'!BA10="",'Source data'!BA10=0,'Source data'!BC10=""),"",'Source data'!BC10/'Source data'!BA10-1) -> -0.15555556 | G11: =IF(OR('Source data'!BB10="",'Source data'!BB10=0,'Source data'!BD10=""),"",'Source data'!BD10/'Source data'!BB10-1) -> 2.7007299 | H11: =IF(OR('Source data'!BC10="",'Source data'!BC10=0,'Source data'!BE10=""),"",'Source data'!BE10/'Source data'!BC10-1) -> 0.061403509 | I11: =IF(OR('Source data'!BD10="",'Source data'!BD10=0,'Source data'!BF10=""),"",'Source data'!BF10/'Source data'!BD10-1) -> -0.77712032 | ... K11: =IF(OR('Source data'!BF10="",'Source data'!BF10=0,'Source data'!BH10=""),"",'Source data'!BH10/'Source data'!BF10-1)
A12: Korea, Republic of | B12: =IF(OR('Source data'!AW11="",'Source data'!AW11=0,'Source data'!AY11=""),"",'Source data'!AY11/'Source data'!AW11-1) -> 0.19587629 | C12: =IF(OR('Source data'!AX11="",'Source data'!AX11=0,'Source data'!AZ11=""),"",'Source data'!AZ11/'Source data'!AX11-1) -> 1.3641618 | D12: =IF(OR('Source data'!AY11="",'Source data'!AY11=0,'Source data'!BA11=""),"",'Source data'!BA11/'Source data'!AY11-1) -> -0.40517241 | E12: =IF(OR('Source data'!AZ11="",'Source data'!AZ11=0,'Source data'!BB11=""),"",'Source data'!BB11/'Source data'!AZ11-1) -> -0.74816626 | F12: =IF(OR('Source data'!BA11="",'Source data'!BA11=0,'Source data'!BC11=""),"",'Source data'!BC11/'Source data'!BA11-1) -> 0.71014493 | G12: =IF(OR('Source data'!BB11="",'Source data'!BB11=0,'Source data'!BD11=""),"",'Source data'!BD11/'Source data'!BB11-1) -> 5.0485437 | H12: =IF(OR('Source data'!BC11="",'Source data'!BC11=0,'Source data'!BE11=""),"",'Source data'!BE11/'Source data'!BC11-1) -> 0.95762712 | I12: =IF(OR('Source data'!BD11="",'Source data'!BD11=0,'Source data'!BF11=""),"",'Source data'!BF11/'Source data'!BD11-1) -> -0.78812199 | ... K12: =IF(OR('Source data'!BF11="",'Source data'!BF11=0,'Source data'!BH11=""),"",'Source data'!BH11/'Source data'!BF11-1)
A13: Japan | B13: =IF(OR('Source data'!AW12="",'Source data'!AW12=0,'Source data'!AY12=""),"",'Source data'!AY12/'Source data'!AW12-1) -> 0.48780488 | C13: =IF(OR('Source data'!AX12="",'Source data'!AX12=0,'Source data'!AZ12=""),"",'Source data'!AZ12/'Source data'!AX12-1) -> 2.2079208 | D13: =IF(OR('Source data'!AY12="",'Source data'!AY12=0,'Source data'!BA12=""),"",'Source data'!BA12/'Source data'!AY12-1) -> -0.87704918 | E13: =IF(OR('Source data'!AZ12="",'Source data'!AZ12=0,'Source data'!BB12=""),"",'Source data'!BB12/'Source data'!AZ12-1) -> -0.89197531 | F13: =IF(OR('Source data'!BA12="",'Source data'!BA12=0,'Source data'!BC12=""),"",'Source data'!BC12/'Source data'!BA12-1) -> 6.5333333 | G13: =IF(OR('Source data'!BB12="",'Source data'!BB12=0,'Source data'!BD12=""),"",'Source data'!BD12/'Source data'!BB12-1) -> 14.685714 | H13: =IF(OR('Source data'!BC12="",'Source data'!BC12=0,'Source data'!BE12=""),"",'Source data'!BE12/'Source data'!BC12-1) -> 0.2920354 | I13: =IF(OR('Source data'!BD12="",'Source data'!BD12=0,'Source data'!BF12=""),"",'Source data'!BF12/'Source data'!BD12-1) -> -0.76502732 | ... K13: =IF(OR('Source data'!BF12="",'Source data'!BF12=0,'Source data'!BH12=""),"",'Source data'!BH12/'Source data'!BF12-1)
A14: Philippines | B14: =IF(OR('Source data'!AW13="",'Source data'!AW13=0,'Source data'!AY13=""),"",'Source data'!AY13/'Source data'!AW13-1) -> -0.40625 | C14: =IF(OR('Source data'!AX13="",'Source data'!AX13=0,'Source data'!AZ13=""),"",'Source data'!AZ13/'Source data'!AX13-1) -> 0.42035398 | D14: =IF(OR('Source data'!AY13="",'Source data'!AY13=0,'Source data'!BA13=""),"",'Source data'!BA13/'Source data'!AY13-1) -> -0.24561404 | E14: =IF(OR('Source data'!AZ13="",'Source data'!AZ13=0,'Source data'!BB13=""),"",'Source data'!BB13/'Source data'!AZ13-1) -> -0.41121495 | F14: =IF(OR('Source data'!BA13="",'Source data'!BA13=0,'Source data'!BC13=""),"",'Source data'!BC13/'Source data'!BA13-1) -> 0.98837209 | G14: =IF(OR('Source data'!BB13="",'Source data'!BB13=0,'Source data'!BD13=""),"",'Source data'!BD13/'Source data'!BB13-1) -> 8.5396825 | H14: =IF(OR('Source data'!BC13="",'Source data'!BC13=0,'Source data'!BE13=""),"",'Source data'!BE13/'Source data'!BC13-1) -> 2.7017544 | I14: =IF(OR('Source data'!BD13="",'Source data'!BD13=0,'Source data'!BF13=""),"",'Source data'!BF13/'Source data'!BD13-1) -> -0.76095397 | ... K14: =IF(OR('Source data'!BF13="",'Source data'!BF13=0,'Source data'!BH13=""),"",'Source data'!BH13/'Source data'!BF13-1)
A15: Australia | B15: =IF(OR('Source data'!AW14="",'Source data'!AW14=0,'Source data'!AY14=""),"",'Source data'!AY14/'Source data'!AW14-1) -> -0.12403101 | C15: =IF(OR('Source data'!AX14="",'Source data'!AX14=0,'Source data'!AZ14=""),"",'Source data'!AZ14/'Source data'!AX14-1) -> 1.7946429 | D15: =IF(OR('Source data'!AY14="",'Source data'!AY14=0,'Source data'!BA14=""),"",'Source data'!BA14/'Source data'!AY14-1) -> -0.84955752 | E15: =IF(OR('Source data'!AZ14="",'Source data'!AZ14=0,'Source data'!BB14=""),"",'Source data'!BB14/'Source data'!AZ14-1) -> -0.88178914 | F15: =IF(OR('Source data'!BA14="",'Source data'!BA14=0,'Source data'!BC14=""),"",'Source data'!BC14/'Source data'!BA14-1) -> 5.1176471 | G15: =IF(OR('Source data'!BB14="",'Source data'!BB14=0,'Source data'!BD14=""),"",'Source data'!BD14/'Source data'!BB14-1) -> 9.2162162 | H15: =IF(OR('Source data'!BC14="",'Source data'!BC14=0,'Source data'!BE14=""),"",'Source data'!BE14/'Source data'!BC14-1) -> -0.076923077 | I15: =IF(OR('Source data'!BD14="",'Source data'!BD14=0,'Source data'!BF14=""),"",'Source data'!BF14/'Source data'!BD14-1) -> -0.81481481 | ... K15: =IF(OR('Source data'!BF14="",'Source data'!BF14=0,'Source data'!BH14=""),"",'Source data'!BH14/'Source data'!BF14-1)
A16: Germany | B16: =IF(OR('Source data'!AW15="",'Source data'!AW15=0,'Source data'!AY15=""),"",'Source data'!AY15/'Source data'!AW15-1) -> 0.61971831 | C16: =IF(OR('Source data'!AX15="",'Source data'!AX15=0,'Source data'!AZ15=""),"",'Source data'!AZ15/'Source data'!AX15-1) -> 2.1170213 | D16: =IF(OR('Source data'!AY15="",'Source data'!AY15=0,'Source data'!BA15=""),"",'Source data'!BA15/'Source data'!AY15-1) -> -0.85217391 | E16: =IF(OR('Source data'!AZ15="",'Source data'!AZ15=0,'Source data'!BB15=""),"",'Source data'!BB15/'Source data'!AZ15-1) -> -0.89419795 | F16: =IF(OR('Source data'!BA15="",'Source data'!BA15=0,'Source data'!BC15=""),"",'Source data'!BC15/'Source data'!BA15-1) -> 3.7058824 | G16: =IF(OR('Source data'!BB15="",'Source data'!BB15=0,'Source data'!BD15=""),"",'Source data'!BD15/'Source data'!BB15-1) -> 7.7096774 | H16: =IF(OR('Source data'!BC15="",'Source data'!BC15=0,'Source data'!BE15=""),"",'Source data'!BE15/'Source data'!BC15-1) -> 0.325 | I16: =IF(OR('Source data'!BD15="",'Source data'!BD15=0,'Source data'!BF15=""),"",'Source data'!BF15/'Source data'!BD15-1) -> -0.4962963 | ... K16: =IF(OR('Source data'!BF15="",'Source data'!BF15=0,'Source data'!BH15=""),"",'Source data'!BH15/'Source data'!BF15-1)
... A221: Virgin Islands, British | B221: =IF(OR('Source data'!AW220="",'Source data'!AW220=0,'Source data'!AY220=""),"",'Source data'!AY220/'Source data'!AW220-1) | C221: =IF(OR('Source data'!AX220="",'Source data'!AX220=0,'Source data'!AZ220=""),"",'Source data'!AZ220/'Source data'!AX220-1) | D221: =IF(OR('Source data'!AY220="",'Source data'!AY220=0,'Source data'!BA220=""),"",'Source data'!BA220/'Source data'!AY220-1) | E221: =IF(OR('Source data'!AZ220="",'Source data'!AZ220=0,'Source data'!BB220=""),"",'Source data'!BB220/'Source data'!AZ220-1) | F221: =IF(OR('Source data'!BA220="",'Source data'!BA220=0,'Source data'!BC220=""),"",'Source data'!BC220/'Source data'!BA220-1) | G221: =IF(OR('Source data'!BB220="",'Source data'!BB220=0,'Source data'!BD220=""),"",'Source data'!BD220/'Source data'!BB220-1) | H221: =IF(OR('Source data'!BC220="",'Source data'!BC220=0,'Source data'!BE220=""),"",'Source data'!BE220/'Source data'!BC220-1) | I221: =IF(OR('Source data'!BD220="",'Source data'!BD220=0,'Source data'!BF220=""),"",'Source data'!BF220/'Source data'!BD220-1) | ... K221: =IF(OR('Source data'!BF220="",'Source data'!BF220=0,'Source data'!BH220=""),"",'Source data'!BH220/'Source data'!BF220-1)

Sheet Source data
A1: IRCC source data (normalized quarterly and annual totals) | B1: 2015 Q1 | C1: 2015 Q2 | D1: 2015 Q3 | E1: 2015 Q4 | F1: 2016 Q1 | G1: 2016 Q2 | H1: 2016 Q3 | I1: 2016 Q4 | J1: 2017 Q1 | K1: 2017 Q2 | L1: 2017 Q3 | M1: 2017 Q4 | N1: 2018 Q1 | O1: 2018 Q2 | P1: 2018 Q3 | Q1: 2018 Q4 | R1: 2019 Q1 | S1: 2019 Q2 | T1: 2019 Q3 | U1: 2019 Q4 | V1: 2020 Q1 | W1: 2020 Q2 | X1: 2020 Q3 | Y1: 2020 Q4 | Z1: 2021 Q1 | AA1: 2021 Q2 | AB1: 2021 Q3 | AC1: 2021 Q4 | AD1: 2022 Q1 | AE1: 2022 Q2 | AF1: 2022 Q3 | AG1: 2022 Q4 | AH1: 2023 Q1 | AI1: 2023 Q2 | AJ1: 2023 Q3 | AK1: 2023 Q4 | AL1: 2024 Q1 | AM1: 2024 Q2 | AN1: 2024 Q3 | AO1: 2024 Q4 | AP1: 2025 Q1 | AQ1: 2025 Q2 | AR1: 2025 Q3 | AS1: 2025 Q4 | AT1: 2026 Q1 | AU1: 2026 Q2 | AV1: 2026 Q3 | AW1: Annual 2015 | AX1: Annual 2016 | AY1: Annual 2017 | AZ1: Annual 2018 | BA1: Annual 2019 | BB1: Annual 2020 | BC1: Annual 2021 | BD1: Annual 2022 | BE1: Annual 2023 | BF1: Annual 2024 | BG1: Annual 2025 | BH1: 2026 YTD
A2: Source: IRCC, International Mobility Program work permit holders by country of citizenship, downloaded 2026-10-28. “--” is a suppressed value below 5 and is stored as blank. 2026 is year-to-date through Q3. | B2: 13815 | C2: 16080 | D2: 21590 | E2: 180485 | F2: 20940 | G2: 21020 | H2: 18745 | I2: 15665 | J2: 25250 | K2: 24515 | L2: 16170 | M2: 20365 | N2: 70980 | O2: 79505 | P2: 62600 | Q2: 19710 | R2: 22705 | S2: 30875 | T2: 323475 | U2: 63420 | V2: 12690 | W2: 33225 | X2: 35255 | Y2: 21810 | Z2: 29935 | AA2: 21085 | AB2: 22610 | AC2: 35310 | AD2: 147045 | AE2: 151020 | AF2: 72960 | AG2: 63665 | AH2: 75290 | AI2: 761180 | AJ2: 229940 | AK2: 180290 | AL2: 48995 | AM2: 62050 | AN2: 41425 | AO2: 45390 | AP2: 48830 | AQ2: 79780 | AR2: 76940 | AS2: 49060 | AW2: 15900 | AX2: 16215 | AY2: 18540 | AZ2: 62660 | BA2: 16710 | BB2: 23125 | BC2: 45105 | BD2: 196300 | BE2: 60270 | BF2: 52900 | BG2: 108420 | BI2: UN M49 region
A3: Country | B3: 2015 Q1 | C3: 2015 Q2 | D3: 2015 Q3 | E3: 2015 Q4 | F3: 2016 Q1 | G3: 2016 Q2 | H3: 2016 Q3 | I3: 2016 Q4 | J3: 2017 Q1 | K3: 2017 Q2 | L3: 2017 Q3 | M3: 2017 Q4 | N3: 2018 Q1 | O3: 2018 Q2 | P3: 2018 Q3 | Q3: 2018 Q4 | R3: 2019 Q1 | S3: 2019 Q2 | T3: 2019 Q3 | U3: 2019 Q4 | V3: 2020 Q1 | W3: 2020 Q2 | X3: 2020 Q3 | Y3: 2020 Q4 | Z3: 2021 Q1 | AA3: 2021 Q2 | AB3: 2021 Q3 | AC3: 2021 Q4 | AD3: 2022 Q1 | AE3: 2022 Q2 | AF3: 2022 Q3 | AG3: 2022 Q4 | AH3: 2023 Q1 | AI3: 2023 Q2 | AJ3: 2023 Q3 | AK3: 2023 Q4 | AL3: 2024 Q1 | AM3: 2024 Q2 | AN3: 2024 Q3 | AO3: 2024 Q4 | AP3: 2025 Q1 | AQ3: 2025 Q2 | AR3: 2025 Q3 | AS3: 2025 Q4 | AT3: 2026 Q1 | AU3: 2026 Q2 | AV3: 2026 Q3 | AW3: Annual 2015 | AX3: Annual 2016 | AY3: Annual 2017 | AZ3: Annual 2018 | BA3: Annual 2019 | BB3: Annual 2020 | BC3: Annual 2021 | BD3: Annual 2022 | BE3: Annual 2023 | BF3: Annual 2024 | BG3: Annual 2025 | BH3: 2026 YTD | BI3: Region
A4: Canada total | B4: 13815 | C4: 16080 | D4: 21590 | E4: 180485 | F4: 20940 | G4: 21020 | H4: 18745 | I4: 15665 | J4: 25250 | K4: 24515 | L4: 16170 | M4: 20365 | N4: 70980 | O4: 79505 | P4: 62600 | Q4: 19710 | R4: 22705 | S4: 30875 | T4: 323475 | U4: 63420 | V4: 12690 | W4: 33225 | X4: 35255 | Y4: 21810 | Z4: 29935 | AA4: 21085 | AB4: 22610 | AC4: 35310 | AD4: 147045 | AE4: 151020 | AF4: 72960 | AG4: 63665 | AH4: 75290 | AI4: 761180 | AJ4: 229940 | AK4: 180290 | AL4: 48995 | AM4: 62050 | AN4: 41425 | AO4: 45390 | AP4: 48830 | AQ4: 79780 | AR4: 76940 | AS4: 49060 | AW4: 15900 | AX4: 16215 | AY4: 18540 | AZ4: 62660 | BA4: 16710 | BB4: 23125 | BC4: 45105 | BD4: 196300 | BE4: 60270 | BF4: 52900 | BG4: 108420 | BI4: National total
A5: India | B5: 1775 | C5: 1270 | D5: 2995 | E5: 21540 | F5: 2660 | G5: 3080 | H5: 3475 | I5: 1925 | J5: 3075 | K5: 4625 | L5: 3145 | M5: 4060 | N5: 11615 | O5: 19300 | P5: 16905 | Q5: 4190 | R5: 4785 | S5: 9110 | T5: 90655 | U5: 18165 | V5: 3700 | W5: 13385 | X5: 14645 | Y5: 8285 | Z5: 11000 | AA5: 6135 | AB5: 8565 | AC5: 8285 | AD5: 46245 | AE5: 48705 | AF5: 20090 | AG5: 21440 | AH5: 24960 | AI5: 250545 | AJ5: 56490 | AK5: 52420 | AL5: 15510 | AM5: 22560 | AN5: 12620 | AO5: 13060 | AP5: 18260 | AQ5: 36205 | AR5: 31460 | AS5: 14915 | AW5: 2330 | AX5: 2385 | AY5: 3600 | AZ5: 15045 | BA5: 8720 | BB5: 8170 | BC5: 10575 | BD5: 76795 | BE5: 17795 | BF5: 17885 | BG5: 32030 | BI5: Asia
A6: France | B6: 2105 | C6: 1775 | D6: 1605 | E6: 17870 | F6: 2005 | G6: 1905 | H6: 970 | I6: 1760 | J6: 2795 | K6: 2390 | L6: 1325 | M6: 2140 | N6: 7690 | O6: 7400 | P6: 4770 | Q6: 2140 | R6: 2550 | S6: 2925 | T6: 30580 | U6: 7795 | V6: 1330 | W6: 2505 | X6: 2390 | Y6: 1675 | Z6: 2460 | AA6: 1855 | AB6: 1940 | AC6: 2040 | AD6: 8765 | AE6: 6905 | AF6: 2910 | AG6: 3540 | AH6: 2735 | AI6: 32075 | AJ6: 7200 | AK6: 6685 | AL6: 1515 | AM6: 1955 | AN6: 2190 | AO6: 1470 | AP6: 1095 | AQ6: 1960 | AR6: 2320 | AS6: 2115 | AW6: 1435 | AX6: 1625 | AY6: 2115 | AZ6: 6875 | BA6: 690 | BB6: 2025 | BC6: 2430 | BD6: 9910 | BE6: 1895 | BF6: 1615 | BG6: 3770 | BI6: Europe
A7: United States of America | B7: 1810 | C7: 2355 | D7: 2395 | E7: 24530 | F7: 3140 | G7: 2935 | H7: 2025 | I7: 2360 | J7: 3370 | K7: 2705 | L7: 1535 | M7: 1760 | N7: 8605 | O7: 7830 | P7: 5400 | Q7: 1990 | R7: 2840 | S7: 2310 | T7: 27055 | U7: 4810 | V7: 1140 | W7: 1090 | X7: 1415 | Y7: 1110 | Z7: 1730 | AA7: 955 | AB7: 1100 | AC7: 1955 | AD7: 5730 | AE7: 4190 | AF7: 1475 | AG7: 2250 | AH7: 1590 | AI7: 19090 | AJ7: 4325 | AK7: 6325 | AL7: 1205 | AM7: 1320 | AN7: 1690 | AO7: 1790 | AP7: 1315 | AQ7: 1490 | AR7: 2485 | AS7: 2770 | AW7: 2265 | AX7: 1875 | AY7: 2135 | AZ7: 5810 | BA7: 140 | BB7: 1130 | BC7: 2295 | BD7: 6115 | BE7: 2010 | BF7: 1890 | BG7: 5280 | BI7: Americas
A8: China, People's Republic of | B8: 890 | C8: 915 | D8: 2030 | E8: 15565 | F8: 1800 | G8: 1870 | H8: 1790 | I8: 1125 | J8: 2270 | K8: 2670 | L8: 1505 | M8: 2150 | N8: 5265 | O8: 7605 | P8: 5290 | Q8: 1145 | R8: 1650 | S8: 2905 | T8: 24340 | U8: 4155 | V8: 1010 | W8: 3995 | X8: 2445 | Y8: 1890 | Z8: 2095 | AA8: 1060 | AB8: 1410 | AC8: 920 | AD8: 5430 | AE8: 7775 | AF8: 2240 | AG8: 2130 | AH8: 2610 | AI8: 30450 | AJ8: 7105 | AK8: 5905 | AL8: 2330 | AM8: 2745 | AN8: 1495 | AO8: 1590 | AP8: 2335 | AQ8: 2795 | AR8: 2905 | AS8: 2240 | AW8: 1710 | AX8: 1480 | AY8: 1345 | AZ8: 4340 | BA8: 1460 | BB8: 1580 | BC8: 1290 | BD8: 7795 | BE8: 2130 | BF8: 1825 | BG8: 4795 | BI8: Asia
A9: United Kingdom and Overseas Territories | B9: 580 | C9: 835 | D9: 1105 | E9: 8690 | F9: 1000 | G9: 845 | H9: 1090 | I9: 845 | J9: 1505 | K9: 935 | L9: 625 | M9: 915 | N9: 3375 | O9: 3145 | P9: 2640 | Q9: 855 | R9: 965 | S9: 1215 | T9: 12860 | U9: 2650 | V9: 375 | W9: 635 | X9: 665 | Y9: 420 | Z9: 670 | AA9: 540 | AB9: 465 | AC9: 795 | AD9: 2955 | AE9: 3840 | AF9: 930 | AG9: 2055 | AH9: 1435 | AI9: 13650 | AJ9: 2635 | AK9: 4545 | AL9: 1835 | AM9: 875 | AN9: 1320 | AO9: 1005 | AP9: 665 | AQ9: 850 | AR9: 1595 | AS9: 1380 | AW9: 630 | AX9: 620 | AY9: 730 | AZ9: 2690 | BA9: 210 | BB9: 570 | BC9: 1605 | BD9: 4120 | BE9: 1085 | BF9: 990 | BG9: 2595 | BI9: Europe
A10: Brazil | B10: 200 | C10: 205 | D10: 275 | E10: 2740 | F10: 305 | G10: 650 | H10: 380 | I10: 365 | J10: 510 | K10: 695 | L10: 625 | M10: 615 | N10: 1850 | O10: 2655 | P10: 2385 | Q10: 550 | R10: 695 | S10: 855 | T10: 10170 | U10: 1985 | V10: 550 | W10: 1185 | X10: 1080 | Y10: 520 | Z10: 865 | AA10: 910 | AB10: 490 | AC10: 430 | AD10: 2560 | AE10: 2280 | AF10: 810 | AG10: 740 | AH10: 985 | AI10: 11600 | AJ10: 2485 | AK10: 2000 | AL10: 560 | AM10: 710 | AN10: 565 | AO10: 530 | AP10: 650 | AQ10: 720 | AR10: 890 | AS10: 810 | AW10: 280 | AX10: 355 | AY10: 430 | AZ10: 2220 | BA10: 675 | BB10: 685 | BC10: 570 | BD10: 2535 | BE10: 605 | BF10: 565 | BG10: 1475 | BI10: Americas
A11: Korea, Republic of | B11: 480 | C11: 740 | D11: 940 | E11: 7715 | F11: 590 | G11: 830 | H11: 700 | I11: 580 | J11: 1280 | K11: 1005 | L11: 695 | M11: 800 | N11: 1950 | O11: 2500 | P11: 1950 | Q11: 680 | R11: 770 | S11: 825 | T11: 9690 | U11: 1840 | V11: 355 | W11: 930 | X11: 805 | Y11: 440 | Z11: 525 | AA11: 460 | AB11: 500 | AC11: 545 | AD11: 2315 | AE11: 2085 | AF11: 990 | AG11: 890 | AH11: 935 | AI11: 10645 | AJ11: 3570 | AK11: 4225 | AL11: 700 | AM11: 850 | AN11: 1270 | AO11: 845 | AP11: 685 | AQ11: 1150 | AR11: 1405 | AS11: 1010 | AW11: 485 | AX11: 865 | AY11: 580 | AZ11: 2045 | BA11: 345 | BB11: 515 | BC11: 590 | BD11: 3115 | BE11: 1155 | BF11: 660 | BG11: 2130 | BI11: Asia
A12: Japan | B12: 455 | C12: 945 | D12: 925 | E12: 6775 | F12: 715 | G12: 580 | H12: 455 | I12: 395 | J12: 765 | K12: 805 | L12: 350 | M12: 435 | N12: 2570 | O12: 1955 | P12: 1350 | Q12: 725 | R12: 635 | S12: 630 | T12: 7735 | U12: 1260 | V12: 110 | W12: 250 | X12: 270 | Y12: 165 | Z12: 275 | AA12: 230 | AB12: 280 | AC12: 510 | AD12: 1790 | AE12: 1505 | AF12: 685 | AG12: 895 | AH12: 780 | AI12: 8475 | AJ12: 1765 | AK12: 2955 | AL12: 455 | AM12: 450 | AN12: 965 | AO12: 725 | AP12: 395 | AQ12: 465 | AR12: 1520 | AS12: 730 | AW12: 410 | AX12: 505 | AY12: 610 | AZ12: 1620 | BA12: 75 | BB12: 175 | BC12: 565 | BD12: 2745 | BE12: 730 | BF12: 645 | BG12: 1680 | BI12: Asia
A13: Philippines | B13: 1005 | C13: 955 | D13: 1270 | E13: 11550 | F13: 935 | G13: 790 | H13: 745 | I13: 780 | J13: 700 | K13: 750 | L13: 710 | M13: 785 | N13: 1685 | O13: 1570 | P13: 1625 | Q13: 455 | R13: 525 | S13: 570 | T13: 7430 | U13: 1525 | V13: 420 | W13: 895 | X13: 1100 | Y13: 785 | Z13: 1010 | AA13: 1380 | AB13: 745 | AC13: 695 | AD13: 5650 | AE13: 6225 | AF13: 2115 | AG13: 3135 | AH13: 3715 | AI13: 35565 | AJ13: 8290 | AK13: 10180 | AL13: 2680 | AM13: 2745 | AN13: 2310 | AO13: 2225 | AP13: 2825 | AQ13: 3065 | AR13: 3430 | AS13: 2030 | AW13: 960 | AX13: 1130 | AY13: 570 | AZ13: 1605 | BA13: 430 | BB13: 945 | BC13: 855 | BD13: 9015 | BE13: 3165 | BF13: 2155 | BG13: 4280 | BI13: Asia
A14: Australia | B14: 580 | C14: 750 | D14: 1570 | E14: 9420 | F14: 905 | G14: 735 | H14: 1840 | I14: 825 | J14: 845 | K14: 640 | L14: 615 | M14: 520 | N14: 2330 | O14: 1850 | P14: 3280 | Q14: 455 | R14: 600 | S14: 1175 | T14: 8725 | U14: 1350 | V14: 140 | W14: 240 | X14: 260 | Y14: 165 | Z14: 135 | AA14: 205 | AB14: 240 | AC14: 460 | AD14: 1155 | AE14: 2995 | AF14: 420 | AG14: 710 | AH14: 1130 | AI14: 7655 | AJ14: 1230 | AK14: 2050 | AL14: 1480 | AM14: 390 | AN14: 650 | AO14: 390 | AP14: 500 | AQ14: 310 | AR14: 770 | AS14: 470 | AW14: 645 | AX14: 560 | AY14: 565 | AZ14: 1565 | BA14: 85 | BB14: 185 | BC14: 520 | BD14: 1890 | BE14: 480 | BF14: 350 | BG14: 965 | BI14: Oceania
A15: Germany | B15: 315 | C15: 960 | D15: 625 | E15: 5540 | F15: 535 | G15: 975 | H15: 415 | I15: 465 | J15: 550 | K15: 935 | L15: 300 | M15: 540 | N15: 1830 | O15: 2765 | P15: 1060 | Q15: 565 | R15: 710 | S15: 690 | T15: 7235 | U15: 1240 | V15: 265 | W15: 220 | X15: 260 | Y15: 155 | Z15: 275 | AA15: 200 | AB15: 235 | AC15: 410 | AD15: 1965 | AE15: 1230 | AF15: 445 | AG15: 455 | AH15: 570 | AI15: 5725 | AJ15: 1160 | AK15: 1450 | AL15: 395 | AM15: 345 | AN15: 460 | AO15: 435 | AP15: 205 | AQ15: 295 | AR15: 425 | AS15: 735 | AW15: 355 | AX15: 470 | AY15: 575 | AZ15: 1465 | BA15: 85 | BB15: 155 | BC15: 400 | BD15: 1350 | BE15: 530 | BF15: 680 | BG15: 1215 | BI15: Europe
... A54: Croatia | B54: 50 | C54: 50 | D54: 65 | E54: 590 | F54: 70 | G54: 65 | H54: 30 | I54: 40 | J54: 50 | K54: 50 | L54: 75 | M54: 60 | N54: 170 | O54: 130 | P54: 105 | Q54: 50 | R54: 30 | S54: 35 | T54: 560 | U54: 80 | V54: 10 | W54: 25 | X54: 35 | Y54: 20 | Z54: 15 | AA54: 10 | AB54: 10 | AC54: 20 | AD54: 65 | AE54: 55 | AF54: 25 | AG54: 15 | AH54: 25 | AI54: 265 | AJ54: 45 | AK54: 65 | AL54: 20 | AM54: 15 | AN54: 5 | AO54: 5 | AP54: 15 | AQ54: 5 | AR54: 15 | AS54: 45 | AW54: 35 | AX54: 65 | AY54: 60 | AZ54: 125 | BA54: 10 | BB54: 10 | BC54: 20 | BD54: 60 | BE54: 15 | BF54: 10 | BG54: 50 | BI54: Europe
A55: Slovak Republic | B55: 30 | C55: 40 | D55: 40 | E55: 395 | F55: 55 | G55: 25 | H55: 35 | I55: 40 | J55: 60 | K55: 60 | L55: 45 | M55: 55 | N55: 130 | O55: 125 | P55: 80 | Q55: 35 | R55: 25 | S55: 25 | T55: 435 | U55: 130 | V55: 25 | W55: 10 | X55: 35 | Y55: 20 | Z55: 35 | AA55: 20 | AB55: 25 | AC55: 20 | AD55: 125 | AE55: 115 | AF55: 45 | AG55: 65 | AH55: 45 | AI55: 505 | AJ55: 115 | AK55: 135 | AL55: 30 | AM55: 40 | AN55: 40 | AO55: 15 | AP55: 15 | AQ55: 30 | AR55: 45 | AS55: 40 | AW55: 35 | AX55: 35 | AY55: 35 | AZ55: 125 | BB55: 30 | BC55: 55 | BD55: 145 | BE55: 40 | BF55: 25 | BG55: 65 | BI55: Europe
A56: Austria | B56: 15 | C56: 40 | D56: 30 | E56: 270 | F56: 20 | G56: 30 | H56: 20 | I56: 25 | J56: 30 | K56: 25 | L56: 15 | M56: 20 | N56: 105 | O56: 120 | P56: 80 | Q56: 40 | R56: 45 | S56: 55 | T56: 520 | U56: 105 | V56: 15 | W56: 25 | X56: 25 | Y56: 20 | Z56: 30 | AA56: 10 | AB56: 15 | AC56: 10 | AD56: 130 | AE56: 90 | AF56: 20 | AG56: 35 | AH56: 35 | AI56: 420 | AJ56: 90 | AK56: 130 | AL56: 25 | AM56: 30 | AN56: 30 | AO56: 40 | AP56: 10 | AQ56: 20 | AR56: 55 | AS56: 45 | AW56: 25 | AX56: 20 | AY56: 30 | AZ56: 110 | BA56: 5 | BB56: 15 | BC56: 15 | BD56: 130 | BE56: 45 | BF56: 50 | BG56: 80 | BI56: Europe
A57: Ghana | B57: 15 | C57: 10 | D57: 25 | E57: 230 | F57: 35 | G57: 50 | H57: 50 | I57: 20 | J57: 25 | K57: 65 | L57: 30 | M57: 35 | N57: 110 | O57: 115 | P57: 115 | Q57: 30 | R57: 25 | S57: 55 | T57: 460 | U57: 115 | V57: 10 | W57: 85 | X57: 100 | Y57: 60 | Z57: 70 | AA57: 35 | AB57: 55 | AC57: 50 | AD57: 220 | AE57: 260 | AF57: 95 | AG57: 105 | AH57: 165 | AI57: 1655 | AJ57: 590 | AK57: 655 | AL57: 255 | AM57: 285 | AN57: 190 | AO57: 195 | AP57: 470 | AQ57: 625 | AR57: 745 | AS57: 355 | AW57: 25 | AX57: 20 | AY57: 30 | AZ57: 105 | BA57: 15 | BB57: 45 | BC57: 60 | BD57: 385 | BE57: 260 | BF57: 270 | BG57: 795 | BI57: Africa
A58: Senegal | B58: 10 | C58: 15 | D58: 30 | E58: 205 | F58: 25 | G58: 30 | H58: 30 | I58: 25 | J58: 40 | K58: 30 | L58: 15 | M58: 55 | N58: 100 | O58: 110 | P58: 70 | Q58: 35 | R58: 55 | S58: 40 | T58: 485 | U58: 105 | V58: 20 | W58: 105 | X58: 85 | Y58: 55 | Z58: 85 | AA58: 45 | AB58: 45 | AC58: 40 | AD58: 185 | AE58: 255 | AF58: 60 | AG58: 80 | AH58: 115 | AI58: 1105 | AJ58: 300 | AK58: 335 | AL58: 115 | AM58: 130 | AN58: 90 | AO58: 90 | AP58: 125 | AQ58: 305 | AR58: 415 | AS58: 365 | AW58: 20 | AX58: 30 | AY58: 35 | AZ58: 105 | BA58: 15 | BB58: 55 | BC58: 50 | BD58: 300 | BE58: 150 | BF58: 85 | BG58: 760 | BI58: Africa
A59: Denmark | B59: 20 | C59: 35 | D59: 60 | E59: 465 | F59: 30 | G59: 65 | H59: 155 | I59: 45 | J59: 40 | K59: 65 | L59: 20 | M59: 30 | N59: 105 | O59: 110 | P59: 235 | Q59: 35 | R59: 45 | S59: 35 | T59: 565 | U59: 85 | V59: 10 | W59: 45 | X59: 20 | Y59: 10 | Z59: 20 | AA59: 50 | AB59: 15 | AC59: 30 | AD59: 120 | AE59: 270 | AF59: 20 | AG59: 25 | AH59: 30 | AI59: 480 | AJ59: 80 | AK59: 90 | AL59: 135 | AM59: 40 | AN59: 30 | AO59: 30 | AP59: 50 | AQ59: 25 | AR59: 20 | AS59: 60 | AW59: 40 | AX59: 35 | AY59: 35 | AZ59: 100 | BB59: 10 | BC59: 15 | BD59: 80 | BE59: 40 | BF59: 45 | BG59: 115 | BI59: Europe
A60: Malaysia | B60: 20 | C60: 20 | D60: 50 | E60: 325 | F60: 60 | G60: 35 | H60: 25 | I60: 15 | J60: 50 | K60: 60 | L60: 30 | M60: 30 | N60: 105 | O60: 175 | P60: 125 | Q60: 25 | R60: 30 | S60: 55 | T60: 520 | U60: 65 | V60: 30 | W60: 85 | X60: 45 | Y60: 25 | Z60: 45 | AA60: 25 | AB60: 45 | AC60: 15 | AD60: 140 | AE60: 135 | AF60: 45 | AG60: 50 | AH60: 35 | AI60: 675 | AJ60: 125 | AK60: 120 | AL60: 20 | AM60: 45 | AN60: 20 | AO60: 20 | AP60: 35 | AQ60: 50 | AR60: 45 | AS60: 50 | AW60: 35 | AX60: 20 | AY60: 25 | AZ60: 100 | BA60: 30 | BB60: 25 | BC60: 30 | BD60: 205 | BE60: 35 | BF60: 35 | BG60: 110 | BI60: Asia
A61: Argentina | B61: 25 | C61: 15 | D61: 25 | E61: 265 | F61: 30 | G61: 20 | H61: 25 | I61: 35 | J61: 35 | K61: 40 | L61: 20 | M61: 25 | N61: 135 | O61: 100 | P61: 80 | Q61: 20 | R61: 30 | S61: 30 | T61: 380 | U61: 95 | V61: 20 | W61: 40 | X61: 50 | Y61: 45 | Z61: 40 | AA61: 55 | AB61: 45 | AC61: 45 | AD61: 200 | AE61: 205 | AF61: 75 | AG61: 75 | AH61: 95 | AI61: 930 | AJ61: 190 | AK61: 190 | AL61: 40 | AM61: 85 | AN61: 60 | AO61: 40 | AP61: 60 | AQ61: 50 | AR61: 55 | AS61: 40 | AW61: 25 | AX61: 25 | AY61: 40 | AZ61: 95 | BA61: 20 | BB61: 45 | BC61: 60 | BD61: 205 | BE61: 40 | BF61: 60 | BG61: 90 | BI61: Americas
A62: Ivory Coast, Republic of | B62: 15 | C62: 15 | D62: 15 | E62: 135 | F62: 15 | G62: 30 | H62: 10 | I62: 15 | J62: 20 | K62: 25 | L62: 10 | M62: 25 | N62: 75 | O62: 110 | P62: 60 | Q62: 35 | R62: 30 | S62: 30 | T62: 410 | U62: 100 | V62: 35 | W62: 105 | X62: 85 | Y62: 60 | Z62: 95 | AA62: 40 | AB62: 25 | AC62: 30 | AD62: 170 | AE62: 275 | AF62: 70 | AG62: 120 | AH62: 175 | AI62: 1400 | AJ62: 365 | AK62: 345 | AL62: 110 | AM62: 160 | AN62: 105 | AO62: 90 | AP62: 120 | AQ62: 320 | AR62: 360 | AS62: 280 | AW62: 20 | AX62: 25 | AY62: 25 | AZ62: 95 | BA62: 10 | BB62: 45 | BC62: 60 | BD62: 375 | BE62: 185 | BF62: 95 | BG62: 635 | BI62: Africa
A63: Libya | B63: 45 | C63: 20 | D63: 85 | E63: 410 | F63: 50 | G63: 35 | H63: 50 | I63: 20 | J63: 40 | K63: 60 | L63: 30 | M63: 40 | N63: 85 | O63: 65 | P63: 80 | Q63: 30 | R63: 25 | S63: 40 | T63: 370 | U63: 45 | V63: 20 | W63: 30 | X63: 35 | Y63: 20 | Z63: 15 | AA63: 15 | AB63: 10 | AC63: 15 | AD63: 75 | AE63: 70 | AF63: 30 | AG63: 15 | AH63: 25 | AI63: 225 | AJ63: 65 | AK63: 40 | AL63: 10 | AM63: 20 | AN63: 10 | AO63: 10 | AP63: 10 | AQ63: 5 | AR63: 10 | AS63: 15 | AW63: 35 | AX63: 30 | AY63: 20 | AZ63: 95 | BA63: 15 | BB63: 25 | BC63: 15 | BD63: 45 | BE63: 10 | BF63: 5 | BG63: 45 | BI63: Africa
A64: Sri Lanka | B64: 15 | C64: 10 | D64: 30 | E64: 220 | F64: 25 | G64: 25 | H64: 25 | I64: 15 | J64: 20 | K64: 40 | L64: 25 | M64: 25 | N64: 75 | O64: 95 | P64: 105 | Q64: 20 | R64: 30 | S64: 55 | T64: 530 | U64: 125 | V64: 25 | W64: 65 | X64: 110 | Y64: 90 | Z64: 115 | AA64: 125 | AB64: 80 | AC64: 90 | AD64: 535 | AE64: 970 | AF64: 365 | AG64: 480 | AH64: 365 | AI64: 4870 | AJ64: 1210 | AK64: 1185 | AL64: 290 | AM64: 530 | AN64: 370 | AO64: 310 | AP64: 380 | AQ64: 475 | AR64: 630 | AS64: 315 | AW64: 15 | AX64: 20 | AY64: 15 | AZ64: 95 | BA64: 40 | BB64: 105 | BC64: 100 | BD64: 1360 | BE64: 285 | BF64: 310 | BG64: 655 | BI64: Asia
A65: Peru | B65: 15 | C65: 15 | D65: 30 | E65: 210 | F65: 25 | G65: 25 | H65: 25 | I65: 20 | J65: 25 | K65: 40 | L65: 25 | M65: 30 | N65: 60 | O65: 125 | P65: 75 | Q65: 40 | R65: 35 | S65: 30 | T65: 445 | U65: 80 | V65: 20 | W65: 65 | X65: 70 | Y65: 50 | Z65: 80 | AA65: 115 | AB65: 50 | AC65: 70 | AD65: 515 | AE65: 415 | AF65: 140 | AG65: 210 | AH65: 220 | AI65: 2575 | AJ65: 710 | AK65: 670 | AL65: 195 | AM65: 205 | AN65: 170 | AO65: 165 | AP65: 225 | AQ65: 245 | AR65: 280 | AS65: 370 | AW65: 15 | AX65: 20 | AY65: 15 | AZ65: 90 | BA65: 25 | BB65: 60 | BC65: 75 | BD65: 635 | BE65: 195 | BF65: 170 | BG65: 600 | BI65: Americas
A66: Lithuania | B66: 10 | C66: 20 | D66: 45 | E66: 210 | F66: 30 | G66: 25 | H66: 15 | I66: 20 | J66: 30 | K66: 35 | L66: 15 | M66: 20 | N66: 105 | O66: 80 | P66: 50 | Q66: 40 | R66: 10 | S66: 25 | T66: 270 | U66: 55 | V66: 5 | W66: 10 | X66: 15 | Y66: 10 | Z66: 10 | AA66: 10 | AB66: 15 | AC66: 25 | AD66: 65 | AE66: 80 | AF66: 25 | AG66: 20 | AH66: 20 | AI66: 270 | AJ66: 70 | AK66: 75 | AL66: 25 | AM66: 15 | AN66: 25 | AO66: 5 | AP66: 10 | AQ66: 15 | AR66: 25 | AS66: 20 | AW66: 20 | AX66: 25 | AY66: 30 | AZ66: 80 | BA66: 5 | BC66: 20 | BD66: 75 | BE66: 15 | BF66: 15 | BG66: 40 | BI66: Europe
A67: Serbia, Republic of | B67: 20 | C67: 20 | D67: 25 | E67: 220 | F67: 25 | G67: 35 | H67: 25 | I67: 25 | J67: 30 | K67: 30 | L67: 15 | M67: 15 | N67: 80 | O67: 65 | P67: 100 | Q67: 20 | R67: 35 | S67: 35 | T67: 345 | U67: 55 | V67: 15 | W67: 20 | X67: 45 | Y67: 15 | Z67: 15 | AA67: 20 | AB67: 15 | AC67: 15 | AD67: 85 | AE67: 70 | AF67: 20 | AG67: 25 | AH67: 30 | AI67: 320 | AJ67: 75 | AK67: 70 | AL67: 20 | AM67: 20 | AN67: 15 | AO67: 15 | AP67: 20 | AQ67: 20 | AR67: 20 | AS67: 25 | AW67: 20 | AX67: 15 | AY67: 10 | AZ67: 80 | BA67: 10 | BB67: 20 | BC67: 10 | BD67: 85 | BE67: 20 | BF67: 10 | BG67: 50 | BI67: Europe
A68: Ecuador | B68: 5 | C68: 5 | D68: 10 | E68: 95 | F68: 20 | G68: 10 | H68: 15 | I68: 10 | J68: 15 | K68: 20 | L68: 15 | M68: 20 | N68: 80 | O68: 105 | P68: 55 | Q68: 30 | R68: 15 | S68: 50 | T68: 410 | U68: 80 | V68: 20 | W68: 95 | X68: 70 | Y68: 40 | Z68: 60 | AA68: 75 | AB68: 35 | AC68: 20 | AD68: 220 | AE68: 290 | AF68: 80 | AG68: 85 | AH68: 140 | AI68: 1455 | AJ68: 280 | AK68: 295 | AL68: 70 | AM68: 105 | AN68: 105 | AO68: 80 | AP68: 120 | AQ68: 135 | AR68: 170 | AS68: 95 | AW68: 10 | AX68: 10 | AY68: 10 | AZ68: 75 | BA68: 35 | BB68: 45 | BC68: 45 | BD68: 340 | BE68: 120 | BF68: 130 | BG68: 210 | BI68: Americas
A69: Singapore | B69: 10 | C69: 10 | D69: 25 | E69: 185 | F69: 20 | G69: 15 | H69: 15 | I69: 15 | J69: 20 | K69: 20 | L69: 10 | M69: 15 | N69: 65 | O69: 95 | P69: 50 | Q69: 20 | R69: 20 | S69: 20 | T69: 305 | U69: 55 | V69: 15 | W69: 35 | X69: 20 | Y69: 10 | Z69: 25 | AA69: 20 | AB69: 10 | AC69: 15 | AD69: 95 | AE69: 105 | AF69: 25 | AG69: 35 | AH69: 25 | AI69: 345 | AJ69: 75 | AK69: 55 | AL69: 25 | AM69: 25 | AN69: 10 | AO69: 15 | AP69: 25 | AQ69: 25 | AR69: 30 | AS69: 30 | AW69: 15 | AX69: 10 | AY69: 20 | AZ69: 75 | BA69: 5 | BB69: 15 | BC69: 15 | BD69: 90 | BE69: 20 | BF69: 35 | BG69: 70 | BI69: Asia
A70: Mauritius | B70: 35 | C70: 20 | D70: 30 | E70: 250 | F70: 40 | G70: 25 | H70: 20 | I70: 20 | J70: 30 | K70: 40 | L70: 25 | M70: 30 | N70: 85 | O70: 120 | P70: 75 | Q70: 20 | R70: 20 | S70: 45 | T70: 405 | U70: 100 | V70: 25 | W70: 75 | X70: 50 | Y70: 25 | Z70: 55 | AA70: 35 | AB70: 25 | AC70: 20 | AD70: 170 | AE70: 225 | AF70: 45 | AG70: 65 | AH70: 95 | AI70: 895 | AJ70: 225 | AK70: 225 | AL70: 75 | AM70: 50 | AN70: 55 | AO70: 55 | AP70: 80 | AQ70: 100 | AR70: 105 | AS70: 80 | AW70: 25 | AX70: 25 | AY70: 20 | AZ70: 70 | BA70: 55 | BB70: 35 | BC70: 35 | BD70: 200 | BE70: 105 | BF70: 45 | BG70: 180 | BI70: Africa
A71: Indonesia, Republic of | B71: 15 | C71: 20 | D71: 45 | E71: 305 | F71: 35 | G71: 35 | H71: 20 | I71: 20 | J71: 30 | K71: 35 | L71: 20 | M71: 40 | N71: 100 | O71: 160 | P71: 90 | Q71: 15 | R71: 30 | S71: 45 | T71: 445 | U71: 80 | V71: 20 | W71: 90 | X71: 40 | Y71: 45 | Z71: 60 | AA71: 30 | AB71: 40 | AC71: 40 | AD71: 175 | AE71: 235 | AF71: 80 | AG71: 55 | AH71: 90 | AI71: 990 | AJ71: 170 | AK71: 195 | AL71: 50 | AM71: 55 | AN71: 55 | AO71: 30 | AP71: 90 | AQ71: 125 | AR71: 130 | AS71: 95 | AW71: 35 | AX71: 35 | AY71: 25 | AZ71: 65 | BA71: 30 | BB71: 40 | BC71: 20 | BD71: 260 | BE71: 80 | BF71: 60 | BG71: 240 | BI71: Asia
A72: Lebanon | B72: 5 | C72: 10 | D72: 30 | E72: 215 | F72: 15 | G72: 20 | H72: 20 | I72: 15 | J72: 25 | K72: 30 | L72: 15 | M72: 30 | N72: 85 | O72: 105 | P72: 70 | Q72: 20 | R72: 25 | S72: 30 | T72: 360 | U72: 80 | V72: 15 | W72: 30 | X72: 50 | Y72: 50 | Z72: 55 | AA72: 35 | AB72: 50 | AC72: 65 | AD72: 290 | AE72: 290 | AF72: 125 | AG72: 115 | AH72: 140 | AI72: 1365 | AJ72: 410 | AK72: 290 | AL72: 155 | AM72: 895 | AN72: 155 | AO72: 80 | AP72: 210 | AQ72: 185 | AR72: 130 | AS72: 80 | AW72: 20 | AX72: 10 | AY72: 15 | AZ72: 65 | BA72: 30 | BB72: 60 | BC72: 85 | BD72: 350 | BE72: 110 | BF72: 105 | BG72: 210 | BI72: Asia
A73: Norway | B73: 20 | C73: 20 | D73: 30 | E73: 240 | F73: 25 | G73: 35 | H73: 25 | I73: 25 | J73: 15 | K73: 25 | L73: 15 | M73: 20 | N73: 90 | O73: 70 | P73: 65 | Q73: 30 | R73: 20 | S73: 20 | T73: 280 | U73: 40 | V73: 5 | W73: 5 | X73: 15 | Z73: 10 | AA73: 5 | AB73: 5 | AC73: 15 | AD73: 55 | AE73: 60 | AF73: 15 | AG73: 10 | AH73: 10 | AI73: 200 | AJ73: 55 | AK73: 50 | AL73: 20 | AM73: 20 | AN73: 20 | AO73: 25 | AP73: 10 | AQ73: 15 | AR73: 15 | AS73: 40 | AW73: 30 | AX73: 30 | AY73: 30 | AZ73: 65 | BA73: 5 | BB73: 5 | BC73: 15 | BD73: 50 | BE73: 25 | BF73: 40 | BG73: 65 | BI73: Europe
A74: Bulgaria | E74: 55 | F74: 15 | G74: 5 | J74: 10 | K74: 15 | M74: 5 | N74: 65 | O74: 55 | P74: 20 | Q74: 30 | R74: 15 | S74: 10 | T74: 245 | U74: 15 | V74: 5 | W74: 10 | X74: 10 | Y74: 10 | Z74: 10 | AA74: 5 | AB74: 10 | AD74: 40 | AE74: 20 | AF74: 10 | AG74: 10 | AH74: 10 | AI74: 225 | AJ74: 25 | AK74: 55 | AL74: 5 | AM74: 10 | AN74: 10 | AQ74: 10 | AR74: 5 | AS74: 50 | AY74: 15 | AZ74: 60 | BB74: 5 | BC74: 5 | BD74: 30 | BG74: 65 | BI74: Europe
A75: Finland | B75: 20 | C75: 10 | D75: 25 | E75: 190 | F75: 25 | G75: 25 | H75: 20 | I75: 20 | J75: 25 | K75: 35 | L75: 15 | M75: 25 | N75: 85 | O75: 85 | P75: 65 | Q75: 15 | R75: 20 | S75: 15 | T75: 255 | U75: 60 | V75: 10 | W75: 15 | X75: 15 | Y75: 10 | Z75: 15 | AA75: 10 | AB75: 10 | AC75: 5 | AD75: 50 | AE75: 40 | AF75: 10 | AG75: 15 | AH75: 15 | AI75: 185 | AJ75: 45 | AK75: 60 | AL75: 30 | AM75: 20 | AN75: 15 | AO75: 20 | AP75: 25 | AQ75: 15 | AR75: 50 | AS75: 55 | AW75: 20 | AX75: 20 | AY75: 15 | AZ75: 60 | BB75: 10 | BC75: 20 | BD75: 45 | BE75: 20 | BF75: 25 | BG75: 85 | BI75: Europe
A76: Costa Rica | B76: 5 | C76: 25 | D76: 25 | E76: 160 | F76: 15 | G76: 20 | H76: 20 | I76: 10 | J76: 30 | K76: 25 | L76: 15 | M76: 15 | N76: 70 | O76: 50 | P76: 25 | Q76: 25 | R76: 20 | S76: 10 | T76: 240 | U76: 45 | V76: 15 | W76: 20 | X76: 10 | Y76: 15 | Z76: 30 | AA76: 15 | AB76: 25 | AC76: 35 | AD76: 115 | AE76: 105 | AF76: 40 | AG76: 90 | AH76: 155 | AI76: 900 | AJ76: 255 | AK76: 295 | AL76: 90 | AM76: 85 | AN76: 115 | AO76: 80 | AP76: 30 | AQ76: 30 | AR76: 40 | AS76: 35 | AW76: 15 | AX76: 15 | AY76: 10 | AZ76: 50 | BA76: 5 | BB76: 20 | BC76: 30 | BD76: 175 | BE76: 75 | BF76: 95 | BG76: 90 | BI76: Americas
A77: Kuwait | B77: 5 | C77: 10 | E77: 70 | F77: 10 | H77: 5 | J77: 20 | M77: 10 | N77: 45 | O77: 15 | P77: 15 | Q77: 40 | R77: 5 | S77: 5 | T77: 130 | U77: 30 | V77: 20 | W77: 10 | X77: 15 | Y77: 20 | Z77: 5 | AA77: 5 | AB77: 10 | AC77: 25 | AD77: 45 | AE77: 40 | AF77: 50 | AG77: 40 | AH77: 10 | AI77: 255 | AJ77: 60 | AK77: 80 | AL77: 10 | AM77: 10 | AN77: 20 | AO77: 20 | AP77: 15 | AQ77: 5 | AR77: 30 | AW77: 5 | AX77: 5 | AY77: 10 | AZ77: 50 | BA77: 10 | BB77: 25 | BC77: 45 | BD77: 95 | BE77: 20 | BF77: 10 | BG77: 20 | BI77: Asia
A78: Trinidad and Tobago, Republic of | B78: 10 | C78: 10 | D78: 20 | E78: 160 | F78: 10 | G78: 20 | H78: 15 | I78: 25 | J78: 15 | K78: 15 | L78: 15 | M78: 5 | N78: 50 | O78: 65 | P78: 40 | Q78: 20 | R78: 15 | S78: 30 | T78: 260 | U78: 40 | W78: 25 | X78: 25 | Y78: 25 | Z78: 25 | AA78: 20 | AB78: 15 | AC78: 25 | AD78: 100 | AE78: 120 | AF78: 45 | AG78: 45 | AH78: 50 | AI78: 565 | AJ78: 110 | AK78: 125 | AL78: 35 | AM78: 40 | AN78: 35 | AO78: 25 | AP78: 45 | AQ78: 60 | AR78: 60 | AS78: 35 | AW78: 10 | AX78: 10 | AY78: 25 | AZ78: 50 | BA78: 5 | BB78: 10 | BC78: 20 | BD78: 150 | BE78: 55 | BF78: 30 | BG78: 90 | BI78: Americas
A79: Albania | B79: 5 | C79: 5 | D79: 10 | E79: 85 | F79: 10 | G79: 15 | H79: 20 | J79: 15 | K79: 15 | L79: 15 | M79: 15 | N79: 40 | O79: 45 | P79: 60 | Q79: 15 | R79: 20 | S79: 35 | T79: 265 | U79: 65 | V79: 10 | W79: 30 | X79: 50 | Y79: 20 | Z79: 30 | AA79: 25 | AB79: 20 | AC79: 15 | AD79: 120 | AE79: 95 | AF79: 55 | AG79: 50 | AH79: 65 | AI79: 660 | AJ79: 160 | AK79: 150 | AL79: 75 | AM79: 60 | AN79: 40 | AO79: 60 | AP79: 45 | AQ79: 65 | AR79: 60 | AS79: 50 | AW79: 5 | AX79: 5 | AY79: 10 | AZ79: 45 | BA79: 15 | BB79: 45 | BC79: 30 | BD79: 155 | BE79: 45 | BF79: 45 | BG79: 105 | BI79: Europe
A80: El Salvador | B80: 10 | D80: 15 | E80: 100 | F80: 5 | G80: 10 | H80: 15 | I80: 10 | J80: 20 | K80: 10 | L80: 15 | M80: 5 | N80: 40 | O80: 50 | P80: 45 | R80: 10 | S80: 20 | T80: 170 | U80: 30 | V80: 10 | W80: 30 | X80: 30 | Y80: 25 | Z80: 20 | AA80: 10 | AB80: 15 | AC80: 10 | AD80: 55 | AE80: 70 | AF80: 20 | AG80: 15 | AH80: 35 | AI80: 345 | AJ80: 85 | AK80: 105 | AL80: 15 | AM80: 30 | AN80: 20 | AO80: 30 | AP80: 35 | AQ80: 30 | AR80: 35 | AS80: 35 | AW80: 10 | AX80: 15 | AY80: 10 | AZ80: 45 | BA80: 15 | BB80: 15 | BC80: 5 | BD80: 75 | BE80: 35 | BF80: 35 | BG80: 55 | BI80: Americas
A81: Jordan | B81: 15 | C81: 10 | D81: 15 | E81: 130 | F81: 15 | G81: 15 | H81: 20 | I81: 10 | J81: 20 | K81: 20 | L81: 10 | M81: 15 | N81: 55 | O81: 50 | P81: 55 | Q81: 10 | R81: 20 | S81: 30 | T81: 265 | U81: 65 | V81: 10 | W81: 35 | X81: 35 | Y81: 35 | Z81: 35 | AA81: 35 | AB81: 35 | AC81: 30 | AD81: 200 | AE81: 225 | AF81: 90 | AG81: 70 | AH81: 85 | AI81: 960 | AJ81: 340 | AK81: 205 | AL81: 45 | AM81: 80 | AN81: 45 | AO81: 45 | AP81: 65 | AQ81: 65 | AR81: 105 | AS81: 50 | AW81: 10 | AX81: 10 | AY81: 15 | AZ81: 45 | BA81: 30 | BB81: 35 | BC81: 65 | BD81: 255 | BE81: 80 | BF81: 40 | BG81: 170 | BI81: Asia
A82: Thailand | B82: 20 | C82: 25 | D82: 40 | E82: 355 | F82: 35 | G82: 65 | H82: 25 | I82: 35 | J82: 40 | K82: 20 | L82: 15 | M82: 25 | N82: 80 | O82: 80 | P82: 55 | Q82: 10 | R82: 25 | S82: 30 | T82: 285 | U82: 55 | V82: 15 | W82: 35 | X82: 30 | Y82: 25 | Z82: 25 | AA82: 20 | AB82: 20 | AC82: 15 | AD82: 160 | AE82: 150 | AF82: 55 | AG82: 75 | AH82: 90 | AI82: 800 | AJ82: 175 | AK82: 250 | AL82: 55 | AM82: 90 | AN82: 65 | AO82: 65 | AP82: 75 | AQ82: 105 | AR82: 105 | AS82: 50 | AW82: 30 | AX82: 35 | AY82: 20 | AZ82: 45 | BA82: 20 | BB82: 15 | BC82: 45 | BD82: 210 | BE82: 110 | BF82: 50 | BG82: 145 | BI82: Asia
A83: Benin, Republic of | B83: 10 | D83: 15 | E83: 115 | F83: 10 | G83: 20 | I83: 10 | J83: 15 | K83: 15 | L83: 15 | M83: 20 | N83: 35 | O83: 55 | P83: 25 | Q83: 10 | R83: 15 | S83: 5 | T83: 175 | U83: 35 | V83: 10 | W83: 40 | X83: 40 | Y83: 20 | Z83: 30 | AA83: 20 | AB83: 15 | AC83: 15 | AD83: 80 | AE83: 80 | AF83: 25 | AG83: 20 | AH83: 45 | AI83: 360 | AJ83: 120 | AK83: 105 | AL83: 40 | AM83: 45 | AN83: 20 | AO83: 20 | AP83: 35 | AQ83: 100 | AR83: 95 | AS83: 75 | AW83: 15 | AX83: 15 | AY83: 15 | AZ83: 40 | BA83: 5 | BB83: 20 | BC83: 25 | BD83: 80 | BE83: 40 | BF83: 35 | BG83: 165 | BI83: Africa
A84: Congo, Democratic Republic of the | B84: 5 | D84: 10 | E84: 75 | F84: 10 | G84: 15 | H84: 5 | I84: 10 | J84: 10 | K84: 30 | L84: 10 | M84: 20 | N84: 45 | O84: 80 | P84: 35 | Q84: 5 | R84: 20 | S84: 35 | T84: 250 | U84: 60 | V84: 10 | W84: 20 | X84: 40 | Y84: 30 | Z84: 65 | AA84: 30 | AB84: 15 | AC84: 20 | AD84: 120 | AE84: 235 | AF84: 60 | AG84: 105 | AH84: 95 | AI84: 890 | AJ84: 215 | AK84: 215 | AL84: 75 | AM84: 90 | AN84: 60 | AO84: 60 | AP84: 60 | AQ84: 185 | AR84: 220 | AS84: 250 | AW84: 10 | AY84: 10 | AZ84: 40 | BA84: 10 | BB84: 30 | BC84: 35 | BD84: 275 | BE84: 105 | BF84: 50 | BG84: 355 | BI84: Africa
A85: Cuba | B85: 10 | D85: 5 | E85: 80 | G85: 10 | H85: 5 | I85: 15 | J85: 5 | K85: 15 | L85: 20 | M85: 10 | N85: 35 | O85: 30 | P85: 35 | Q85: 5 | R85: 15 | S85: 20 | T85: 165 | U85: 30 | V85: 5 | W85: 15 | X85: 25 | Y85: 10 | Z85: 15 | AA85: 25 | AB85: 10 | AC85: 5 | AD85: 85 | AE85: 65 | AF85: 25 | AG85: 15 | AH85: 35 | AI85: 350 | AJ85: 100 | AK85: 80 | AL85: 20 | AM85: 40 | AN85: 25 | AO85: 25 | AP85: 30 | AQ85: 25 | AR85: 45 | AS85: 35 | AW85: 25 | AY85: 10 | AZ85: 40 | BA85: 10 | BB85: 15 | BC85: 10 | BD85: 70 | BE85: 30 | BF85: 20 | BG85: 65 | BI85: Americas
A86: Dominican Republic | B86: 5 | C86: 10 | D86: 10 | E86: 95 | F86: 15 | G86: 5 | H86: 10 | I86: 5 | J86: 15 | K86: 20 | L86: 15 | M86: 5 | N86: 60 | O86: 75 | P86: 50 | Q86: 10 | R86: 15 | S86: 15 | T86: 235 | U86: 45 | V86: 5 | W86: 30 | X86: 40 | Y86: 15 | Z86: 30 | AA86: 40 | AB86: 25 | AC86: 20 | AD86: 125 | AE86: 130 | AF86: 50 | AG86: 45 | AH86: 75 | AI86: 780 | AJ86: 160 | AK86: 140 | AL86: 45 | AM86: 50 | AN86: 70 | AO86: 65 | AP86: 50 | AQ86: 50 | AR86: 100 | AS86: 55 | AW86: 10 | AX86: 10 | AY86: 15 | AZ86: 40 | BA86: 20 | BB86: 20 | BC86: 15 | BD86: 165 | BE86: 50 | BF86: 65 | BG86: 115 | BI86: Americas
A87: Haiti | B87: 5 | C87: 5 | D87: 15 | E87: 115 | F87: 10 | G87: 15 | H87: 15 | I87: 15 | J87: 10 | K87: 25 | L87: 10 | M87: 30 | N87: 45 | O87: 65 | P87: 30 | Q87: 10 | R87: 15 | S87: 30 | T87: 235 | U87: 55 | V87: 15 | W87: 25 | X87: 45 | Y87: 20 | Z87: 35 | AA87: 25 | AB87: 40 | AC87: 25 | AD87: 145 | AE87: 205 | AF87: 60 | AG87: 65 | AH87: 135 | AI87: 1185 | AJ87: 390 | AK87: 335 | AL87: 900 | AM87: 865 | AN87: 105 | AO87: 65 | AP87: 260 | AQ87: 290 | AR87: 320 | AS87: 220 | AW87: 20 | AX87: 10 | AY87: 15 | AZ87: 40 | BA87: 25 | BB87: 30 | BC87: 30 | BD87: 250 | BE87: 455 | BF87: 115 | BG87: 515 | BI87: Americas
A88: Kazakhstan | B88: 5 | C88: 5 | D88: 15 | E88: 120 | F88: 15 | G88: 20 | H88: 20 | I88: 5 | J88: 15 | K88: 30 | L88: 5 | M88: 15 | N88: 40 | O88: 80 | P88: 50 | Q88: 10 | R88: 15 | S88: 25 | T88: 240 | U88: 35 | V88: 10 | W88: 40 | X88: 25 | Y88: 15 | Z88: 25 | AA88: 10 | AB88: 15 | AC88: 20 | AD88: 100 | AE88: 125 | AF88: 45 | AG88: 20 | AH88: 40 | AI88: 445 | AJ88: 120 | AK88: 90 | AL88: 40 | AM88: 25 | AN88: 15 | AO88: 25 | AP88: 30 | AQ88: 30 | AR88: 50 | AS88: 30 | AW88: 15 | AX88: 15 | AY88: 15 | AZ88: 40 | BA88: 15 | BB88: 15 | BC88: 20 | BD88: 110 | BE88: 35 | BF88: 20 | BG88: 85 | BI88: Asia
A89: Bahama Islands, The | C89: 10 | D89: 15 | E89: 80 | F89: 15 | G89: 15 | H89: 10 | I89: 10 | J89: 15 | K89: 20 | L89: 10 | M89: 15 | N89: 35 | O89: 110 | P89: 50 | Q89: 10 | R89: 15 | S89: 40 | T89: 295 | U89: 50 | V89: 5 | W89: 55 | X89: 30 | Y89: 25 | Z89: 60 | AA89: 30 | AB89: 20 | AC89: 15 | AD89: 85 | AE89: 160 | AF89: 40 | AG89: 40 | AH89: 65 | AI89: 585 | AJ89: 95 | AK89: 60 | AL89: 35 | AM89: 30 | AN89: 25 | AO89: 15 | AP89: 25 | AQ89: 20 | AR89: 40 | AS89: 30 | AW89: 10 | AX89: 10 | AY89: 5 | AZ89: 35 | BA89: 10 | BB89: 35 | BC89: 30 | BD89: 160 | BE89: 30 | BF89: 15 | BG89: 50 | BI89: Americas
A90: Guinea, Republic of | B90: 5 | C90: 5 | E90: 65 | F90: 10 | G90: 15 | H90: 5 | I90: 15 | J90: 10 | K90: 15 | L90: 10 | M90: 10 | N90: 30 | O90: 50 | P90: 25 | Q90: 10 | R90: 10 | S90: 10 | T90: 145 | U90: 30 | V90: 10 | W90: 25 | X90: 30 | Y90: 20 | Z90: 45 | AA90: 10 | AB90: 10 | AC90: 10 | AD90: 60 | AE90: 85 | AF90: 30 | AG90: 35 | AH90: 55 | AI90: 475 | AJ90: 160 | AK90: 140 | AL90: 55 | AM90: 85 | AN90: 40 | AO90: 45 | AP90: 65 | AQ90: 200 | AR90: 305 | AS90: 170 | AW90: 5 | AX90: 15 | AY90: 10 | AZ90: 35 | BA90: 10 | BB90: 20 | BC90: 15 | BD90: 125 | BE90: 50 | BF90: 40 | BG90: 355 | BI90: Africa
A91: Guyana | B91: 10 | D91: 20 | E91: 90 | F91: 10 | G91: 10 | H91: 15 | I91: 10 | J91: 10 | K91: 10 | L91: 10 | M91: 10 | N91: 35 | O91: 50 | P91: 35 | Q91: 15 | R91: 10 | S91: 25 | T91: 185 | U91: 35 | V91: 15 | W91: 40 | X91: 35 | Y91: 20 | Z91: 20 | AA91: 10 | AB91: 10 | AC91: 15 | AD91: 55 | AE91: 80 | AF91: 25 | AG91: 30 | AH91: 20 | AI91: 330 | AJ91: 60 | AK91: 50 | AL91: 15 | AM91: 35 | AN91: 10 | AO91: 10 | AP91: 10 | AQ91: 25 | AR91: 20 | AS91: 20 | AW91: 10 | AY91: 5 | AZ91: 35 | BA91: 15 | BB91: 20 | BC91: 10 | BD91: 90 | BE91: 15 | BF91: 15 | BG91: 50 | BI91: Americas
A92: Kenya | B92: 5 | C92: 5 | D92: 20 | E92: 140 | F92: 15 | G92: 20 | H92: 25 | I92: 5 | J92: 20 | K92: 30 | L92: 10 | M92: 20 | N92: 75 | O92: 110 | P92: 60 | Q92: 10 | R92: 20 | S92: 50 | T92: 345 | U92: 55 | V92: 15 | W92: 50 | X92: 45 | Y92: 40 | Z92: 45 | AA92: 25 | AB92: 25 | AC92: 35 | AD92: 175 | AE92: 180 | AF92: 60 | AG92: 65 | AH92: 65 | AI92: 830 | AJ92: 200 | AK92: 215 | AL92: 70 | AM92: 75 | AN92: 55 | AO92: 50 | AP92: 85 | AQ92: 150 | AR92: 180 | AS92: 115 | AW92: 15 | AX92: 10 | AY92: 10 | AZ92: 35 | BA92: 25 | BB92: 25 | BC92: 40 | BD92: 230 | BE92: 90 | BF92: 65 | BG92: 250 | BI92: Africa
A93: Madagascar | D93: 10 | E93: 45 | F93: 5 | H93: 5 | I93: 5 | J93: 10 | K93: 5 | L93: 5 | N93: 25 | O93: 45 | P93: 20 | Q93: 15 | R93: 10 | S93: 10 | T93: 145 | U93: 40 | V93: 15 | W93: 30 | X93: 30 | Y93: 15 | Z93: 25 | AA93: 20 | AB93: 15 | AC93: 25 | AD93: 60 | AE93: 75 | AF93: 25 | AG93: 20 | AH93: 55 | AI93: 400 | AJ93: 110 | AK93: 125 | AL93: 50 | AM93: 50 | AN93: 35 | AO93: 45 | AP93: 75 | AQ93: 65 | AR93: 80 | AS93: 100 | AX93: 5 | AY93: 15 | AZ93: 35 | BA93: 20 | BB93: 5 | BC93: 20 | BD93: 90 | BE93: 70 | BF93: 35 | BG93: 195 | BI93: Africa
A94: Mali, Republic of | C94: 10 | D94: 15 | E94: 90 | F94: 10 | G94: 15 | H94: 5 | I94: 10 | J94: 15 | K94: 15 | L94: 10 | M94: 10 | N94: 30 | O94: 65 | P94: 25 | Q94: 10 | R94: 15 | S94: 15 | T94: 170 | U94: 40 | V94: 10 | W94: 35 | X94: 35 | Y94: 10 | Z94: 30 | AA94: 15 | AC94: 5 | AD94: 45 | AE94: 95 | AF94: 20 | AG94: 25 | AH94: 25 | AI94: 285 | AJ94: 90 | AK94: 75 | AL94: 20 | AM94: 35 | AN94: 20 | AO94: 15 | AP94: 15 | AQ94: 65 | AR94: 60 | AS94: 60 | AW94: 5 | AX94: 5 | AY94: 10 | AZ94: 35 | BB94: 10 | BC94: 20 | BD94: 75 | BE94: 25 | BF94: 15 | BG94: 105 | BI94: Africa
A95: Slovenia | B95: 10 | C95: 15 | D95: 20 | E95: 130 | F95: 15 | G95: 10 | H95: 5 | J95: 20 | K95: 10 | L95: 5 | M95: 15 | N95: 30 | O95: 35 | P95: 30 | Q95: 10 | R95: 5 | S95: 10 | T95: 150 | U95: 25 | W95: 10 | X95: 10 | Y95: 5 | AA95: 5 | AD95: 15 | AE95: 15 | AF95: 5 | AG95: 5 | AH95: 20 | AI95: 90 | AJ95: 25 | AK95: 15 | AL95: 5 | AM95: 15 | AP95: 0 | AS95: 5 | AW95: 10 | AX95: 15 | AY95: 45 | AZ95: 35 | BB95: 10 | BD95: 25 | BE95: 10 | BG95: 10 | BI95: Europe
A96: Burkina-Faso | C96: 10 | D96: 10 | E96: 100 | F96: 15 | G96: 20 | I96: 10 | J96: 20 | K96: 5 | L96: 5 | M96: 20 | N96: 35 | O96: 45 | P96: 30 | Q96: 5 | R96: 15 | S96: 20 | T96: 165 | U96: 55 | V96: 15 | W96: 45 | X96: 30 | Y96: 25 | Z96: 30 | AA96: 15 | AB96: 5 | AC96: 20 | AD96: 80 | AE96: 85 | AF96: 25 | AG96: 20 | AH96: 35 | AI96: 385 | AJ96: 105 | AK96: 120 | AL96: 45 | AM96: 45 | AN96: 30 | AO96: 30 | AP96: 30 | AQ96: 90 | AR96: 105 | AS96: 80 | AW96: 15 | AX96: 5 | AY96: 10 | AZ96: 30 | BA96: 15 | BB96: 20 | BC96: 20 | BD96: 110 | BE96: 45 | BF96: 20 | BG96: 170 | BI96: Africa
A97: Latvia | C97: 15 | D97: 15 | E97: 110 | F97: 10 | G97: 15 | H97: 5 | I97: 10 | J97: 10 | K97: 15 | L97: 10 | M97: 15 | N97: 40 | O97: 35 | P97: 30 | Q97: 10 | R97: 15 | S97: 10 | T97: 125 | U97: 15 | X97: 10 | Z97: 5 | AB97: 5 | AC97: 15 | AD97: 30 | AE97: 30 | AF97: 25 | AG97: 10 | AH97: 15 | AI97: 235 | AJ97: 25 | AK97: 20 | AL97: 10 | AM97: 5 | AN97: 10 | AO97: 5 | AP97: 5 | AQ97: 10 | AR97: 20 | AS97: 10 | AW97: 5 | AX97: 10 | AY97: 5 | AZ97: 30 | BB97: 5 | BC97: 5 | BD97: 30 | BE97: 10 | BF97: 10 | BG97: 25 | BI97: Europe
A98: Zimbabwe | B98: 10 | D98: 20 | E98: 100 | F98: 15 | G98: 20 | H98: 15 | J98: 10 | K98: 25 | L98: 10 | M98: 20 | N98: 35 | O98: 60 | P98: 45 | Q98: 5 | R98: 15 | S98: 20 | T98: 205 | U98: 45 | V98: 15 | W98: 30 | X98: 15 | Y98: 20 | Z98: 25 | AA98: 15 | AB98: 20 | AC98: 10 | AD98: 65 | AE98: 115 | AF98: 35 | AG98: 35 | AH98: 45 | AI98: 470 | AJ98: 100 | AK98: 100 | AL98: 35 | AM98: 35 | AN98: 35 | AO98: 35 | AP98: 55 | AQ98: 80 | AR98: 80 | AS98: 50 | AW98: 10 | AX98: 10 | AY98: 10 | AZ98: 30 | BA98: 5 | BB98: 15 | BC98: 15 | BD98: 125 | BE98: 35 | BF98: 40 | BG98: 110 | BI98: Africa
A99: Ethiopia | B99: 5 | C99: 5 | D99: 15 | E99: 75 | F99: 10 | G99: 15 | H99: 10 | I99: 0 | J99: 10 | K99: 5 | L99: 15 | M99: 5 | N99: 30 | O99: 25 | P99: 30 | Q99: 5 | S99: 15 | T99: 130 | U99: 20 | V99: 5 | W99: 25 | X99: 20 | Y99: 10 | Z99: 10 | AA99: 5 | AB99: 10 | AC99: 10 | AD99: 40 | AE99: 75 | AF99: 15 | AG99: 10 | AH99: 20 | AI99: 220 | AJ99: 75 | AK99: 70 | AL99: 20 | AM99: 35 | AN99: 5 | AO99: 15 | AP99: 35 | AQ99: 30 | AR99: 35 | AS99: 25 | AW99: 5 | AX99: 5 | AY99: 15 | AZ99: 25 | BA99: 5 | BB99: 5 | BC99: 10 | BD99: 45 | BE99: 20 | BF99: 20 | BG99: 75 | BI99: Africa
A100: Guatemala | E100: 35 | J100: 5 | K100: 5 | M100: 5 | N100: 15 | O100: 20 | P100: 15 | Q100: 0 | R100: 5 | S100: 10 | T100: 80 | U100: 5 | V100: 5 | W100: 10 | X100: 10 | Y100: 5 | Z100: 10 | AA100: 10 | AB100: 20 | AC100: 5 | AD100: 50 | AE100: 50 | AF100: 30 | AG100: 25 | AH100: 25 | AI100: 260 | AJ100: 55 | AK100: 70 | AL100: 15 | AM100: 35 | AN100: 15 | AO100: 20 | AP100: 20 | AQ100: 25 | AR100: 25 | AS100: 30 | AY100: 5 | AZ100: 25 | BA100: 10 | BB100: 5 | BC100: 15 | BD100: 65 | BE100: 25 | BF100: 10 | BG100: 55 | BI100: Americas
A101: Togo, Republic of | B101: 5 | C101: 5 | D101: 5 | E101: 50 | F101: 5 | G101: 15 | H101: 5 | J101: 5 | K101: 10 | M101: 10 | N101: 20 | O101: 50 | P101: 25 | Q101: 10 | R101: 20 | S101: 20 | T101: 155 | U101: 35 | V101: 5 | W101: 25 | X101: 35 | Y101: 10 | Z101: 45 | AA101: 15 | AB101: 10 | AC101: 5 | AD101: 75 | AE101: 85 | AF101: 25 | AG101: 30 | AH101: 35 | AI101: 385 | AJ101: 130 | AK101: 115 | AL101: 35 | AM101: 50 | AN101: 20 | AO101: 25 | AP101: 30 | AQ101: 95 | AR101: 110 | AS101: 55 | AW101: 5 | AX101: 5 | AY101: 15 | AZ101: 25 | BB101: 20 | BC101: 10 | BD101: 100 | BE101: 45 | BF101: 20 | BG101: 140 | BI101: Africa
A102: Uganda | C102: 5 | D102: 10 | E102: 65 | F102: 15 | G102: 10 | H102: 10 | J102: 5 | K102: 10 | M102: 10 | N102: 25 | O102: 35 | P102: 25 | Q102: 10 | R102: 10 | S102: 10 | T102: 105 | U102: 20 | V102: 10 | W102: 15 | X102: 25 | Y102: 15 | Z102: 15 | AA102: 10 | AB102: 10 | AC102: 5 | AD102: 35 | AE102: 65 | AF102: 15 | AG102: 15 | AH102: 25 | AI102: 285 | AJ102: 35 | AK102: 70 | AL102: 20 | AM102: 25 | AN102: 15 | AO102: 10 | AP102: 20 | AQ102: 35 | AR102: 40 | AS102: 30 | AZ102: 25 | BA102: 10 | BB102: 10 | BC102: 15 | BD102: 65 | BE102: 20 | BF102: 25 | BG102: 45 | BI102: Africa
A103: Barbados | B103: 5 | C103: 5 | D103: 10 | E103: 75 | F103: 5 | G103: 20 | H103: 10 | J103: 5 | K103: 20 | L103: 10 | M103: 5 | N103: 25 | O103: 40 | P103: 30 | Q103: 5 | R103: 10 | S103: 30 | T103: 145 | U103: 30 | V103: 10 | W103: 30 | X103: 15 | Y103: 15 | Z103: 20 | AA103: 10 | AB103: 10 | AC103: 10 | AD103: 35 | AE103: 65 | AF103: 25 | AG103: 15 | AH103: 25 | AI103: 305 | AJ103: 55 | AK103: 55 | AL103: 20 | AM103: 30 | AN103: 15 | AO103: 15 | AP103: 10 | AQ103: 20 | AR103: 25 | AS103: 20 | AW103: 5 | AX103: 5 | AY103: 10 | AZ103: 20 | BA103: 10 | BB103: 15 | BC103: 10 | BD103: 85 | BE103: 15 | BF103: 10 | BG103: 40 | BI103: Americas
A104: Belarus | D104: 5 | E104: 55 | F104: 5 | G104: 5 | J104: 5 | K104: 15 | L104: 5 | M104: 10 | N104: 20 | O104: 20 | P104: 20 | Q104: 10 | R104: 5 | S104: 10 | T104: 100 | U104: 5 | W104: 10 | X104: 10 | Z104: 25 | AA104: 5 | AB104: 15 | AC104: 15 | AD104: 80 | AE104: 95 | AF104: 30 | AG104: 10 | AH104: 35 | AI104: 260 | AJ104: 150 | AK104: 45 | AL104: 15 | AM104: 15 | AN104: 10 | AO104: 15 | AP104: 15 | AQ104: 15 | AR104: 20 | AS104: 10 | AX104: 5 | AZ104: 20 | BB104: 10 | BC104: 20 | BD104: 45 | BE104: 30 | BF104: 20 | BG104: 65 | BI104: Europe
A105: Botswana, Republic of | C105: 0 | D105: 5 | E105: 35 | J105: 5 | N105: 5 | O105: 5 | P105: 10 | Q105: 0 | S105: 0 | T105: 30 | U105: 5 | AD105: 5 | AE105: 10 | AI105: 40 | AJ105: 5 | AN105: 0 | AR105: 5 | BD105: 10 | BF105: 0 | BG105: 10 | BI105: Africa
A106: Estonia | B106: 5 | C106: 15 | D106: 10 | E106: 125 | F106: 15 | G106: 10 | I106: 15 | J106: 10 | K106: 25 | L106: 10 | M106: 10 | N106: 80 | O106: 35 | P106: 25 | Q106: 10 | R106: 5 | S106: 10 | T106: 145 | U106: 30 | Y106: 5 | AC106: 10 | AD106: 20 | AE106: 20 | AF106: 5 | AG106: 20 | AH106: 10 | AI106: 220 | AJ106: 20 | AK106: 50 | AL106: 10 | AM106: 10 | AO106: 10 | AR106: 15 | AS106: 35 | AW106: 10 | AX106: 5 | AY106: 50 | AZ106: 20 | BC106: 10 | BD106: 40 | BE106: 5 | BF106: 10 | BG106: 45 | BI106: Europe
A107: Fiji | C107: 5 | D107: 5 | E107: 50 | H107: 5 | K107: 5 | N107: 10 | P107: 10 | T107: 20 | W107: 5 | AD107: 10 | AE107: 10 | AG107: 5 | AH107: 5 | AI107: 65 | AJ107: 20 | AK107: 15 | AM107: 10 | AN107: 5 | AP107: 5 | BA107: 0 | BB107: 0 | BC107: 0 | BD107: 15 | BE107: 5 | BG107: 5 | BI107: Oceania
A108: Honduras | B108: 5 | C108: 5 | D108: 10 | E108: 60 | F108: 5 | G108: 10 | I108: 5 | J108: 10 | K108: 10 | L108: 5 | N108: 25 | O108: 35 | P108: 35 | S108: 15 | T108: 120 | U108: 25 | V108: 10 | W108: 15 | X108: 20 | Y108: 15 | Z108: 15 | AA108: 25 | AB108: 10 | AC108: 5 | AD108: 55 | AE108: 70 | AF108: 35 | AG108: 25 | AH108: 50 | AI108: 405 | AJ108: 90 | AK108: 60 | AL108: 20 | AM108: 35 | AN108: 20 | AO108: 25 | AP108: 40 | AQ108: 40 | AR108: 40 | AS108: 50 | AZ108: 20 | BA108: 10 | BB108: 15 | BC108: 5 | BD108: 80 | BE108: 25 | BF108: 25 | BG108: 80 | BI108: Americas
A109: Moldova | B109: 10 | C109: 5 | D109: 15 | E109: 100 | F109: 10 | G109: 5 | H109: 5 | K109: 10 | L109: 5 | M109: 5 | N109: 30 | O109: 25 | P109: 25 | Q109: 5 | S109: 15 | T109: 80 | U109: 15 | W109: 5 | X109: 10 | Y109: 5 | Z109: 10 | AB109: 0 | AC109: 25 | AD109: 55 | AE109: 60 | AF109: 35 | AG109: 10 | AH109: 15 | AI109: 190 | AJ109: 145 | AK109: 30 | AL109: 5 | AM109: 15 | AN109: 5 | AO109: 15 | AP109: 10 | AQ109: 20 | AR109: 10 | AS109: 25 | AW109: 10 | AX109: 10 | AZ109: 20 | BC109: 30 | BD109: 45 | BE109: 25 | BF109: 10 | BG109: 90 | BI109: Europe
A110: Rwanda | D110: 5 | E110: 40 | G110: 5 | J110: 5 | K110: 5 | L110: 5 | M110: 5 | N110: 20 | O110: 40 | P110: 25 | Q110: 5 | R110: 10 | S110: 15 | T110: 135 | U110: 30 | V110: 10 | W110: 35 | X110: 20 | Y110: 30 | Z110: 30 | AA110: 15 | AB110: 15 | AC110: 15 | AD110: 90 | AE110: 65 | AF110: 30 | AG110: 35 | AH110: 50 | AI110: 495 | AJ110: 110 | AK110: 95 | AL110: 35 | AM110: 40 | AN110: 20 | AO110: 20 | AP110: 35 | AQ110: 50 | AR110: 75 | AS110: 50 | AX110: 5 | AZ110: 20 | BA110: 10 | BB110: 15 | BC110: 15 | BD110: 115 | BE110: 35 | BF110: 30 | BG110: 105 | BI110: Africa
A111: Syria | D111: 5 | E111: 75 | H111: 10 | I111: 5 | J111: 10 | L111: 5 | M111: 5 | N111: 20 | O111: 25 | P111: 25 | Q111: 10 | R111: 5 | S111: 10 | T111: 90 | U111: 10 | W111: 15 | X111: 10 | Y111: 5 | AA111: 5 | AB111: 10 | AC111: 15 | AD111: 55 | AE111: 55 | AF111: 35 | AG111: 20 | AH111: 50 | AI111: 435 | AJ111: 190 | AK111: 30 | AL111: 15 | AM111: 5 | AN111: 10 | AO111: 10 | AP111: 25 | AQ111: 15 | AR111: 20 | AS111: 20 | AY111: 5 | AZ111: 20 | BA111: 5 | BB111: 5 | BC111: 15 | BD111: 65 | BE111: 25 | BF111: 15 | BG111: 60 | BI111: Asia
A112: Uruguay | C112: 0 | E112: 20 | F112: 0 | L112: 5 | N112: 5 | O112: 15 | P112: 5 | Q112: 5 | T112: 75 | U112: 20 | V112: 5 | W112: 10 | X112: 10 | AD112: 15 | AE112: 15 | AF112: 5 | AI112: 60 | AJ112: 15 | AK112: 15 | AP112: 5 | AQ112: 10 | AS112: 5 | AW112: 5 | AZ112: 20 | BD112: 15 | BF112: 10 | BG112: 5 | BI112: Americas
A113: Bahrain | B113: 0 | E113: 10 | G113: 5 | H113: 0 | K113: 0 | O113: 10 | P113: 5 | T113: 20 | U113: 10 | V113: 0 | W113: 5 | Z113: 0 | AD113: 15 | AE113: 5 | AI113: 45 | AJ113: 5 | AK113: 15 | AW113: 0 | AX113: 0 | BB113: 0 | BD113: 15 | BE113: 5 | BI113: Asia
A114: Cambodia | C114: 0 | D114: 5 | E114: 35 | F114: 10 | N114: 5 | O114: 10 | T114: 30 | V114: 0 | AA114: 0 | AD114: 10 | AE114: 10 | AF114: 10 | AH114: 5 | AI114: 80 | AJ114: 15 | AK114: 15 | AL114: 5 | AM114: 10 | AO114: 5 | AP114: 5 | AQ114: 10 | AR114: 25 | AS114: 10 | AY114: 0 | BB114: 5 | BD114: 10 | BF114: 10 | BG114: 20 | BI114: Asia
A115: Congo, People's Republic of the | E115: 30 | I115: 5 | K115: 10 | M115: 10 | N115: 15 | O115: 15 | P115: 10 | S115: 10 | T115: 70 | U115: 15 | W115: 15 | Y115: 10 | Z115: 15 | AB115: 5 | AC115: 5 | AD115: 30 | AE115: 25 | AF115: 10 | AG115: 10 | AH115: 15 | AI115: 120 | AJ115: 30 | AK115: 40 | AL115: 10 | AM115: 10 | AN115: 10 | AO115: 5 | AP115: 15 | AQ115: 15 | AR115: 15 | AS115: 15 | AW115: 5 | AZ115: 15 | BB115: 5 | BC115: 5 | BD115: 35 | BE115: 15 | BF115: 5 | BG115: 30 | BI115: Africa
A116: Iceland | E116: 35 | G116: 5 | I116: 10 | J116: 10 | M116: 10 | N116: 15 | O116: 15 | P116: 5 | S116: 0 | T116: 35 | U116: 15 | W116: 5 | AD116: 5 | AE116: 10 | AI116: 35 | AJ116: 5 | AK116: 5 | AL116: 5 | AN116: 5 | AQ116: 5 | AR116: 5 | AS116: 0 | AZ116: 15 | BA116: 0 | BC116: 5 | BD116: 10 | BE116: 0 | BF116: 5 | BG116: 10 | BI116: Europe
A117: Iraq | C117: 5 | D117: 10 | E117: 50 | F117: 5 | G117: 10 | H117: 5 | I117: 5 | N117: 20 | O117: 10 | P117: 20 | R117: 5 | S117: 5 | T117: 70 | U117: 15 | V117: 0 | W117: 5 | Z117: 10 | AA117: 10 | AB117: 5 | AC117: 15 | AD117: 55 | AE117: 65 | AF117: 20 | AG117: 15 | AH117: 20 | AI117: 250 | AJ117: 75 | AK117: 55 | AL117: 10 | AM117: 25 | AN117: 10 | AO117: 10 | AP117: 25 | AQ117: 15 | AR117: 30 | AS117: 20 | AZ117: 15 | BC117: 20 | BD117: 45 | BE117: 20 | BF117: 10 | BG117: 45 | BI117: Asia
A118: Macedonia | D118: 5 | E118: 25 | G118: 5 | H118: 0 | K118: 5 | L118: 5 | N118: 15 | O118: 15 | P118: 10 | R118: 10 | T118: 60 | U118: 15 | W118: 5 | X118: 5 | AD118: 40 | AE118: 15 | AG118: 10 | AH118: 5 | AI118: 75 | AJ118: 15 | AK118: 35 | AL118: 5 | AM118: 5 | AR118: 0 | AS118: 10 | AY118: 60 | AZ118: 15 | BB118: 5 | BD118: 25 | BE118: 5 | BG118: 10 | BI118: Europe
A119: Panama, Republic of | D119: 5 | E119: 35 | H119: 5 | J119: 15 | K119: 5 | L119: 5 | N119: 10 | O119: 20 | P119: 20 | S119: 5 | T119: 55 | U119: 10 | W119: 15 | Y119: 5 | Z119: 10 | AA119: 10 | AD119: 20 | AE119: 30 | AF119: 15 | AG119: 10 | AH119: 20 | AI119: 205 | AJ119: 40 | AK119: 45 | AL119: 15 | AM119: 5 | AN119: 15 | AO119: 20 | AP119: 15 | AQ119: 20 | AR119: 20 | AS119: 15 | AZ119: 15 | BC119: 10 | BD119: 55 | BE119: 15 | BF119: 10 | BG119: 30 | BI119: Americas
A120: Tanzania, United Republic of | D120: 5 | E120: 60 | F120: 10 | G120: 10 | H120: 5 | I120: 5 | J120: 5 | K120: 15 | L120: 10 | M120: 10 | N120: 15 | O120: 40 | P120: 30 | R120: 10 | S120: 15 | T120: 135 | U120: 25 | V120: 10 | W120: 20 | X120: 15 | Y120: 10 | Z120: 20 | AA120: 10 | AB120: 10 | AD120: 55 | AE120: 60 | AF120: 15 | AG120: 20 | AH120: 15 | AI120: 260 | AJ120: 55 | AK120: 50 | AL120: 15 | AM120: 15 | AN120: 10 | AP120: 15 | AQ120: 30 | AR120: 30 | AS120: 20 | AW120: 10 | AX120: 5 | AY120: 10 | AZ120: 15 | BA120: 10 | BB120: 5 | BC120: 10 | BD120: 90 | BE120: 15 | BF120: 15 | BG120: 45 | BI120: Africa
A121: United Arab Emirates | D121: 0 | E121: 20 | H121: 0 | K121: 0 | N121: 15 | P121: 5 | Q121: 10 | T121: 45 | U121: 10 | X121: 0 | Y121: 10 | AA121: 0 | AC121: 10 | AD121: 15 | AE121: 20 | AF121: 15 | AG121: 15 | AI121: 75 | AJ121: 25 | AK121: 25 | AL121: 5 | AM121: 5 | AN121: 10 | AO121: 5 | AQ121: 5 | AR121: 10 | AS121: 5 | AX121: 0 | AY121: 5 | AZ121: 15 | BB121: 5 | BC121: 15 | BD121: 25 | BE121: 5 | BG121: 15 | BI121: Asia
A122: Yemen | D122: 5 | E122: 40 | G122: 5 | K122: 5 | L122: 10 | M122: 5 | N122: 10 | O122: 20 | P122: 10 | S122: 10 | T122: 70 | U122: 10 | X122: 10 | Z122: 10 | AA122: 5 | AC122: 10 | AD122: 25 | AE122: 25 | AF122: 15 | AG122: 15 | AH122: 5 | AI122: 120 | AJ122: 35 | AK122: 20 | AM122: 5 | AN122: 5 | AO122: 5 | AP122: 5 | AQ122: 5 | AR122: 15 | AS122: 10 | AX122: 5 | AZ122: 15 | BA122: 5 | BB122: 5 | BC122: 5 | BD122: 30 | BE122: 5 | BF122: 5 | BG122: 20 | BI122: Asia
A123: Zambia | D123: 10 | E123: 60 | G123: 5 | J123: 5 | K123: 5 | M123: 5 | N123: 10 | O123: 10 | P123: 20 | Q123: 5 | S123: 5 | T123: 55 | U123: 10 | W123: 5 | X123: 5 | Z123: 5 | AC123: 5 | AD123: 20 | AE123: 25 | AF123: 5 | AH123: 5 | AI123: 95 | AJ123: 20 | AK123: 20 | AL123: 15 | AM123: 5 | AP123: 15 | AQ123: 15 | AR123: 15 | AS123: 10 | AW123: 0 | AY123: 5 | AZ123: 15 | BB123: 5 | BD123: 25 | BE123: 5 | BF123: 5 | BG123: 25 | BI123: Africa
A124: Antigua and Barbuda | C124: 0 | E124: 20 | F124: 5 | G124: 5 | L124: 5 | N124: 10 | O124: 15 | P124: 10 | R124: 0 | S124: 10 | T124: 50 | U124: 5 | W124: 5 | X124: 5 | Z124: 10 | AB124: 5 | AD124: 20 | AE124: 10 | AF124: 5 | AG124: 5 | AI124: 85 | AJ124: 10 | AK124: 15 | AL124: 5 | AX124: 5 | AZ124: 10 | BA124: 0 | BC124: 0 | BD124: 30 | BG124: 10 | BI124: Americas
A125: Armenia | D125: 5 | E125: 35 | F125: 5 | G125: 5 | H125: 5 | L125: 0 | N125: 10 | O125: 15 | P125: 10 | T125: 45 | U125: 10 | V125: 0 | Z125: 10 | AC125: 5 | AD125: 20 | AE125: 30 | AF125: 5 | AG125: 10 | AH125: 10 | AI125: 110 | AJ125: 70 | AK125: 20 | AL125: 10 | AM125: 10 | AN125: 5 | AO125: 10 | AP125: 5 | AQ125: 10 | AS125: 10 | AZ125: 10 | BC125: 15 | BD125: 20 | BE125: 10 | BF125: 5 | BG125: 30 | BI125: Asia
A126: Azerbaijan | B126: 5 | E126: 25 | K126: 10 | M126: 10 | N126: 15 | O126: 25 | P126: 15 | R126: 5 | S126: 5 | T126: 85 | U126: 20 | W126: 10 | X126: 15 | Y126: 15 | Z126: 5 | AA126: 5 | AB126: 10 | AC126: 15 | AD126: 75 | AE126: 60 | AF126: 25 | AG126: 15 | AH126: 35 | AI126: 280 | AJ126: 125 | AK126: 55 | AL126: 20 | AM126: 15 | AN126: 10 | AO126: 15 | AP126: 25 | AQ126: 25 | AR126: 30 | AS126: 30 | AY126: 5 | AZ126: 10 | BB126: 10 | BC126: 15 | BD126: 60 | BE126: 25 | BF126: 25 | BG126: 75 | BI126: Asia
A127: Belize | B127: 0 | D127: 5 | E127: 25 | H127: 0 | N127: 5 | O127: 5 | P127: 5 | R127: 5 | S127: 5 | T127: 40 | U127: 5 | X127: 5 | AD127: 15 | AE127: 10 | AH127: 5 | AI127: 65 | AJ127: 10 | AK127: 15 | AR127: 15 | AY127: 0 | AZ127: 10 | BD127: 20 | BE127: 5 | BG127: 10 | BI127: Americas
A128: Bolivia | D128: 5 | E128: 25 | G128: 0 | J128: 5 | L128: 0 | N128: 10 | O128: 10 | P128: 10 | R128: 5 | S128: 10 | T128: 55 | U128: 10 | W128: 10 | X128: 5 | Y128: 5 | Z128: 10 | AA128: 15 | AB128: 5 | AC128: 10 | AD128: 30 | AE128: 30 | AF128: 10 | AG128: 5 | AH128: 10 | AI128: 205 | AJ128: 50 | AK128: 45 | AL128: 10 | AM128: 20 | AN128: 15 | AO128: 10 | AP128: 15 | AQ128: 10 | AR128: 25 | AS128: 20 | AX128: 0 | AZ128: 10 | BB128: 5 | BC128: 5 | BD128: 40 | BE128: 15 | BF128: 20 | BG128: 35 | BI128: Americas
A129: Bosnia-Herzegovina | C129: 5 | D129: 5 | E129: 60 | F129: 10 | H129: 5 | I129: 5 | J129: 5 | K129: 5 | N129: 25 | O129: 15 | P129: 10 | R129: 10 | T129: 45 | U129: 5 | X129: 15 | Y129: 5 | Z129: 5 | AA129: 5 | AD129: 15 | AE129: 15 | AF129: 5 | AG129: 5 | AH129: 10 | AI129: 75 | AJ129: 10 | AK129: 35 | AM129: 10 | AR129: 5 | AS129: 5 | AZ129: 10 | BC129: 5 | BD129: 10 | BE129: 5 | BF129: 5 | BG129: 10 | BI129: Europe
A130: Georgia | E130: 20 | I130: 0 | L130: 0 | M130: 0 | N130: 5 | O130: 5 | T130: 15 | AC130: 15 | AD130: 70 | AE130: 60 | AF130: 60 | AG130: 15 | AH130: 25 | AI130: 305 | AJ130: 300 | AK130: 35 | AM130: 10 | AN130: 10 | AO130: 30 | AP130: 10 | AQ130: 40 | AR130: 30 | AS130: 10 | AW130: 0 | BA130: 0 | BC130: 20 | BD130: 60 | BE130: 20 | BF130: 20 | BG130: 120 | BI130: Asia
A131: Grenada | E131: 15 | H131: 0 | O131: 10 | Q131: 0 | T131: 30 | U131: 10 | V131: 0 | W131: 5 | AA131: 0 | AD131: 10 | AE131: 10 | AI131: 50 | AJ131: 10 | AK131: 10 | AL131: 5 | AN131: 0 | AQ131: 5 | AR131: 5 | AW131: 0 | BC131: 0 | BD131: 10 | BG131: 10 | BI131: Americas
A132: Luxembourg | B132: 0 | E132: 20 | F132: 0 | J132: 0 | K132: 5 | L132: 0 | M132: 0 | P132: 5 | T132: 20 | U132: 5 | X132: 5 | AD132: 15 | AE132: 10 | AF132: 5 | AG132: 5 | AH132: 5 | AI132: 60 | AJ132: 20 | AK132: 15 | AL132: 0 | AM132: 5 | AQ132: 5 | AR132: 5 | AX132: 0 | AY132: 0 | AZ132: 10 | BD132: 15 | BE132: 10 | BF132: 5 | BG132: 5 | BI132: Europe
A133: Mongolia, People's Republic of | D133: 10 | E133: 45 | F133: 5 | J133: 5 | M133: 5 | N133: 15 | O133: 15 | P133: 20 | T133: 50 | U133: 10 | W133: 10 | X133: 5 | Z133: 5 | AB133: 5 | AC133: 10 | AD133: 30 | AE133: 40 | AF133: 10 | AG133: 10 | AH133: 10 | AI133: 170 | AJ133: 35 | AK133: 50 | AL133: 10 | AM133: 10 | AN133: 5 | AO133: 10 | AP133: 20 | AQ133: 10 | AR133: 25 | AS133: 20 | AY133: 0 | AZ133: 10 | BA133: 0 | BB133: 5 | BD133: 40 | BE133: 15 | BF133: 10 | BG133: 35 | BI133: Asia
A134: Myanmar (Burma) | B134: 0 | C134: 0 | D134: 0 | E134: 5 | I134: 0 | N134: 5 | O134: 10 | R134: 0 | T134: 20 | U134: 5 | V134: 0 | X134: 0 | Z134: 5 | AA134: 5 | AD134: 25 | AE134: 30 | AF134: 20 | AG134: 20 | AH134: 15 | AI134: 225 | AJ134: 50 | AK134: 110 | AL134: 35 | AM134: 35 | AN134: 30 | AO134: 15 | AP134: 40 | AQ134: 50 | AR134: 75 | AS134: 55 | AX134: 0 | AY134: 0 | AZ134: 10 | BB134: 10 | BC134: 5 | BD134: 55 | BE134: 25 | BF134: 30 | BG134: 120 | BI134: Asia
A135: Nicaragua | C135: 0 | E135: 15 | I135: 5 | L135: 10 | N135: 10 | O135: 10 | P135: 10 | T135: 45 | W135: 5 | X135: 5 | AB135: 5 | AC135: 10 | AD135: 30 | AE135: 30 | AF135: 10 | AG135: 5 | AH135: 20 | AI135: 195 | AJ135: 40 | AK135: 40 | AL135: 10 | AM135: 15 | AN135: 20 | AO135: 20 | AP135: 15 | AQ135: 15 | AR135: 25 | AS135: 25 | AZ135: 10 | BA135: 0 | BD135: 35 | BE135: 25 | BF135: 10 | BG135: 30 | BI135: Americas
A136: Niger, Republic of the | E136: 30 | F136: 5 | N136: 10 | O136: 10 | T136: 55 | U136: 10 | W136: 15 | X136: 10 | AA136: 5 | AB136: 5 | AC136: 5 | AD136: 15 | AE136: 20 | AG136: 5 | AH136: 10 | AI136: 85 | AJ136: 30 | AK136: 30 | AL136: 15 | AM136: 10 | AN136: 5 | AP136: 5 | AQ136: 30 | AR136: 20 | AS136: 15 | AZ136: 10 | BB136: 10 | BD136: 25 | BE136: 10 | BF136: 5 | BG136: 30 | BI136: Africa
A137: Oman | C137: 10 | D137: 5 | E137: 65 | F137: 10 | G137: 5 | J137: 10 | K137: 5 | M137: 10 | N137: 40 | O137: 20 | P137: 10 | R137: 10 | T137: 90 | U137: 10 | V137: 5 | AB137: 5 | AC137: 10 | AD137: 20 | AE137: 15 | AG137: 40 | AH137: 5 | AI137: 90 | AJ137: 20 | AK137: 55 | AN137: 15 | AO137: 10 | AQ137: 5 | AR137: 10 | AS137: 5 | AW137: 0 | AY137: 10 | AZ137: 10 | BA137: 15 | BB137: 10 | BC137: 30 | BD137: 45 | BE137: 10 | BG137: 10 | BI137: Asia
A138: Palestinian Authority (Gaza/West Bank) | E138: 30 | H138: 5 | J138: 5 | M138: 5 | N138: 15 | O138: 15 | P138: 5 | S138: 10 | T138: 65 | U138: 10 | W138: 5 | X138: 10 | Y138: 5 | AA138: 5 | AB138: 5 | AC138: 5 | AD138: 40 | AE138: 25 | AF138: 20 | AG138: 10 | AH138: 10 | AI138: 160 | AJ138: 95 | AK138: 85 | AL138: 75 | AM138: 80 | AN138: 45 | AO138: 30 | AP138: 45 | AQ138: 30 | AR138: 30 | AS138: 35 | AX138: 5 | AZ138: 10 | BA138: 10 | BC138: 15 | BD138: 45 | BE138: 160 | BF138: 25 | BG138: 60 | BI138: Asia
...

Sheet Annual YTD
A1: Annual year-to-date work permit holders by country
A2: Sum of Q1–Q3 for each year, sorted by reported 2018 annual total. A YTD value is blank if any of its three quarterly totals is suppressed.
A4: Country | B4: 2015 YTD (Q1–Q3) | C4: 2016 YTD (Q1–Q3) | D4: 2017 YTD (Q1–Q3) | E4: 2018 YTD (Q1–Q3) | F4: 2019 YTD (Q1–Q3) | G4: 2020 YTD (Q1–Q3) | H4: 2021 YTD (Q1–Q3) | I4: 2022 YTD (Q1–Q3) | J4: 2023 YTD (Q1–Q3) | K4: 2024 YTD (Q1–Q3) | L4: 2025 YTD (Q1–Q3) | M4: 2026 YTD (Q1–Q3)
A5: Canada total | B5: =IF(COUNT('Source data'!B4:D4)=3,SUM('Source data'!B4:D4),"") -> 51485 | C5: =IF(COUNT('Source data'!F4:H4)=3,SUM('Source data'!F4:H4),"") -> 60705 | D5: =IF(COUNT('Source data'!J4:L4)=3,SUM('Source data'!J4:L4),"") -> 65935 | E5: =IF(COUNT('Source data'!N4:P4)=3,SUM('Source data'!N4:P4),"") -> 213085 | F5: =IF(COUNT('Source data'!R4:T4)=3,SUM('Source data'!R4:T4),"") -> 377055 | G5: =IF(COUNT('Source data'!V4:X4)=3,SUM('Source data'!V4:X4),"") -> 81170 | H5: =IF(COUNT('Source data'!Z4:AB4)=3,SUM('Source data'!Z4:AB4),"") -> 73630 | I5: =IF(COUNT('Source data'!AD4:AF4)=3,SUM('Source data'!AD4:AF4),"") -> 371025 | J5: =IF(COUNT('Source data'!AH4:AJ4)=3,SUM('Source data'!AH4:AJ4),"") -> 1066410 | K5: =IF(COUNT('Source data'!AL4:AN4)=3,SUM('Source data'!AL4:AN4),"") -> 152470 | L5: =IF(COUNT('Source data'!AP4:AR4)=3,SUM('Source data'!AP4:AR4),"") -> 205550 | M5: =IF(COUNT('Source data'!AT4:AV4)=3,SUM('Source data'!AT4:AV4),"")
A6: India | B6: =IF(COUNT('Source data'!B5:D5)=3,SUM('Source data'!B5:D5),"") -> 6040 | C6: =IF(COUNT('Source data'!F5:H5)=3,SUM('Source data'!F5:H5),"") -> 9215 | D6: =IF(COUNT('Source data'!J5:L5)=3,SUM('Source data'!J5:L5),"") -> 10845 | E6: =IF(COUNT('Source data'!N5:P5)=3,SUM('Source data'!N5:P5),"") -> 47820 | F6: =IF(COUNT('Source data'!R5:T5)=3,SUM('Source data'!R5:T5),"") -> 104550 | G6: =IF(COUNT('Source data'!V5:X5)=3,SUM('Source data'!V5:X5),"") -> 31730 | H6: =IF(COUNT('Source data'!Z5:AB5)=3,SUM('Source data'!Z5:AB5),"") -> 25700 | I6: =IF(COUNT('Source data'!AD5:AF5)=3,SUM('Source data'!AD5:AF5),"") -> 115040 | J6: =IF(COUNT('Source data'!AH5:AJ5)=3,SUM('Source data'!AH5:AJ5),"") -> 331995 | K6: =IF(COUNT('Source data'!AL5:AN5)=3,SUM('Source data'!AL5:AN5),"") -> 50690 | L6: =IF(COUNT('Source data'!AP5:AR5)=3,SUM('Source data'!AP5:AR5),"") -> 85925 | M6: =IF(COUNT('Source data'!AT5:AV5)=3,SUM('Source data'!AT5:AV5),"")
A7: France | B7: =IF(COUNT('Source data'!B6:D6)=3,SUM('Source data'!B6:D6),"") -> 5485 | C7: =IF(COUNT('Source data'!F6:H6)=3,SUM('Source data'!F6:H6),"") -> 4880 | D7: =IF(COUNT('Source data'!J6:L6)=3,SUM('Source data'!J6:L6),"") -> 6510 | E7: =IF(COUNT('Source data'!N6:P6)=3,SUM('Source data'!N6:P6),"") -> 19860 | F7: =IF(COUNT('Source data'!R6:T6)=3,SUM('Source data'!R6:T6),"") -> 36055 | G7: =IF(COUNT('Source data'!V6:X6)=3,SUM('Source data'!V6:X6),"") -> 6225 | H7: =IF(COUNT('Source data'!Z6:AB6)=3,SUM('Source data'!Z6:AB6),"") -> 6255 | I7: =IF(COUNT('Source data'!AD6:AF6)=3,SUM('Source data'!AD6:AF6),"") -> 18580 | J7: =IF(COUNT('Source data'!AH6:AJ6)=3,SUM('Source data'!AH6:AJ6),"") -> 42010 | K7: =IF(COUNT('Source data'!AL6:AN6)=3,SUM('Source data'!AL6:AN6),"") -> 5660 | L7: =IF(COUNT('Source data'!AP6:AR6)=3,SUM('Source data'!AP6:AR6),"") -> 5375 | M7: =IF(COUNT('Source data'!AT6:AV6)=3,SUM('Source data'!AT6:AV6),"")
A8: United States of America | B8: =IF(COUNT('Source data'!B7:D7)=3,SUM('Source data'!B7:D7),"") -> 6560 | C8: =IF(COUNT('Source data'!F7:H7)=3,SUM('Source data'!F7:H7),"") -> 8100 | D8: =IF(COUNT('Source data'!J7:L7)=3,SUM('Source data'!J7:L7),"") -> 7610 | E8: =IF(COUNT('Source data'!N7:P7)=3,SUM('Source data'!N7:P7),"") -> 21835 | F8: =IF(COUNT('Source data'!R7:T7)=3,SUM('Source data'!R7:T7),"") -> 32205 | G8: =IF(COUNT('Source data'!V7:X7)=3,SUM('Source data'!V7:X7),"") -> 3645 | H8: =IF(COUNT('Source data'!Z7:AB7)=3,SUM('Source data'!Z7:AB7),"") -> 3785 | I8: =IF(COUNT('Source data'!AD7:AF7)=3,SUM('Source data'!AD7:AF7),"") -> 11395 | J8: =IF(COUNT('Source data'!AH7:AJ7)=3,SUM('Source data'!AH7:AJ7),"") -> 25005 | K8: =IF(COUNT('Source data'!AL7:AN7)=3,SUM('Source data'!AL7:AN7),"") -> 4215 | L8: =IF(COUNT('Source data'!AP7:AR7)=3,SUM('Source data'!AP7:AR7),"") -> 5290 | M8: =IF(COUNT('Source data'!AT7:AV7)=3,SUM('Source data'!AT7:AV7),"")
A9: China, People's Republic of | B9: =IF(COUNT('Source data'!B8:D8)=3,SUM('Source data'!B8:D8),"") -> 3835 | C9: =IF(COUNT('Source data'!F8:H8)=3,SUM('Source data'!F8:H8),"") -> 5460 | D9: =IF(COUNT('Source data'!J8:L8)=3,SUM('Source data'!J8:L8),"") -> 6445 | E9: =IF(COUNT('Source data'!N8:P8)=3,SUM('Source data'!N8:P8),"") -> 18160 | F9: =IF(COUNT('Source data'!R8:T8)=3,SUM('Source data'!R8:T8),"") -> 28895 | G9: =IF(COUNT('Source data'!V8:X8)=3,SUM('Source data'!V8:X8),"") -> 7450 | H9: =IF(COUNT('Source data'!Z8:AB8)=3,SUM('Source data'!Z8:AB8),"") -> 4565 | I9: =IF(COUNT('Source data'!AD8:AF8)=3,SUM('Source data'!AD8:AF8),"") -> 15445 | J9: =IF(COUNT('Source data'!AH8:AJ8)=3,SUM('Source data'!AH8:AJ8),"") -> 40165 | K9: =IF(COUNT('Source data'!AL8:AN8)=3,SUM('Source data'!AL8:AN8),"") -> 6570 | L9: =IF(COUNT('Source data'!AP8:AR8)=3,SUM('Source data'!AP8:AR8),"") -> 8035 | M9: =IF(COUNT('Source data'!AT8:AV8)=3,SUM('Source data'!AT8:AV8),"")
A10: United Kingdom and Overseas Territories | B10: =IF(COUNT('Source data'!B9:D9)=3,SUM('Source data'!B9:D9),"") -> 2520 | C10: =IF(COUNT('Source data'!F9:H9)=3,SUM('Source data'!F9:H9),"") -> 2935 | D10: =IF(COUNT('Source data'!J9:L9)=3,SUM('Source data'!J9:L9),"") -> 3065 | E10: =IF(COUNT('Source data'!N9:P9)=3,SUM('Source data'!N9:P9),"") -> 9160 | F10: =IF(COUNT('Source data'!R9:T9)=3,SUM('Source data'!R9:T9),"") -> 15040 | G10: =IF(COUNT('Source data'!V9:X9)=3,SUM('Source data'!V9:X9),"") -> 1675 | H10: =IF(COUNT('Source data'!Z9:AB9)=3,SUM('Source data'!Z9:AB9),"") -> 1675 | I10: =IF(COUNT('Source data'!AD9:AF9)=3,SUM('Source data'!AD9:AF9),"") -> 7725 | J10: =IF(COUNT('Source data'!AH9:AJ9)=3,SUM('Source data'!AH9:AJ9),"") -> 17720 | K10: =IF(COUNT('Source data'!AL9:AN9)=3,SUM('Source data'!AL9:AN9),"") -> 4030 | L10: =IF(COUNT('Source data'!AP9:AR9)=3,SUM('Source data'!AP9:AR9),"") -> 3110 | M10: =IF(COUNT('Source data'!AT9:AV9)=3,SUM('Source data'!AT9:AV9),"")
A11: Brazil | B11: =IF(COUNT('Source data'!B10:D10)=3,SUM('Source data'!B10:D10),"") -> 680 | C11: =IF(COUNT('Source data'!F10:H10)=3,SUM('Source data'!F10:H10),"") -> 1335 | D11: =IF(COUNT('Source data'!J10:L10)=3,SUM('Source data'!J10:L10),"") -> 1830 | E11: =IF(COUNT('Source data'!N10:P10)=3,SUM('Source data'!N10:P10),"") -> 6890 | F11: =IF(COUNT('Source data'!R10:T10)=3,SUM('Source data'!R10:T10),"") -> 11720 | G11: =IF(COUNT('Source data'!V10:X10)=3,SUM('Source data'!V10:X10),"") -> 2815 | H11: =IF(COUNT('Source data'!Z10:AB10)=3,SUM('Source data'!Z10:AB10),"") -> 2265 | I11: =IF(COUNT('Source data'!AD10:AF10)=3,SUM('Source data'!AD10:AF10),"") -> 5650 | J11: =IF(COUNT('Source data'!AH10:AJ10)=3,SUM('Source data'!AH10:AJ10),"") -> 15070 | K11: =IF(COUNT('Source data'!AL10:AN10)=3,SUM('Source data'!AL10:AN10),"") -> 1835 | L11: =IF(COUNT('Source data'!AP10:AR10)=3,SUM('Source data'!AP10:AR10),"") -> 2260 | M11: =IF(COUNT('Source data'!AT10:AV10)=3,SUM('Source data'!AT10:AV10),"")
A12: Korea, Republic of | B12: =IF(COUNT('Source data'!B11:D11)=3,SUM('Source data'!B11:D11),"") -> 2160 | C12: =IF(COUNT('Source data'!F11:H11)=3,SUM('Source data'!F11:H11),"") -> 2120 | D12: =IF(COUNT('Source data'!J11:L11)=3,SUM('Source data'!J11:L11),"") -> 2980 | E12: =IF(COUNT('Source data'!N11:P11)=3,SUM('Source data'!N11:P11),"") -> 6400 | F12: =IF(COUNT('Source data'!R11:T11)=3,SUM('Source data'!R11:T11),"") -> 11285 | G12: =IF(COUNT('Source data'!V11:X11)=3,SUM('Source data'!V11:X11),"") -> 2090 | H12: =IF(COUNT('Source data'!Z11:AB11)=3,SUM('Source data'!Z11:AB11),"") -> 1485 | I12: =IF(COUNT('Source data'!AD11:AF11)=3,SUM('Source data'!AD11:AF11),"") -> 5390 | J12: =IF(COUNT('Source data'!AH11:AJ11)=3,SUM('Source data'!AH11:AJ11),"") -> 15150 | K12: =IF(COUNT('Source data'!AL11:AN11)=3,SUM('Source data'!AL11:AN11),"") -> 2820 | L12: =IF(COUNT('Source data'!AP11:AR11)=3,SUM('Source data'!AP11:AR11),"") -> 3240 | M12: =IF(COUNT('Source data'!AT11:AV11)=3,SUM('Source data'!AT11:AV11),"")
A13: Japan | B13: =IF(COUNT('Source data'!B12:D12)=3,SUM('Source data'!B12:D12),"") -> 2325 | C13: =IF(COUNT('Source data'!F12:H12)=3,SUM('Source data'!F12:H12),"") -> 1750 | D13: =IF(COUNT('Source data'!J12:L12)=3,SUM('Source data'!J12:L12),"") -> 1920 | E13: =IF(COUNT('Source data'!N12:P12)=3,SUM('Source data'!N12:P12),"") -> 5875 | F13: =IF(COUNT('Source data'!R12:T12)=3,SUM('Source data'!R12:T12),"") -> 9000 | G13: =IF(COUNT('Source data'!V12:X12)=3,SUM('Source data'!V12:X12),"") -> 630 | H13: =IF(COUNT('Source data'!Z12:AB12)=3,SUM('Source data'!Z12:AB12),"") -> 785 | I13: =IF(COUNT('Source data'!AD12:AF12)=3,SUM('Source data'!AD12:AF12),"") -> 3980 | J13: =IF(COUNT('Source data'!AH12:AJ12)=3,SUM('Source data'!AH12:AJ12),"") -> 11020 | K13: =IF(COUNT('Source data'!AL12:AN12)=3,SUM('Source data'!AL12:AN12),"") -> 1870 | L13: =IF(COUNT('Source data'!AP12:AR12)=3,SUM('Source data'!AP12:AR12),"") -> 2380 | M13: =IF(COUNT('Source data'!AT12:AV12)=3,SUM('Source data'!AT12:AV12),"")
A14: Philippines | B14: =IF(COUNT('Source data'!B13:D13)=3,SUM('Source data'!B13:D13),"") -> 3230 | C14: =IF(COUNT('Source data'!F13:H13)=3,SUM('Source data'!F13:H13),"") -> 2470 | D14: =IF(COUNT('Source data'!J13:L13)=3,SUM('Source data'!J13:L13),"") -> 2160 | E14: =IF(COUNT('Source data'!N13:P13)=3,SUM('Source data'!N13:P13),"") -> 4880 | F14: =IF(COUNT('Source data'!R13:T13)=3,SUM('Source data'!R13:T13),"") -> 8525 | G14: =IF(COUNT('Source data'!V13:X13)=3,SUM('Source data'!V13:X13),"") -> 2415 | H14: =IF(COUNT('Source data'!Z13:AB13)=3,SUM('Source data'!Z13:AB13),"") -> 3135 | I14: =IF(COUNT('Source data'!AD13:AF13)=3,SUM('Source data'!AD13:AF13),"") -> 13990 | J14: =IF(COUNT('Source data'!AH13:AJ13)=3,SUM('Source data'!AH13:AJ13),"") -> 47570 | K14: =IF(COUNT('Source data'!AL13:AN13)=3,SUM('Source data'!AL13:AN13),"") -> 7735 | L14: =IF(COUNT('Source data'!AP13:AR13)=3,SUM('Source data'!AP13:AR13),"") -> 9320 | M14: =IF(COUNT('Source data'!AT13:AV13)=3,SUM('Source data'!AT13:AV13),"")
A15: Australia | B15: =IF(COUNT('Source data'!B14:D14)=3,SUM('Source data'!B14:D14),"") -> 2900 | C15: =IF(COUNT('Source data'!F14:H14)=3,SUM('Source data'!F14:H14),"") -> 3480 | D15: =IF(COUNT('Source data'!J14:L14)=3,SUM('Source data'!J14:L14),"") -> 2100 | E15: =IF(COUNT('Source data'!N14:P14)=3,SUM('Source data'!N14:P14),"") -> 7460 | F15: =IF(COUNT('Source data'!R14:T14)=3,SUM('Source data'!R14:T14),"") -> 10500 | G15: =IF(COUNT('Source data'!V14:X14)=3,SUM('Source data'!V14:X14),"") -> 640 | H15: =IF(COUNT('Source data'!Z14:AB14)=3,SUM('Source data'!Z14:AB14),"") -> 580 | I15: =IF(COUNT('Source data'!AD14:AF14)=3,SUM('Source data'!AD14:AF14),"") -> 4570 | J15: =IF(COUNT('Source data'!AH14:AJ14)=3,SUM('Source data'!AH14:AJ14),"") -> 10015 | K15: =IF(COUNT('Source data'!AL14:AN14)=3,SUM('Source data'!AL14:AN14),"") -> 2520 | L15: =IF(COUNT('Source data'!AP14:AR14)=3,SUM('Source data'!AP14:AR14),"") -> 1580 | M15: =IF(COUNT('Source data'!AT14:AV14)=3,SUM('Source data'!AT14:AV14),"")
A16: Germany | B16: =IF(COUNT('Source data'!B15:D15)=3,SUM('Source data'!B15:D15),"") -> 1900 | C16: =IF(COUNT('Source data'!F15:H15)=3,SUM('Source data'!F15:H15),"") -> 1925 | D16: =IF(COUNT('Source data'!J15:L15)=3,SUM('Source data'!J15:L15),"") -> 1785 | E16: =IF(COUNT('Source data'!N15:P15)=3,SUM('Source data'!N15:P15),"") -> 5655 | F16: =IF(COUNT('Source data'!R15:T15)=3,SUM('Source data'!R15:T15),"") -> 8635 | G16: =IF(COUNT('Source data'!V15:X15)=3,SUM('Source data'!V15:X15),"") -> 745 | H16: =IF(COUNT('Source data'!Z15:AB15)=3,SUM('Source data'!Z15:AB15),"") -> 710 | I16: =IF(COUNT('Source data'!AD15:AF15)=3,SUM('Source data'!AD15:AF15),"") -> 3640 | J16: =IF(COUNT('Source data'!AH15:AJ15)=3,SUM('Source data'!AH15:AJ15),"") -> 7455 | K16: =IF(COUNT('Source data'!AL15:AN15)=3,SUM('Source data'!AL15:AN15),"") -> 1200 | L16: =IF(COUNT('Source data'!AP15:AR15)=3,SUM('Source data'!AP15:AR15),"") -> 925 | M16: =IF(COUNT('Source data'!AT15:AV15)=3,SUM('Source data'!AT15:AV15),"")
... A221: Virgin Islands, British | B221: =IF(COUNT('Source data'!B220:D220)=3,SUM('Source data'!B220:D220),"") -> 0 | C221: =IF(COUNT('Source data'!F220:H220)=3,SUM('Source data'!F220:H220),"") -> 0 | D221: =IF(COUNT('Source data'!J220:L220)=3,SUM('Source data'!J220:L220),"") -> 0 | E221: =IF(COUNT('Source data'!N220:P220)=3,SUM('Source data'!N220:P220),"") -> 0 | F221: =IF(COUNT('Source data'!R220:T220)=3,SUM('Source data'!R220:T220),"") -> 0 | G221: =IF(COUNT('Source data'!V220:X220)=3,SUM('Source data'!V220:X220),"") -> 0 | H221: =IF(COUNT('Source data'!Z220:AB220)=3,SUM('Source data'!Z220:AB220),"") -> 0 | I221: =IF(COUNT('Source data'!AD220:AF220)=3,SUM('Source data'!AD220:AF220),"") -> 0 | J221: =IF(COUNT('Source data'!AH220:AJ220)=3,SUM('Source data'!AH220:AJ220),"") -> 0 | K221: =IF(COUNT('Source data'!AL220:AN220)=3,SUM('Source data'!AL220:AN220),"") -> 0 | L221: =IF(COUNT('Source data'!AP220:AR220)=3,SUM('Source data'!AP220:AR220),"") -> 0 | M221: =IF(COUNT('Source data'!AT220:AV220)=3,SUM('Source data'!AT220:AV220),"")

Sheet YTD YoY
A1: Annual YTD year-over-year change
A2: Percentage change in Q1–Q3 total versus the same period one year earlier.
A4: Country | B4: 2016 YTD (Q1–Q3) | C4: 2017 YTD (Q1–Q3) | D4: 2018 YTD (Q1–Q3) | E4: 2019 YTD (Q1–Q3) | F4: 2020 YTD (Q1–Q3) | G4: 2021 YTD (Q1–Q3) | H4: 2022 YTD (Q1–Q3) | I4: 2023 YTD (Q1–Q3) | J4: 2024 YTD (Q1–Q3) | K4: 2025 YTD (Q1–Q3) | L4: 2026 YTD (Q1–Q3)
A5: Canada total | B5: =IF(OR('Annual YTD'!B5="",'Annual YTD'!B5=0,'Annual YTD'!C5=""),"",'Annual YTD'!C5/'Annual YTD'!B5-1) -> 0.17908129 | C5: =IF(OR('Annual YTD'!C5="",'Annual YTD'!C5=0,'Annual YTD'!D5=""),"",'Annual YTD'!D5/'Annual YTD'!C5-1) -> 0.086154353 | D5: =IF(OR('Annual YTD'!D5="",'Annual YTD'!D5=0,'Annual YTD'!E5=""),"",'Annual YTD'!E5/'Annual YTD'!D5-1) -> 2.2317434 | E5: =IF(OR('Annual YTD'!E5="",'Annual YTD'!E5=0,'Annual YTD'!F5=""),"",'Annual YTD'!F5/'Annual YTD'!E5-1) -> 0.76950513 | F5: =IF(OR('Annual YTD'!F5="",'Annual YTD'!F5=0,'Annual YTD'!G5=""),"",'Annual YTD'!G5/'Annual YTD'!F5-1) -> -0.78472637 | G5: =IF(OR('Annual YTD'!G5="",'Annual YTD'!G5=0,'Annual YTD'!H5=""),"",'Annual YTD'!H5/'Annual YTD'!G5-1) -> -0.092891462 | H5: =IF(OR('Annual YTD'!H5="",'Annual YTD'!H5=0,'Annual YTD'!I5=""),"",'Annual YTD'!I5/'Annual YTD'!H5-1) -> 4.0390466 | I5: =IF(OR('Annual YTD'!I5="",'Annual YTD'!I5=0,'Annual YTD'!J5=""),"",'Annual YTD'!J5/'Annual YTD'!I5-1) -> 1.8742268 | ... L5: =IF(OR('Annual YTD'!L5="",'Annual YTD'!L5=0,'Annual YTD'!M5=""),"",'Annual YTD'!M5/'Annual YTD'!L5-1)
A6: India | B6: =IF(OR('Annual YTD'!B6="",'Annual YTD'!B6=0,'Annual YTD'!C6=""),"",'Annual YTD'!C6/'Annual YTD'!B6-1) -> 0.52566225 | C6: =IF(OR('Annual YTD'!C6="",'Annual YTD'!C6=0,'Annual YTD'!D6=""),"",'Annual YTD'!D6/'Annual YTD'!C6-1) -> 0.17688551 | D6: =IF(OR('Annual YTD'!D6="",'Annual YTD'!D6=0,'Annual YTD'!E6=""),"",'Annual YTD'!E6/'Annual YTD'!D6-1) -> 3.4094053 | E6: =IF(OR('Annual YTD'!E6="",'Annual YTD'!E6=0,'Annual YTD'!F6=""),"",'Annual YTD'!F6/'Annual YTD'!E6-1) -> 1.1863237 | F6: =IF(OR('Annual YTD'!F6="",'Annual YTD'!F6=0,'Annual YTD'!G6=""),"",'Annual YTD'!G6/'Annual YTD'!F6-1) -> -0.69650885 | G6: =IF(OR('Annual YTD'!G6="",'Annual YTD'!G6=0,'Annual YTD'!H6=""),"",'Annual YTD'!H6/'Annual YTD'!G6-1) -> -0.19004097 | H6: =IF(OR('Annual YTD'!H6="",'Annual YTD'!H6=0,'Annual YTD'!I6=""),"",'Annual YTD'!I6/'Annual YTD'!H6-1) -> 3.4762646 | I6: =IF(OR('Annual YTD'!I6="",'Annual YTD'!I6=0,'Annual YTD'!J6=""),"",'Annual YTD'!J6/'Annual YTD'!I6-1) -> 1.8859092 | ... L6: =IF(OR('Annual YTD'!L6="",'Annual YTD'!L6=0,'Annual YTD'!M6=""),"",'Annual YTD'!M6/'Annual YTD'!L6-1)
A7: France | B7: =IF(OR('Annual YTD'!B7="",'Annual YTD'!B7=0,'Annual YTD'!C7=""),"",'Annual YTD'!C7/'Annual YTD'!B7-1) -> -0.11030082 | C7: =IF(OR('Annual YTD'!C7="",'Annual YTD'!C7=0,'Annual YTD'!D7=""),"",'Annual YTD'!D7/'Annual YTD'!C7-1) -> 0.33401639 | D7: =IF(OR('Annual YTD'!D7="",'Annual YTD'!D7=0,'Annual YTD'!E7=""),"",'Annual YTD'!E7/'Annual YTD'!D7-1) -> 2.0506912 | E7: =IF(OR('Annual YTD'!E7="",'Annual YTD'!E7=0,'Annual YTD'!F7=""),"",'Annual YTD'!F7/'Annual YTD'!E7-1) -> 0.81545821 | F7: =IF(OR('Annual YTD'!F7="",'Annual YTD'!F7=0,'Annual YTD'!G7=""),"",'Annual YTD'!G7/'Annual YTD'!F7-1) -> -0.82734711 | G7: =IF(OR('Annual YTD'!G7="",'Annual YTD'!G7=0,'Annual YTD'!H7=""),"",'Annual YTD'!H7/'Annual YTD'!G7-1) -> 0.0048192771 | H7: =IF(OR('Annual YTD'!H7="",'Annual YTD'!H7=0,'Annual YTD'!I7=""),"",'Annual YTD'!I7/'Annual YTD'!H7-1) -> 1.9704237 | I7: =IF(OR('Annual YTD'!I7="",'Annual YTD'!I7=0,'Annual YTD'!J7=""),"",'Annual YTD'!J7/'Annual YTD'!I7-1) -> 1.2610334 | ... L7: =IF(OR('Annual YTD'!L7="",'Annual YTD'!L7=0,'Annual YTD'!M7=""),"",'Annual YTD'!M7/'Annual YTD'!L7-1)
A8: United States of America | B8: =IF(OR('Annual YTD'!B8="",'Annual YTD'!B8=0,'Annual YTD'!C8=""),"",'Annual YTD'!C8/'Annual YTD'!B8-1) -> 0.2347561 | C8: =IF(OR('Annual YTD'!C8="",'Annual YTD'!C8=0,'Annual YTD'!D8=""),"",'Annual YTD'!D8/'Annual YTD'!C8-1) -> -0.060493827 | D8: =IF(OR('Annual YTD'!D8="",'Annual YTD'!D8=0,'Annual YTD'!E8=""),"",'Annual YTD'!E8/'Annual YTD'!D8-1) -> 1.869251 | E8: =IF(OR('Annual YTD'!E8="",'Annual YTD'!E8=0,'Annual YTD'!F8=""),"",'Annual YTD'!F8/'Annual YTD'!E8-1) -> 0.47492558 | F8: =IF(OR('Annual YTD'!F8="",'Annual YTD'!F8=0,'Annual YTD'!G8=""),"",'Annual YTD'!G8/'Annual YTD'!F8-1) -> -0.88681882 | G8: =IF(OR('Annual YTD'!G8="",'Annual YTD'!G8=0,'Annual YTD'!H8=""),"",'Annual YTD'!H8/'Annual YTD'!G8-1) -> 0.038408779 | H8: =IF(OR('Annual YTD'!H8="",'Annual YTD'!H8=0,'Annual YTD'!I8=""),"",'Annual YTD'!I8/'Annual YTD'!H8-1) -> 2.010568 | I8: =IF(OR('Annual YTD'!I8="",'Annual YTD'!I8=0,'Annual YTD'!J8=""),"",'Annual YTD'!J8/'Annual YTD'!I8-1) -> 1.1943835 | ... L8: =IF(OR('Annual YTD'!L8="",'Annual YTD'!L8=0,'Annual YTD'!M8=""),"",'Annual YTD'!M8/'Annual YTD'!L8-1)
A9: China, People's Republic of | B9: =IF(OR('Annual YTD'!B9="",'Annual YTD'!B9=0,'Annual YTD'!C9=""),"",'Annual YTD'!C9/'Annual YTD'!B9-1) -> 0.42372881 | C9: =IF(OR('Annual YTD'!C9="",'Annual YTD'!C9=0,'Annual YTD'!D9=""),"",'Annual YTD'!D9/'Annual YTD'!C9-1) -> 0.18040293 | D9: =IF(OR('Annual YTD'!D9="",'Annual YTD'!D9=0,'Annual YTD'!E9=""),"",'Annual YTD'!E9/'Annual YTD'!D9-1) -> 1.8176881 | E9: =IF(OR('Annual YTD'!E9="",'Annual YTD'!E9=0,'Annual YTD'!F9=""),"",'Annual YTD'!F9/'Annual YTD'!E9-1) -> 0.59113436 | F9: =IF(OR('Annual YTD'!F9="",'Annual YTD'!F9=0,'Annual YTD'!G9=""),"",'Annual YTD'!G9/'Annual YTD'!F9-1) -> -0.74216993 | G9: =IF(OR('Annual YTD'!G9="",'Annual YTD'!G9=0,'Annual YTD'!H9=""),"",'Annual YTD'!H9/'Annual YTD'!G9-1) -> -0.38724832 | H9: =IF(OR('Annual YTD'!H9="",'Annual YTD'!H9=0,'Annual YTD'!I9=""),"",'Annual YTD'!I9/'Annual YTD'!H9-1) -> 2.3833516 | I9: =IF(OR('Annual YTD'!I9="",'Annual YTD'!I9=0,'Annual YTD'!J9=""),"",'Annual YTD'!J9/'Annual YTD'!I9-1) -> 1.600518 | ... L9: =IF(OR('Annual YTD'!L9="",'Annual YTD'!L9=0,'Annual YTD'!M9=""),"",'Annual YTD'!M9/'Annual YTD'!L9-1)
A10: United Kingdom and Overseas Territories | B10: =IF(OR('Annual YTD'!B10="",'Annual YTD'!B10=0,'Annual YTD'!C10=""),"",'Annual YTD'!C10/'Annual YTD'!B10-1) -> 0.16468254 | C10: =IF(OR('Annual YTD'!C10="",'Annual YTD'!C10=0,'Annual YTD'!D10=""),"",'Annual YTD'!D10/'Annual YTD'!C10-1) -> 0.044293015 | D10: =IF(OR('Annual YTD'!D10="",'Annual YTD'!D10=0,'Annual YTD'!E10=""),"",'Annual YTD'!E10/'Annual YTD'!D10-1) -> 1.9885808 | E10: =IF(OR('Annual YTD'!E10="",'Annual YTD'!E10=0,'Annual YTD'!F10=""),"",'Annual YTD'!F10/'Annual YTD'!E10-1) -> 0.6419214 | F10: =IF(OR('Annual YTD'!F10="",'Annual YTD'!F10=0,'Annual YTD'!G10=""),"",'Annual YTD'!G10/'Annual YTD'!F10-1) -> -0.88863032 | G10: =IF(OR('Annual YTD'!G10="",'Annual YTD'!G10=0,'Annual YTD'!H10=""),"",'Annual YTD'!H10/'Annual YTD'!G10-1) -> 0 | H10: =IF(OR('Annual YTD'!H10="",'Annual YTD'!H10=0,'Annual YTD'!I10=""),"",'Annual YTD'!I10/'Annual YTD'!H10-1) -> 3.6119403 | I10: =IF(OR('Annual YTD'!I10="",'Annual YTD'!I10=0,'Annual YTD'!J10=""),"",'Annual YTD'!J10/'Annual YTD'!I10-1) -> 1.2938511 | ... L10: =IF(OR('Annual YTD'!L10="",'Annual YTD'!L10=0,'Annual YTD'!M10=""),"",'Annual YTD'!M10/'Annual YTD'!L10-1)
A11: Brazil | B11: =IF(OR('Annual YTD'!B11="",'Annual YTD'!B11=0,'Annual YTD'!C11=""),"",'Annual YTD'!C11/'Annual YTD'!B11-1) -> 0.96323529 | C11: =IF(OR('Annual YTD'!C11="",'Annual YTD'!C11=0,'Annual YTD'!D11=""),"",'Annual YTD'!D11/'Annual YTD'!C11-1) -> 0.37078652 | D11: =IF(OR('Annual YTD'!D11="",'Annual YTD'!D11=0,'Annual YTD'!E11=""),"",'Annual YTD'!E11/'Annual YTD'!D11-1) -> 2.7650273 | E11: =IF(OR('Annual YTD'!E11="",'Annual YTD'!E11=0,'Annual YTD'!F11=""),"",'Annual YTD'!F11/'Annual YTD'!E11-1) -> 0.70101597 | F11: =IF(OR('Annual YTD'!F11="",'Annual YTD'!F11=0,'Annual YTD'!G11=""),"",'Annual YTD'!G11/'Annual YTD'!F11-1) -> -0.75981229 | G11: =IF(OR('Annual YTD'!G11="",'Annual YTD'!G11=0,'Annual YTD'!H11=""),"",'Annual YTD'!H11/'Annual YTD'!G11-1) -> -0.19538188 | H11: =IF(OR('Annual YTD'!H11="",'Annual YTD'!H11=0,'Annual YTD'!I11=""),"",'Annual YTD'!I11/'Annual YTD'!H11-1) -> 1.4944812 | I11: =IF(OR('Annual YTD'!I11="",'Annual YTD'!I11=0,'Annual YTD'!J11=""),"",'Annual YTD'!J11/'Annual YTD'!I11-1) -> 1.6672566 | ... L11: =IF(OR('Annual YTD'!L11="",'Annual YTD'!L11=0,'Annual YTD'!M11=""),"",'Annual YTD'!M11/'Annual YTD'!L11-1)
A12: Korea, Republic of | B12: =IF(OR('Annual YTD'!B12="",'Annual YTD'!B12=0,'Annual YTD'!C12=""),"",'Annual YTD'!C12/'Annual YTD'!B12-1) -> -0.018518519 | C12: =IF(OR('Annual YTD'!C12="",'Annual YTD'!C12=0,'Annual YTD'!D12=""),"",'Annual YTD'!D12/'Annual YTD'!C12-1) -> 0.40566038 | D12: =IF(OR('Annual YTD'!D12="",'Annual YTD'!D12=0,'Annual YTD'!E12=""),"",'Annual YTD'!E12/'Annual YTD'!D12-1) -> 1.147651 | E12: =IF(OR('Annual YTD'!E12="",'Annual YTD'!E12=0,'Annual YTD'!F12=""),"",'Annual YTD'!F12/'Annual YTD'!E12-1) -> 0.76328125 | F12: =IF(OR('Annual YTD'!F12="",'Annual YTD'!F12=0,'Annual YTD'!G12=""),"",'Annual YTD'!G12/'Annual YTD'!F12-1) -> -0.8147984 | G12: =IF(OR('Annual YTD'!G12="",'Annual YTD'!G12=0,'Annual YTD'!H12=""),"",'Annual YTD'!H12/'Annual YTD'!G12-1) -> -0.28947368 | H12: =IF(OR('Annual YTD'!H12="",'Annual YTD'!H12=0,'Annual YTD'!I12=""),"",'Annual YTD'!I12/'Annual YTD'!H12-1) -> 2.6296296 | I12: =IF(OR('Annual YTD'!I12="",'Annual YTD'!I12=0,'Annual YTD'!J12=""),"",'Annual YTD'!J12/'Annual YTD'!I12-1) -> 1.8107607 | ... L12: =IF(OR('Annual YTD'!L12="",'Annual YTD'!L12=0,'Annual YTD'!M12=""),"",'Annual YTD'!M12/'Annual YTD'!L12-1)
A13: Japan | B13: =IF(OR('Annual YTD'!B13="",'Annual YTD'!B13=0,'Annual YTD'!C13=""),"",'Annual YTD'!C13/'Annual YTD'!B13-1) -> -0.24731183 | C13: =IF(OR('Annual YTD'!C13="",'Annual YTD'!C13=0,'Annual YTD'!D13=""),"",'Annual YTD'!D13/'Annual YTD'!C13-1) -> 0.097142857 | D13: =IF(OR('Annual YTD'!D13="",'Annual YTD'!D13=0,'Annual YTD'!E13=""),"",'Annual YTD'!E13/'Annual YTD'!D13-1) -> 2.0598958 | E13: =IF(OR('Annual YTD'!E13="",'Annual YTD'!E13=0,'Annual YTD'!F13=""),"",'Annual YTD'!F13/'Annual YTD'!E13-1) -> 0.53191489 | F13: =IF(OR('Annual YTD'!F13="",'Annual YTD'!F13=0,'Annual YTD'!G13=""),"",'Annual YTD'!G13/'Annual YTD'!F13-1) -> -0.93 | G13: =IF(OR('Annual YTD'!G13="",'Annual YTD'!G13=0,'Annual YTD'!H13=""),"",'Annual YTD'!H13/'Annual YTD'!G13-1) -> 0.24603175 | H13: =IF(OR('Annual YTD'!H13="",'Annual YTD'!H13=0,'Annual YTD'!I13=""),"",'Annual YTD'!I13/'Annual YTD'!H13-1) -> 4.0700637 | I13: =IF(OR('Annual YTD'!I13="",'Annual YTD'!I13=0,'Annual YTD'!J13=""),"",'Annual YTD'!J13/'Annual YTD'!I13-1) -> 1.7688442 | ... L13: =IF(OR('Annual YTD'!L13="",'Annual YTD'!L13=0,'Annual YTD'!M13=""),"",'Annual YTD'!M13/'Annual YTD'!L13-1)
A14: Philippines | B14: =IF(OR('Annual YTD'!B14="",'Annual YTD'!B14=0,'Annual YTD'!C14=""),"",'Annual YTD'!C14/'Annual YTD'!B14-1) -> -0.23529412 | C14: =IF(OR('Annual YTD'!C14="",'Annual YTD'!C14=0,'Annual YTD'!D14=""),"",'Annual YTD'!D14/'Annual YTD'!C14-1) -> -0.12550607 | D14: =IF(OR('Annual YTD'!D14="",'Annual YTD'!D14=0,'Annual YTD'!E14=""),"",'Annual YTD'!E14/'Annual YTD'!D14-1) -> 1.2592593 | E14: =IF(OR('Annual YTD'!E14="",'Annual YTD'!E14=0,'Annual YTD'!F14=""),"",'Annual YTD'!F14/'Annual YTD'!E14-1) -> 0.74692623 | F14: =IF(OR('Annual YTD'!F14="",'Annual YTD'!F14=0,'Annual YTD'!G14=""),"",'Annual YTD'!G14/'Annual YTD'!F14-1) -> -0.71671554 | G14: =IF(OR('Annual YTD'!G14="",'Annual YTD'!G14=0,'Annual YTD'!H14=""),"",'Annual YTD'!H14/'Annual YTD'!G14-1) -> 0.29813665 | H14: =IF(OR('Annual YTD'!H14="",'Annual YTD'!H14=0,'Annual YTD'!I14=""),"",'Annual YTD'!I14/'Annual YTD'!H14-1) -> 3.4625199 | I14: =IF(OR('Annual YTD'!I14="",'Annual YTD'!I14=0,'Annual YTD'!J14=""),"",'Annual YTD'!J14/'Annual YTD'!I14-1) -> 2.4002859 | ... L14: =IF(OR('Annual YTD'!L14="",'Annual YTD'!L14=0,'Annual YTD'!M14=""),"",'Annual YTD'!M14/'Annual YTD'!L14-1)
A15: Australia | B15: =IF(OR('Annual YTD'!B15="",'Annual YTD'!B15=0,'Annual YTD'!C15=""),"",'Annual YTD'!C15/'Annual YTD'!B15-1) -> 0.2 | C15: =IF(OR('Annual YTD'!C15="",'Annual YTD'!C15=0,'Annual YTD'!D15=""),"",'Annual YTD'!D15/'Annual YTD'!C15-1) -> -0.39655172 | D15: =IF(OR('Annual YTD'!D15="",'Annual YTD'!D15=0,'Annual YTD'!E15=""),"",'Annual YTD'!E15/'Annual YTD'!D15-1) -> 2.552381 | E15: =IF(OR('Annual YTD'!E15="",'Annual YTD'!E15=0,'Annual YTD'!F15=""),"",'Annual YTD'!F15/'Annual YTD'!E15-1) -> 0.4075067 | F15: =IF(OR('Annual YTD'!F15="",'Annual YTD'!F15=0,'Annual YTD'!G15=""),"",'Annual YTD'!G15/'Annual YTD'!F15-1) -> -0.93904762 | G15: =IF(OR('Annual YTD'!G15="",'Annual YTD'!G15=0,'Annual YTD'!H15=""),"",'Annual YTD'!H15/'Annual YTD'!G15-1) -> -0.09375 | H15: =IF(OR('Annual YTD'!H15="",'Annual YTD'!H15=0,'Annual YTD'!I15=""),"",'Annual YTD'!I15/'Annual YTD'!H15-1) -> 6.8793103 | I15: =IF(OR('Annual YTD'!I15="",'Annual YTD'!I15=0,'Annual YTD'!J15=""),"",'Annual YTD'!J15/'Annual YTD'!I15-1) -> 1.1914661 | ... L15: =IF(OR('Annual YTD'!L15="",'Annual YTD'!L15=0,'Annual YTD'!M15=""),"",'Annual YTD'!M15/'Annual YTD'!L15-1)
A16: Germany | B16: =IF(OR('Annual YTD'!B16="",'Annual YTD'!B16=0,'Annual YTD'!C16=""),"",'Annual YTD'!C16/'Annual YTD'!B16-1) -> 0.013157895 | C16: =IF(OR('Annual YTD'!C16="",'Annual YTD'!C16=0,'Annual YTD'!D16=""),"",'Annual YTD'!D16/'Annual YTD'!C16-1) -> -0.072727273 | D16: =IF(OR('Annual YTD'!D16="",'Annual YTD'!D16=0,'Annual YTD'!E16=""),"",'Annual YTD'!E16/'Annual YTD'!D16-1) -> 2.1680672 | E16: =IF(OR('Annual YTD'!E16="",'Annual YTD'!E16=0,'Annual YTD'!F16=""),"",'Annual YTD'!F16/'Annual YTD'!E16-1) -> 0.52696729 | F16: =IF(OR('Annual YTD'!F16="",'Annual YTD'!F16=0,'Annual YTD'!G16=""),"",'Annual YTD'!G16/'Annual YTD'!F16-1) -> -0.91372322 | G16: =IF(OR('Annual YTD'!G16="",'Annual YTD'!G16=0,'Annual YTD'!H16=""),"",'Annual YTD'!H16/'Annual YTD'!G16-1) -> -0.046979866 | H16: =IF(OR('Annual YTD'!H16="",'Annual YTD'!H16=0,'Annual YTD'!I16=""),"",'Annual YTD'!I16/'Annual YTD'!H16-1) -> 4.1267606 | I16: =IF(OR('Annual YTD'!I16="",'Annual YTD'!I16=0,'Annual YTD'!J16=""),"",'Annual YTD'!J16/'Annual YTD'!I16-1) -> 1.0480769 | ... L16: =IF(OR('Annual YTD'!L16="",'Annual YTD'!L16=0,'Annual YTD'!M16=""),"",'Annual YTD'!M16/'Annual YTD'!L16-1)
... A221: Virgin Islands, British | B221: =IF(OR('Annual YTD'!B221="",'Annual YTD'!B221=0,'Annual YTD'!C221=""),"",'Annual YTD'!C221/'Annual YTD'!B221-1) | C221: =IF(OR('Annual YTD'!C221="",'Annual YTD'!C221=0,'Annual YTD'!D221=""),"",'Annual YTD'!D221/'Annual YTD'!C221-1) | D221: =IF(OR('Annual YTD'!D221="",'Annual YTD'!D221=0,'Annual YTD'!E221=""),"",'Annual YTD'!E221/'Annual YTD'!D221-1) | E221: =IF(OR('Annual YTD'!E221="",'Annual YTD'!E221=0,'Annual YTD'!F221=""),"",'Annual YTD'!F221/'Annual YTD'!E221-1) | F221: =IF(OR('Annual YTD'!F221="",'Annual YTD'!F221=0,'Annual YTD'!G221=""),"",'Annual YTD'!G221/'Annual YTD'!F221-1) | G221: =IF(OR('Annual YTD'!G221="",'Annual YTD'!G221=0,'Annual YTD'!H221=""),"",'Annual YTD'!H221/'Annual YTD'!G221-1) | H221: =IF(OR('Annual YTD'!H221="",'Annual YTD'!H221=0,'Annual YTD'!I221=""),"",'Annual YTD'!I221/'Annual YTD'!H221-1) | I221: =IF(OR('Annual YTD'!I221="",'Annual YTD'!I221=0,'Annual YTD'!J221=""),"",'Annual YTD'!J221/'Annual YTD'!I221-1) | ... L221: =IF(OR('Annual YTD'!L221="",'Annual YTD'!L221=0,'Annual YTD'!M221=""),"",'Annual YTD'!M221/'Annual YTD'!L221-1)

Sheet YTD 2-year
A1: Annual YTD two-year change
A2: Percentage change in Q1–Q3 total versus the same period two years earlier.
A4: Country | B4: 2017 YTD (Q1–Q3) | C4: 2018 YTD (Q1–Q3) | D4: 2019 YTD (Q1–Q3) | E4: 2020 YTD (Q1–Q3) | F4: 2021 YTD (Q1–Q3) | G4: 2022 YTD (Q1–Q3) | H4: 2023 YTD (Q1–Q3) | I4: 2024 YTD (Q1–Q3) | J4: 2025 YTD (Q1–Q3) | K4: 2026 YTD (Q1–Q3)
A5: Canada total | B5: =IF(OR('Annual YTD'!B5="",'Annual YTD'!B5=0,'Annual YTD'!D5=""),"",'Annual YTD'!D5/'Annual YTD'!B5-1) -> 0.28066427 | C5: =IF(OR('Annual YTD'!C5="",'Annual YTD'!C5=0,'Annual YTD'!E5=""),"",'Annual YTD'!E5/'Annual YTD'!C5-1) -> 2.5101721 | D5: =IF(OR('Annual YTD'!D5="",'Annual YTD'!D5=0,'Annual YTD'!F5=""),"",'Annual YTD'!F5/'Annual YTD'!D5-1) -> 4.7185865 | E5: =IF(OR('Annual YTD'!E5="",'Annual YTD'!E5=0,'Annual YTD'!G5=""),"",'Annual YTD'!G5/'Annual YTD'!E5-1) -> -0.6190722 | F5: =IF(OR('Annual YTD'!F5="",'Annual YTD'!F5=0,'Annual YTD'!H5=""),"",'Annual YTD'!H5/'Annual YTD'!F5-1) -> -0.80472345 | G5: =IF(OR('Annual YTD'!G5="",'Annual YTD'!G5=0,'Annual YTD'!I5=""),"",'Annual YTD'!I5/'Annual YTD'!G5-1) -> 3.5709622 | H5: =IF(OR('Annual YTD'!H5="",'Annual YTD'!H5=0,'Annual YTD'!J5=""),"",'Annual YTD'!J5/'Annual YTD'!H5-1) -> 13.483363 | I5: =IF(OR('Annual YTD'!I5="",'Annual YTD'!I5=0,'Annual YTD'!K5=""),"",'Annual YTD'!K5/'Annual YTD'!I5-1) -> -0.58905734 | ... K5: =IF(OR('Annual YTD'!K5="",'Annual YTD'!K5=0,'Annual YTD'!M5=""),"",'Annual YTD'!M5/'Annual YTD'!K5-1)
A6: India | B6: =IF(OR('Annual YTD'!B6="",'Annual YTD'!B6=0,'Annual YTD'!D6=""),"",'Annual YTD'!D6/'Annual YTD'!B6-1) -> 0.7955298 | C6: =IF(OR('Annual YTD'!C6="",'Annual YTD'!C6=0,'Annual YTD'!E6=""),"",'Annual YTD'!E6/'Annual YTD'!C6-1) -> 4.1893652 | D6: =IF(OR('Annual YTD'!D6="",'Annual YTD'!D6=0,'Annual YTD'!F6=""),"",'Annual YTD'!F6/'Annual YTD'!D6-1) -> 8.6403873 | E6: =IF(OR('Annual YTD'!E6="",'Annual YTD'!E6=0,'Annual YTD'!G6=""),"",'Annual YTD'!G6/'Annual YTD'!E6-1) -> -0.3364701 | F6: =IF(OR('Annual YTD'!F6="",'Annual YTD'!F6=0,'Annual YTD'!H6=""),"",'Annual YTD'!H6/'Annual YTD'!F6-1) -> -0.7541846 | G6: =IF(OR('Annual YTD'!G6="",'Annual YTD'!G6=0,'Annual YTD'!I6=""),"",'Annual YTD'!I6/'Annual YTD'!G6-1) -> 2.6255909 | H6: =IF(OR('Annual YTD'!H6="",'Annual YTD'!H6=0,'Annual YTD'!J6=""),"",'Annual YTD'!J6/'Annual YTD'!H6-1) -> 11.918093 | I6: =IF(OR('Annual YTD'!I6="",'Annual YTD'!I6=0,'Annual YTD'!K6=""),"",'Annual YTD'!K6/'Annual YTD'!I6-1) -> -0.55937065 | ... K6: =IF(OR('Annual YTD'!K6="",'Annual YTD'!K6=0,'Annual YTD'!M6=""),"",'Annual YTD'!M6/'Annual YTD'!K6-1)
A7: France | B7: =IF(OR('Annual YTD'!B7="",'Annual YTD'!B7=0,'Annual YTD'!D7=""),"",'Annual YTD'!D7/'Annual YTD'!B7-1) -> 0.18687329 | C7: =IF(OR('Annual YTD'!C7="",'Annual YTD'!C7=0,'Annual YTD'!E7=""),"",'Annual YTD'!E7/'Annual YTD'!C7-1) -> 3.0696721 | D7: =IF(OR('Annual YTD'!D7="",'Annual YTD'!D7=0,'Annual YTD'!F7=""),"",'Annual YTD'!F7/'Annual YTD'!D7-1) -> 4.5384025 | E7: =IF(OR('Annual YTD'!E7="",'Annual YTD'!E7=0,'Annual YTD'!G7=""),"",'Annual YTD'!G7/'Annual YTD'!E7-1) -> -0.68655589 | F7: =IF(OR('Annual YTD'!F7="",'Annual YTD'!F7=0,'Annual YTD'!H7=""),"",'Annual YTD'!H7/'Annual YTD'!F7-1) -> -0.82651505 | G7: =IF(OR('Annual YTD'!G7="",'Annual YTD'!G7=0,'Annual YTD'!I7=""),"",'Annual YTD'!I7/'Annual YTD'!G7-1) -> 1.984739 | H7: =IF(OR('Annual YTD'!H7="",'Annual YTD'!H7=0,'Annual YTD'!J7=""),"",'Annual YTD'!J7/'Annual YTD'!H7-1) -> 5.716227 | I7: =IF(OR('Annual YTD'!I7="",'Annual YTD'!I7=0,'Annual YTD'!K7=""),"",'Annual YTD'!K7/'Annual YTD'!I7-1) -> -0.69537137 | ... K7: =IF(OR('Annual YTD'!K7="",'Annual YTD'!K7=0,'Annual YTD'!M7=""),"",'Annual YTD'!M7/'Annual YTD'!K7-1)
A8: United States of America | B8: =IF(OR('Annual YTD'!B8="",'Annual YTD'!B8=0,'Annual YTD'!D8=""),"",'Annual YTD'!D8/'Annual YTD'!B8-1) -> 0.16006098 | C8: =IF(OR('Annual YTD'!C8="",'Annual YTD'!C8=0,'Annual YTD'!E8=""),"",'Annual YTD'!E8/'Annual YTD'!C8-1) -> 1.695679 | D8: =IF(OR('Annual YTD'!D8="",'Annual YTD'!D8=0,'Annual YTD'!F8=""),"",'Annual YTD'!F8/'Annual YTD'!D8-1) -> 3.2319317 | E8: =IF(OR('Annual YTD'!E8="",'Annual YTD'!E8=0,'Annual YTD'!G8=""),"",'Annual YTD'!G8/'Annual YTD'!E8-1) -> -0.83306618 | F8: =IF(OR('Annual YTD'!F8="",'Annual YTD'!F8=0,'Annual YTD'!H8=""),"",'Annual YTD'!H8/'Annual YTD'!F8-1) -> -0.88247167 | G8: =IF(OR('Annual YTD'!G8="",'Annual YTD'!G8=0,'Annual YTD'!I8=""),"",'Annual YTD'!I8/'Annual YTD'!G8-1) -> 2.1262003 | H8: =IF(OR('Annual YTD'!H8="",'Annual YTD'!H8=0,'Annual YTD'!J8=""),"",'Annual YTD'!J8/'Annual YTD'!H8-1) -> 5.6063408 | I8: =IF(OR('Annual YTD'!I8="",'Annual YTD'!I8=0,'Annual YTD'!K8=""),"",'Annual YTD'!K8/'Annual YTD'!I8-1) -> -0.63010092 | ... K8: =IF(OR('Annual YTD'!K8="",'Annual YTD'!K8=0,'Annual YTD'!M8=""),"",'Annual YTD'!M8/'Annual YTD'!K8-1)
A9: China, People's Republic of | B9: =IF(OR('Annual YTD'!B9="",'Annual YTD'!B9=0,'Annual YTD'!D9=""),"",'Annual YTD'!D9/'Annual YTD'!B9-1) -> 0.68057366 | C9: =IF(OR('Annual YTD'!C9="",'Annual YTD'!C9=0,'Annual YTD'!E9=""),"",'Annual YTD'!E9/'Annual YTD'!C9-1) -> 2.3260073 | D9: =IF(OR('Annual YTD'!D9="",'Annual YTD'!D9=0,'Annual YTD'!F9=""),"",'Annual YTD'!F9/'Annual YTD'!D9-1) -> 3.4833204 | E9: =IF(OR('Annual YTD'!E9="",'Annual YTD'!E9=0,'Annual YTD'!G9=""),"",'Annual YTD'!G9/'Annual YTD'!E9-1) -> -0.58975771 | F9: =IF(OR('Annual YTD'!F9="",'Annual YTD'!F9=0,'Annual YTD'!H9=""),"",'Annual YTD'!H9/'Annual YTD'!F9-1) -> -0.84201419 | G9: =IF(OR('Annual YTD'!G9="",'Annual YTD'!G9=0,'Annual YTD'!I9=""),"",'Annual YTD'!I9/'Annual YTD'!G9-1) -> 1.0731544 | H9: =IF(OR('Annual YTD'!H9="",'Annual YTD'!H9=0,'Annual YTD'!J9=""),"",'Annual YTD'!J9/'Annual YTD'!H9-1) -> 7.7984666 | I9: =IF(OR('Annual YTD'!I9="",'Annual YTD'!I9=0,'Annual YTD'!K9=""),"",'Annual YTD'!K9/'Annual YTD'!I9-1) -> -0.57461962 | ... K9: =IF(OR('Annual YTD'!K9="",'Annual YTD'!K9=0,'Annual YTD'!M9=""),"",'Annual YTD'!M9/'Annual YTD'!K9-1)
A10: United Kingdom and Overseas Territories | B10: =IF(OR('Annual YTD'!B10="",'Annual YTD'!B10=0,'Annual YTD'!D10=""),"",'Annual YTD'!D10/'Annual YTD'!B10-1) -> 0.21626984 | C10: =IF(OR('Annual YTD'!C10="",'Annual YTD'!C10=0,'Annual YTD'!E10=""),"",'Annual YTD'!E10/'Annual YTD'!C10-1) -> 2.120954 | D10: =IF(OR('Annual YTD'!D10="",'Annual YTD'!D10=0,'Annual YTD'!F10=""),"",'Annual YTD'!F10/'Annual YTD'!D10-1) -> 3.9070147 | E10: =IF(OR('Annual YTD'!E10="",'Annual YTD'!E10=0,'Annual YTD'!G10=""),"",'Annual YTD'!G10/'Annual YTD'!E10-1) -> -0.81713974 | F10: =IF(OR('Annual YTD'!F10="",'Annual YTD'!F10=0,'Annual YTD'!H10=""),"",'Annual YTD'!H10/'Annual YTD'!F10-1) -> -0.88863032 | G10: =IF(OR('Annual YTD'!G10="",'Annual YTD'!G10=0,'Annual YTD'!I10=""),"",'Annual YTD'!I10/'Annual YTD'!G10-1) -> 3.6119403 | H10: =IF(OR('Annual YTD'!H10="",'Annual YTD'!H10=0,'Annual YTD'!J10=""),"",'Annual YTD'!J10/'Annual YTD'!H10-1) -> 9.5791045 | I10: =IF(OR('Annual YTD'!I10="",'Annual YTD'!I10=0,'Annual YTD'!K10=""),"",'Annual YTD'!K10/'Annual YTD'!I10-1) -> -0.47831715 | ... K10: =IF(OR('Annual YTD'!K10="",'Annual YTD'!K10=0,'Annual YTD'!M10=""),"",'Annual YTD'!M10/'Annual YTD'!K10-1)
A11: Brazil | B11: =IF(OR('Annual YTD'!B11="",'Annual YTD'!B11=0,'Annual YTD'!D11=""),"",'Annual YTD'!D11/'Annual YTD'!B11-1) -> 1.6911765 | C11: =IF(OR('Annual YTD'!C11="",'Annual YTD'!C11=0,'Annual YTD'!E11=""),"",'Annual YTD'!E11/'Annual YTD'!C11-1) -> 4.1610487 | D11: =IF(OR('Annual YTD'!D11="",'Annual YTD'!D11=0,'Annual YTD'!F11=""),"",'Annual YTD'!F11/'Annual YTD'!D11-1) -> 5.4043716 | E11: =IF(OR('Annual YTD'!E11="",'Annual YTD'!E11=0,'Annual YTD'!G11=""),"",'Annual YTD'!G11/'Annual YTD'!E11-1) -> -0.59143687 | F11: =IF(OR('Annual YTD'!F11="",'Annual YTD'!F11=0,'Annual YTD'!H11=""),"",'Annual YTD'!H11/'Annual YTD'!F11-1) -> -0.80674061 | G11: =IF(OR('Annual YTD'!G11="",'Annual YTD'!G11=0,'Annual YTD'!I11=""),"",'Annual YTD'!I11/'Annual YTD'!G11-1) -> 1.0071048 | H11: =IF(OR('Annual YTD'!H11="",'Annual YTD'!H11=0,'Annual YTD'!J11=""),"",'Annual YTD'!J11/'Annual YTD'!H11-1) -> 5.6534216 | I11: =IF(OR('Annual YTD'!I11="",'Annual YTD'!I11=0,'Annual YTD'!K11=""),"",'Annual YTD'!K11/'Annual YTD'!I11-1) -> -0.67522124 | ... K11: =IF(OR('Annual YTD'!K11="",'Annual YTD'!K11=0,'Annual YTD'!M11=""),"",'Annual YTD'!M11/'Annual YTD'!K11-1)
A12: Korea, Republic of | B12: =IF(OR('Annual YTD'!B12="",'Annual YTD'!B12=0,'Annual YTD'!D12=""),"",'Annual YTD'!D12/'Annual YTD'!B12-1) -> 0.37962963 | C12: =IF(OR('Annual YTD'!C12="",'Annual YTD'!C12=0,'Annual YTD'!E12=""),"",'Annual YTD'!E12/'Annual YTD'!C12-1) -> 2.0188679 | D12: =IF(OR('Annual YTD'!D12="",'Annual YTD'!D12=0,'Annual YTD'!F12=""),"",'Annual YTD'!F12/'Annual YTD'!D12-1) -> 2.7869128 | E12: =IF(OR('Annual YTD'!E12="",'Annual YTD'!E12=0,'Annual YTD'!G12=""),"",'Annual YTD'!G12/'Annual YTD'!E12-1) -> -0.6734375 | F12: =IF(OR('Annual YTD'!F12="",'Annual YTD'!F12=0,'Annual YTD'!H12=""),"",'Annual YTD'!H12/'Annual YTD'!F12-1) -> -0.86840939 | G12: =IF(OR('Annual YTD'!G12="",'Annual YTD'!G12=0,'Annual YTD'!I12=""),"",'Annual YTD'!I12/'Annual YTD'!G12-1) -> 1.5789474 | H12: =IF(OR('Annual YTD'!H12="",'Annual YTD'!H12=0,'Annual YTD'!J12=""),"",'Annual YTD'!J12/'Annual YTD'!H12-1) -> 9.2020202 | I12: =IF(OR('Annual YTD'!I12="",'Annual YTD'!I12=0,'Annual YTD'!K12=""),"",'Annual YTD'!K12/'Annual YTD'!I12-1) -> -0.47680891 | ... K12: =IF(OR('Annual YTD'!K12="",'Annual YTD'!K12=0,'Annual YTD'!M12=""),"",'Annual YTD'!M12/'Annual YTD'!K12-1)
A13: Japan | B13: =IF(OR('Annual YTD'!B13="",'Annual YTD'!B13=0,'Annual YTD'!D13=""),"",'Annual YTD'!D13/'Annual YTD'!B13-1) -> -0.17419355 | C13: =IF(OR('Annual YTD'!C13="",'Annual YTD'!C13=0,'Annual YTD'!E13=""),"",'Annual YTD'!E13/'Annual YTD'!C13-1) -> 2.3571429 | D13: =IF(OR('Annual YTD'!D13="",'Annual YTD'!D13=0,'Annual YTD'!F13=""),"",'Annual YTD'!F13/'Annual YTD'!D13-1) -> 3.6875 | E13: =IF(OR('Annual YTD'!E13="",'Annual YTD'!E13=0,'Annual YTD'!G13=""),"",'Annual YTD'!G13/'Annual YTD'!E13-1) -> -0.89276596 | F13: =IF(OR('Annual YTD'!F13="",'Annual YTD'!F13=0,'Annual YTD'!H13=""),"",'Annual YTD'!H13/'Annual YTD'!F13-1) -> -0.91277778 | G13: =IF(OR('Annual YTD'!G13="",'Annual YTD'!G13=0,'Annual YTD'!I13=""),"",'Annual YTD'!I13/'Annual YTD'!G13-1) -> 5.3174603 | H13: =IF(OR('Annual YTD'!H13="",'Annual YTD'!H13=0,'Annual YTD'!J13=""),"",'Annual YTD'!J13/'Annual YTD'!H13-1) -> 13.038217 | I13: =IF(OR('Annual YTD'!I13="",'Annual YTD'!I13=0,'Annual YTD'!K13=""),"",'Annual YTD'!K13/'Annual YTD'!I13-1) -> -0.53015075 | ... K13: =IF(OR('Annual YTD'!K13="",'Annual YTD'!K13=0,'Annual YTD'!M13=""),"",'Annual YTD'!M13/'Annual YTD'!K13-1)
A14: Philippines | B14: =IF(OR('Annual YTD'!B14="",'Annual YTD'!B14=0,'Annual YTD'!D14=""),"",'Annual YTD'!D14/'Annual YTD'!B14-1) -> -0.33126935 | C14: =IF(OR('Annual YTD'!C14="",'Annual YTD'!C14=0,'Annual YTD'!E14=""),"",'Annual YTD'!E14/'Annual YTD'!C14-1) -> 0.9757085 | D14: =IF(OR('Annual YTD'!D14="",'Annual YTD'!D14=0,'Annual YTD'!F14=""),"",'Annual YTD'!F14/'Annual YTD'!D14-1) -> 2.9467593 | E14: =IF(OR('Annual YTD'!E14="",'Annual YTD'!E14=0,'Annual YTD'!G14=""),"",'Annual YTD'!G14/'Annual YTD'!E14-1) -> -0.50512295 | F14: =IF(OR('Annual YTD'!F14="",'Annual YTD'!F14=0,'Annual YTD'!H14=""),"",'Annual YTD'!H14/'Annual YTD'!F14-1) -> -0.63225806 | G14: =IF(OR('Annual YTD'!G14="",'Annual YTD'!G14=0,'Annual YTD'!I14=""),"",'Annual YTD'!I14/'Annual YTD'!G14-1) -> 4.7929607 | H14: =IF(OR('Annual YTD'!H14="",'Annual YTD'!H14=0,'Annual YTD'!J14=""),"",'Annual YTD'!J14/'Annual YTD'!H14-1) -> 14.173844 | I14: =IF(OR('Annual YTD'!I14="",'Annual YTD'!I14=0,'Annual YTD'!K14=""),"",'Annual YTD'!K14/'Annual YTD'!I14-1) -> -0.44710508 | ... K14: =IF(OR('Annual YTD'!K14="",'Annual YTD'!K14=0,'Annual YTD'!M14=""),"",'Annual YTD'!M14/'Annual YTD'!K14-1)
A15: Australia | B15: =IF(OR('Annual YTD'!B15="",'Annual YTD'!B15=0,'Annual YTD'!D15=""),"",'Annual YTD'!D15/'Annual YTD'!B15-1) -> -0.27586207 | C15: =IF(OR('Annual YTD'!C15="",'Annual YTD'!C15=0,'Annual YTD'!E15=""),"",'Annual YTD'!E15/'Annual YTD'!C15-1) -> 1.1436782 | D15: =IF(OR('Annual YTD'!D15="",'Annual YTD'!D15=0,'Annual YTD'!F15=""),"",'Annual YTD'!F15/'Annual YTD'!D15-1) -> 4 | E15: =IF(OR('Annual YTD'!E15="",'Annual YTD'!E15=0,'Annual YTD'!G15=""),"",'Annual YTD'!G15/'Annual YTD'!E15-1) -> -0.91420912 | F15: =IF(OR('Annual YTD'!F15="",'Annual YTD'!F15=0,'Annual YTD'!H15=""),"",'Annual YTD'!H15/'Annual YTD'!F15-1) -> -0.9447619 | G15: =IF(OR('Annual YTD'!G15="",'Annual YTD'!G15=0,'Annual YTD'!I15=""),"",'Annual YTD'!I15/'Annual YTD'!G15-1) -> 6.140625 | H15: =IF(OR('Annual YTD'!H15="",'Annual YTD'!H15=0,'Annual YTD'!J15=""),"",'Annual YTD'!J15/'Annual YTD'!H15-1) -> 16.267241 | I15: =IF(OR('Annual YTD'!I15="",'Annual YTD'!I15=0,'Annual YTD'!K15=""),"",'Annual YTD'!K15/'Annual YTD'!I15-1) -> -0.44857768 | ... K15: =IF(OR('Annual YTD'!K15="",'Annual YTD'!K15=0,'Annual YTD'!M15=""),"",'Annual YTD'!M15/'Annual YTD'!K15-1)
A16: Germany | B16: =IF(OR('Annual YTD'!B16="",'Annual YTD'!B16=0,'Annual YTD'!D16=""),"",'Annual YTD'!D16/'Annual YTD'!B16-1) -> -0.060526316 | C16: =IF(OR('Annual YTD'!C16="",'Annual YTD'!C16=0,'Annual YTD'!E16=""),"",'Annual YTD'!E16/'Annual YTD'!C16-1) -> 1.9376623 | D16: =IF(OR('Annual YTD'!D16="",'Annual YTD'!D16=0,'Annual YTD'!F16=""),"",'Annual YTD'!F16/'Annual YTD'!D16-1) -> 3.837535 | E16: =IF(OR('Annual YTD'!E16="",'Annual YTD'!E16=0,'Annual YTD'!G16=""),"",'Annual YTD'!G16/'Annual YTD'!E16-1) -> -0.86825818 | F16: =IF(OR('Annual YTD'!F16="",'Annual YTD'!F16=0,'Annual YTD'!H16=""),"",'Annual YTD'!H16/'Annual YTD'!F16-1) -> -0.91777649 | G16: =IF(OR('Annual YTD'!G16="",'Annual YTD'!G16=0,'Annual YTD'!I16=""),"",'Annual YTD'!I16/'Annual YTD'!G16-1) -> 3.885906 | H16: =IF(OR('Annual YTD'!H16="",'Annual YTD'!H16=0,'Annual YTD'!J16=""),"",'Annual YTD'!J16/'Annual YTD'!H16-1) -> 9.5 | I16: =IF(OR('Annual YTD'!I16="",'Annual YTD'!I16=0,'Annual YTD'!K16=""),"",'Annual YTD'!K16/'Annual YTD'!I16-1) -> -0.67032967 | ... K16: =IF(OR('Annual YTD'!K16="",'Annual YTD'!K16=0,'Annual YTD'!M16=""),"",'Annual YTD'!M16/'Annual YTD'!K16-1)
... A221: Virgin Islands, British | B221: =IF(OR('Annual YTD'!B221="",'Annual YTD'!B221=0,'Annual YTD'!D221=""),"",'Annual YTD'!D221/'Annual YTD'!B221-1) | C221: =IF(OR('Annual YTD'!C221="",'Annual YTD'!C221=0,'Annual YTD'!E221=""),"",'Annual YTD'!E221/'Annual YTD'!C221-1) | D221: =IF(OR('Annual YTD'!D221="",'Annual YTD'!D221=0,'Annual YTD'!F221=""),"",'Annual YTD'!F221/'Annual YTD'!D221-1) | E221: =IF(OR('Annual YTD'!E221="",'Annual YTD'!E221=0,'Annual YTD'!G221=""),"",'Annual YTD'!G221/'Annual YTD'!E221-1) | F221: =IF(OR('Annual YTD'!F221="",'Annual YTD'!F221=0,'Annual YTD'!H221=""),"",'Annual YTD'!H221/'Annual YTD'!F221-1) | G221: =IF(OR('Annual YTD'!G221="",'Annual YTD'!G221=0,'Annual YTD'!I221=""),"",'Annual YTD'!I221/'Annual YTD'!G221-1) | H221: =IF(OR('Annual YTD'!H221="",'Annual YTD'!H221=0,'Annual YTD'!J221=""),"",'Annual YTD'!J221/'Annual YTD'!H221-1) | I221: =IF(OR('Annual YTD'!I221="",'Annual YTD'!I221=0,'Annual YTD'!K221=""),"",'Annual YTD'!K221/'Annual YTD'!I221-1) | ... K221: =IF(OR('Annual YTD'!K221="",'Annual YTD'!K221=0,'Annual YTD'!M221=""),"",'Annual YTD'!M221/'Annual YTD'!K221-1)

Sheet Regional view
A1: Quarterly regional summary
A2: Counts are published country totals grouped by UN M49 region. Suppressed values are omitted. IRCC rounding and total unique persons methodology mean regional shares may not sum to 100%.
A4: Country | B4: 2015 Q1 | C4: 2015 Q2 | D4: 2015 Q3 | E4: 2015 Q4 | F4: 2016 Q1 | G4: 2016 Q2 | H4: 2016 Q3 | I4: 2016 Q4 | J4: 2017 Q1 | K4: 2017 Q2 | L4: 2017 Q3 | M4: 2017 Q4 | N4: 2018 Q1 | O4: 2018 Q2 | P4: 2018 Q3 | Q4: 2018 Q4 | R4: 2019 Q1 | S4: 2019 Q2 | T4: 2019 Q3 | U4: 2019 Q4 | V4: 2020 Q1 | W4: 2020 Q2 | X4: 2020 Q3 | Y4: 2020 Q4 | Z4: 2021 Q1 | AA4: 2021 Q2 | AB4: 2021 Q3 | AC4: 2021 Q4 | AD4: 2022 Q1 | AE4: 2022 Q2 | AF4: 2022 Q3 | AG4: 2022 Q4 | AH4: 2023 Q1 | AI4: 2023 Q2 | AJ4: 2023 Q3 | AK4: 2023 Q4 | AL4: 2024 Q1 | AM4: 2024 Q2 | AN4: 2024 Q3 | AO4: 2024 Q4 | AP4: 2025 Q1 | AQ4: 2025 Q2 | AR4: 2025 Q3 | AS4: 2025 Q4 | AT4: 2026 Q1 | AU4: 2026 Q2 | AV4: 2026 Q3
A5: Canada | B5: =Quarterly!B5 -> 13815 | C5: =Quarterly!C5 -> 16080 | D5: =Quarterly!D5 -> 21590 | E5: =Quarterly!E5 -> 180485 | F5: =Quarterly!F5 -> 20940 | G5: =Quarterly!G5 -> 21020 | H5: =Quarterly!H5 -> 18745 | I5: =Quarterly!I5 -> 15665 | ... AV5: =Quarterly!AV5 -> 0
A6: Asia | B6: =SUMIF('Source data'!$BI$4:$BI$220,"Asia",'Source data'!B$4:B$220) -> 5265 | C6: =SUMIF('Source data'!$BI$4:$BI$220,"Asia",'Source data'!C$4:C$220) -> 5450 | D6: =SUMIF('Source data'!$BI$4:$BI$220,"Asia",'Source data'!D$4:D$220) -> 9315 | E6: =SUMIF('Source data'!$BI$4:$BI$220,"Asia",'Source data'!E$4:E$220) -> 73100 | F6: =SUMIF('Source data'!$BI$4:$BI$220,"Asia",'Source data'!F$4:F$220) -> 8020 | G6: =SUMIF('Source data'!$BI$4:$BI$220,"Asia",'Source data'!G$4:G$220) -> 8335 | H6: =SUMIF('Source data'!$BI$4:$BI$220,"Asia",'Source data'!H$4:H$220) -> 8195 | I6: =SUMIF('Source data'!$BI$4:$BI$220,"Asia",'Source data'!I$4:I$220) -> 5510 | ... AV6: =SUMIF('Source data'!$BI$4:$BI$220,"Asia",'Source data'!AV$4:AV$220) -> 0
A7: Africa | B7: =SUMIF('Source data'!$BI$4:$BI$220,"Africa",'Source data'!B$4:B$220) -> 535 | C7: =SUMIF('Source data'!$BI$4:$BI$220,"Africa",'Source data'!C$4:C$220) -> 395 | D7: =SUMIF('Source data'!$BI$4:$BI$220,"Africa",'Source data'!D$4:D$220) -> 955 | E7: =SUMIF('Source data'!$BI$4:$BI$220,"Africa",'Source data'!E$4:E$220) -> 7340 | F7: =SUMIF('Source data'!$BI$4:$BI$220,"Africa",'Source data'!F$4:F$220) -> 865 | G7: =SUMIF('Source data'!$BI$4:$BI$220,"Africa",'Source data'!G$4:G$220) -> 1020 | H7: =SUMIF('Source data'!$BI$4:$BI$220,"Africa",'Source data'!H$4:H$220) -> 805 | I7: =SUMIF('Source data'!$BI$4:$BI$220,"Africa",'Source data'!I$4:I$220) -> 710 | ... AV7: =SUMIF('Source data'!$BI$4:$BI$220,"Africa",'Source data'!AV$4:AV$220) -> 0
A8: Americas | B8: =SUMIF('Source data'!$BI$4:$BI$220,"Americas",'Source data'!B$4:B$220) -> 2525 | C8: =SUMIF('Source data'!$BI$4:$BI$220,"Americas",'Source data'!C$4:C$220) -> 3010 | D8: =SUMIF('Source data'!$BI$4:$BI$220,"Americas",'Source data'!D$4:D$220) -> 3575 | E8: =SUMIF('Source data'!$BI$4:$BI$220,"Americas",'Source data'!E$4:E$220) -> 34485 | F8: =SUMIF('Source data'!$BI$4:$BI$220,"Americas",'Source data'!F$4:F$220) -> 4350 | G8: =SUMIF('Source data'!$BI$4:$BI$220,"Americas",'Source data'!G$4:G$220) -> 4535 | H8: =SUMIF('Source data'!$BI$4:$BI$220,"Americas",'Source data'!H$4:H$220) -> 3140 | I8: =SUMIF('Source data'!$BI$4:$BI$220,"Americas",'Source data'!I$4:I$220) -> 3435 | ... AV8: =SUMIF('Source data'!$BI$4:$BI$220,"Americas",'Source data'!AV$4:AV$220) -> 0
A9: Europe | B9: =SUMIF('Source data'!$BI$4:$BI$220,"Europe",'Source data'!B$4:B$220) -> 4695 | C9: =SUMIF('Source data'!$BI$4:$BI$220,"Europe",'Source data'!C$4:C$220) -> 6130 | D9: =SUMIF('Source data'!$BI$4:$BI$220,"Europe",'Source data'!D$4:D$220) -> 5820 | E9: =SUMIF('Source data'!$BI$4:$BI$220,"Europe",'Source data'!E$4:E$220) -> 54120 | F9: =SUMIF('Source data'!$BI$4:$BI$220,"Europe",'Source data'!F$4:F$220) -> 6515 | G9: =SUMIF('Source data'!$BI$4:$BI$220,"Europe",'Source data'!G$4:G$220) -> 6090 | H9: =SUMIF('Source data'!$BI$4:$BI$220,"Europe",'Source data'!H$4:H$220) -> 4315 | I9: =SUMIF('Source data'!$BI$4:$BI$220,"Europe",'Source data'!I$4:I$220) -> 4945 | ... AV9: =SUMIF('Source data'!$BI$4:$BI$220,"Europe",'Source data'!AV$4:AV$220) -> 0
A10: Oceania | B10: =SUMIF('Source data'!$BI$4:$BI$220,"Oceania",'Source data'!B$4:B$220) -> 660 | C10: =SUMIF('Source data'!$BI$4:$BI$220,"Oceania",'Source data'!C$4:C$220) -> 965 | D10: =SUMIF('Source data'!$BI$4:$BI$220,"Oceania",'Source data'!D$4:D$220) -> 1845 | E10: =SUMIF('Source data'!$BI$4:$BI$220,"Oceania",'Source data'!E$4:E$220) -> 11245 | F10: =SUMIF('Source data'!$BI$4:$BI$220,"Oceania",'Source data'!F$4:F$220) -> 1115 | G10: =SUMIF('Source data'!$BI$4:$BI$220,"Oceania",'Source data'!G$4:G$220) -> 925 | H10: =SUMIF('Source data'!$BI$4:$BI$220,"Oceania",'Source data'!H$4:H$220) -> 2200 | I10: =SUMIF('Source data'!$BI$4:$BI$220,"Oceania",'Source data'!I$4:I$220) -> 965 | ... AV10: =SUMIF('Source data'!$BI$4:$BI$220,"Oceania",'Source data'!AV$4:AV$220) -> 0
A12: Percentage of Canada total
A13: Canada (% of Canada total) | B13: =IF(B$5=0,"",B5/B$5) -> 1 | C13: =IF(C$5=0,"",C5/C$5) -> 1 | D13: =IF(D$5=0,"",D5/D$5) -> 1 | E13: =IF(E$5=0,"",E5/E$5) -> 1 | F13: =IF(F$5=0,"",F5/F$5) -> 1 | G13: =IF(G$5=0,"",G5/G$5) -> 1 | H13: =IF(H$5=0,"",H5/H$5) -> 1 | I13: =IF(I$5=0,"",I5/I$5) -> 1 | ... AV13: =IF(AV$5=0,"",AV5/AV$5)
A14: Asia (% of Canada total) | B14: =IF(B$5=0,"",B6/B$5) -> 0.38110749 | C14: =IF(C$5=0,"",C6/C$5) -> 0.33893035 | D14: =IF(D$5=0,"",D6/D$5) -> 0.43144975 | E14: =IF(E$5=0,"",E6/E$5) -> 0.40501981 | F14: =IF(F$5=0,"",F6/F$5) -> 0.38299904 | G14: =IF(G$5=0,"",G6/G$5) -> 0.39652712 | H14: =IF(H$5=0,"",H6/H$5) -> 0.43718325 | I14: =IF(I$5=0,"",I6/I$5) -> 0.35173955 | ... AV14: =IF(AV$5=0,"",AV6/AV$5)
A15: Africa (% of Canada total) | B15: =IF(B$5=0,"",B7/B$5) -> 0.038726022 | C15: =IF(C$5=0,"",C7/C$5) -> 0.024564677 | D15: =IF(D$5=0,"",D7/D$5) -> 0.044233441 | E15: =IF(E$5=0,"",E7/E$5) -> 0.0406682 | F15: =IF(F$5=0,"",F7/F$5) -> 0.0413085 | G15: =IF(G$5=0,"",G7/G$5) -> 0.048525214 | H15: =IF(H$5=0,"",H7/H$5) -> 0.042944785 | I15: =IF(I$5=0,"",I7/I$5) -> 0.045323971 | ... AV15: =IF(AV$5=0,"",AV7/AV$5)
A16: Americas (% of Canada total) | B16: =IF(B$5=0,"",B8/B$5) -> 0.18277235 | C16: =IF(C$5=0,"",C8/C$5) -> 0.18718905 | D16: =IF(D$5=0,"",D8/D$5) -> 0.16558592 | E16: =IF(E$5=0,"",E8/E$5) -> 0.19106851 | F16: =IF(F$5=0,"",F8/F$5) -> 0.20773639 | G16: =IF(G$5=0,"",G8/G$5) -> 0.21574691 | H16: =IF(H$5=0,"",H8/H$5) -> 0.16751134 | I16: =IF(I$5=0,"",I8/I$5) -> 0.21927865 | ... AV16: =IF(AV$5=0,"",AV8/AV$5)
A17: Europe (% of Canada total) | B17: =IF(B$5=0,"",B9/B$5) -> 0.33984799 | C17: =IF(C$5=0,"",C9/C$5) -> 0.38121891 | D17: =IF(D$5=0,"",D9/D$5) -> 0.26956925 | E17: =IF(E$5=0,"",E9/E$5) -> 0.29985871 | F17: =IF(F$5=0,"",F9/F$5) -> 0.31112703 | G17: =IF(G$5=0,"",G9/G$5) -> 0.28972407 | H17: =IF(H$5=0,"",H9/H$5) -> 0.23019472 | I17: =IF(I$5=0,"",I9/I$5) -> 0.31567188 | ... AV17: =IF(AV$5=0,"",AV9/AV$5)
A18: Oceania (% of Canada total) | B18: =IF(B$5=0,"",B10/B$5) -> 0.047774159 | C18: =IF(C$5=0,"",C10/C$5) -> 0.060012438 | D18: =IF(D$5=0,"",D10/D$5) -> 0.08545623 | E18: =IF(E$5=0,"",E10/E$5) -> 0.062304347 | F18: =IF(F$5=0,"",F10/F$5) -> 0.053247373 | G18: =IF(G$5=0,"",G10/G$5) -> 0.044005709 | H18: =IF(H$5=0,"",H10/H$5) -> 0.11736463 | I18: =IF(I$5=0,"",I10/I$5) -> 0.061602298 | ... AV18: =IF(AV$5=0,"",AV10/AV$5)
